BEGIN:VCALENDAR
VERSION:2.0
PRODID:-//BAR | Bay Area Registry - ECPv6.15.20//NONSGML v1.0//EN
CALSCALE:GREGORIAN
METHOD:PUBLISH
X-WR-CALNAME:BAR | Bay Area Registry
X-ORIGINAL-URL:https://bayarearegistry.com
X-WR-CALDESC:Events for BAR | Bay Area Registry
REFRESH-INTERVAL;VALUE=DURATION:PT1H
X-Robots-Tag:noindex
X-PUBLISHED-TTL:PT1H
BEGIN:VTIMEZONE
TZID:America/Los_Angeles
BEGIN:DAYLIGHT
TZOFFSETFROM:-0800
TZOFFSETTO:-0700
TZNAME:PDT
DTSTART:20250309T100000
END:DAYLIGHT
BEGIN:STANDARD
TZOFFSETFROM:-0700
TZOFFSETTO:-0800
TZNAME:PST
DTSTART:20251102T090000
END:STANDARD
BEGIN:DAYLIGHT
TZOFFSETFROM:-0800
TZOFFSETTO:-0700
TZNAME:PDT
DTSTART:20260308T100000
END:DAYLIGHT
BEGIN:STANDARD
TZOFFSETFROM:-0700
TZOFFSETTO:-0800
TZNAME:PST
DTSTART:20261101T090000
END:STANDARD
BEGIN:DAYLIGHT
TZOFFSETFROM:-0800
TZOFFSETTO:-0700
TZNAME:PDT
DTSTART:20270314T100000
END:DAYLIGHT
BEGIN:STANDARD
TZOFFSETFROM:-0700
TZOFFSETTO:-0800
TZNAME:PST
DTSTART:20271107T090000
END:STANDARD
END:VTIMEZONE
BEGIN:VEVENT
DTSTART;TZID=America/Los_Angeles:20260204T180000
DTEND;TZID=America/Los_Angeles:20260204T193000
DTSTAMP:20260419T164425
CREATED:20260201T152206Z
LAST-MODIFIED:20260205T173157Z
UID:10010154-1770228000-1770233400@bayarearegistry.com
SUMMARY:Frontier & Field: Black Cowboys from Gold Rush to Superbowl LX
DESCRIPTION:Black History Month event exploring the historical\, cultural & therapeutic significance of Black equestrians in American history & today. \nFrontier & Field is a Black History Month program presented during Super Bowl Week. It centers on a multidisciplinary panel exploring the historical\, cultural\, and therapeutic significance of Black equestrians in American history and contemporary life. \nInfo & Tickets
URL:https://bayarearegistry.com/event/frontier-field-black-cowboys-from-gold-rush-to-superbowl-lx/
LOCATION:Commonwealth Club World Affairs of California\, 110 The Embarcadero\, San Francisco\, CA\, 94105\, United States
CATEGORIES:Arts + Culture,BHM 2026,Community,Conversations + Speakers + Conferences,San Francisco + South SF Area
ATTACH;FMTTYPE=image/png:https://bayarearegistry.com/wp-content/uploads/2026/02/https___cdn.evbuc_.com_images_1176216126_54128809794_1_original-e1769959301386.png
ORGANIZER;CN="Commonwealth Club World Affairs (CCWA)":MAILTO:info@commonwealthclub.org
GEO:37.793235;-122.392653
X-APPLE-STRUCTURED-LOCATION;VALUE=URI;X-ADDRESS=Commonwealth Club World Affairs of California 110 The Embarcadero San Francisco CA 94105 United States;X-APPLE-RADIUS=500;X-TITLE=110 The Embarcadero:geo:-122.392653,37.793235
END:VEVENT
BEGIN:VEVENT
DTSTART;TZID=America/Los_Angeles:20260204T170000
DTEND;TZID=America/Los_Angeles:20260204T190000
DTSTAMP:20260419T164425
CREATED:20260201T082611Z
LAST-MODIFIED:20260205T173147Z
UID:10010093-1770224400-1770231600@bayarearegistry.com
SUMMARY:Traditional Burkina Fasso: Gonré
DESCRIPTION:Join us for an unforgettable culinary journey with Chef Awa Gaffoure as she brings the vibrant flavors of Burkina Faso to life with her signature dish\, Gonré\, featuring black-eyed peas. This beloved staple of West African cuisine is more than just a meal; it’s a celebration of culture\, nourishment\, and community. Dive into the rich history and traditions that have shaped this dish and discover why it holds a special place in the hearts of many. Don’t miss this opportunity to savor authentic flavors and connect with a culture that values unity and sustenance through food. \nInfo & Tickets
URL:https://bayarearegistry.com/event/traditional-burkina-fasso-gonre/
LOCATION:900 Innes Ave\, 900 Innes Ave\, San Francisco\, 94124\, United States
CATEGORIES:Arts + Culture,BHM 2026,Community,Food + Drink,San Francisco + South SF Area
ATTACH;FMTTYPE=image/jpeg:https://bayarearegistry.com/wp-content/uploads/2026/02/https___cdn.evbuc_.com_images_1175900396_2708984758781_1_original-e1769934362669.jpg
END:VEVENT
BEGIN:VEVENT
DTSTART;TZID=America/Los_Angeles:20260204T140000
DTEND;TZID=America/Los_Angeles:20260204T150000
DTSTAMP:20260419T164425
CREATED:20260201T100953Z
LAST-MODIFIED:20260205T173124Z
UID:10010104-1770213600-1770217200@bayarearegistry.com
SUMMARY:Piece by Piece: Celebrating African American Contemporary Art
DESCRIPTION:Is a hands-on visual arts workshop that introduces participants to influential African American contemporary artists while encouraging creative interpretation through paper mosaic techniques. Participants will observe iconic works by selected artists and reconstruct visual elements using color\, texture\, and pattern—learning how storytelling\, identity\, and culture are embedded in contemporary art practices. \nInfo & Tickets
URL:https://bayarearegistry.com/event/piece-by-piece-celebrating-african-american-contemporary-art/
LOCATION:Oakland Public Library\, 125 14th St\, Oakland\, CA\, 94612\, United States
CATEGORIES:Arts + Culture,BHM 2026,East Bay,Oakland,Visual Arts
ATTACH;FMTTYPE=image/jpeg:https://bayarearegistry.com/wp-content/uploads/2026/02/CompressJPEG.Online_img1281x720-1.jpg
END:VEVENT
BEGIN:VEVENT
DTSTART;VALUE=DATE:20260203
DTEND;VALUE=DATE:20260205
DTSTAMP:20260419T164425
CREATED:20260122T122025Z
LAST-MODIFIED:20260205T181524Z
UID:10010001-1770076800-1770249599@bayarearegistry.com
SUMMARY:Hybrid | 2026 Black Men's Brain Health Conference
DESCRIPTION:The staggering amount of ethnoracial inequalities in healthcare has been documented and researched for decades. Today\, the 2026 BMBH Conference continues this effort to better understand the health inequities that affect Black men as they age across the life course. \nThe fifth annual BMBH Conference\, with no registration fee\, will reinvent how communities engage in and benefit from scientific research. For too long\, the scientific and medical fields have been criticized for research that provides little lasting value to participating communities. By centering community voices\, this conference aims to tap into genuine engagement and transform Black men’s roles in brain health and AD/ADRD research. \nInfo & Tickets
URL:https://bayarearegistry.com/event/2026-black-mens-brain-health-conference/
LOCATION:Merritt College\, 12500 Campus Dr\, Oakland\, CA\, 94619
CATEGORIES:Arts + Culture,BHM 2026,Conversations + Speakers + Conferences,East Bay,Health + Wellness,Oakland,Virtual
ATTACH;FMTTYPE=image/png:https://bayarearegistry.com/wp-content/uploads/2026/01/registration_asset_powerpoint-e1769084354134.png
GEO:37.789553;-122.165612
X-APPLE-STRUCTURED-LOCATION;VALUE=URI;X-ADDRESS=Merritt College 12500 Campus Dr Oakland CA 94619;X-APPLE-RADIUS=500;X-TITLE=12500 Campus Dr:geo:-122.165612,37.789553
END:VEVENT
BEGIN:VEVENT
DTSTART;TZID=America/Los_Angeles:20260202T143000
DTEND;TZID=America/Los_Angeles:20260202T183000
DTSTAMP:20260419T164425
CREATED:20260201T080055Z
LAST-MODIFIED:20260205T181143Z
UID:10010086-1770042600-1770057000@bayarearegistry.com
SUMMARY:Afrofuturism On-Screen
DESCRIPTION:Every Monday afternoon this month the library will be screening a free calendar of Afrofuturist defined film and media all afternoon long for your enjoyment.  \nInfo & Tickets
URL:https://bayarearegistry.com/event/afrofuturism-on-screen/
LOCATION:Eastmont Branch : Oakland Public Library\, 7200 Bancroft Ave #211\, Oakland\, CA\, 94612\, United States
CATEGORIES:Arts + Culture,BHM 2026,East Bay,Oakland,Performing Arts,Theater + Film
ATTACH;FMTTYPE=image/png:https://bayarearegistry.com/wp-content/uploads/2026/01/imgi_2_AfrofuturismOn-ScreenWeb760x230px-e1769932750322.png
END:VEVENT
BEGIN:VEVENT
DTSTART;VALUE=DATE:20260202
DTEND;VALUE=DATE:20260207
DTSTAMP:20260419T164425
CREATED:20260201T132454Z
LAST-MODIFIED:20260207T080356Z
UID:10010140-1769990400-1770422399@bayarearegistry.com
SUMMARY:Black Men's Brain Health Conference
DESCRIPTION:The Power of Community Engagement: Transforming Black Men’s Participation in Brain Health and AD/ADRD Research. \nConference Theme: This meeting will reinvent how communities engage in and benefit from scientific research. For too long\, the scientific and medical fields have been criticized for research that provides little lasting value to participating communities. By centering community voices\, this conference aims to tap into genuine engagement and transform Black men’s roles in brain health and AD/ADRD research. The event will be hosted at Merritt College\, a public community college in Oakland\, California. \nInfo & Tickets
URL:https://bayarearegistry.com/event/black-mens-brain-health-conference/
LOCATION:Merritt College\, 12500 Campus Dr\, Oakland\, CA\, 94619
CATEGORIES:Arts + Culture,BHM 2026,Community,Conversations + Speakers + Conferences,East Bay,Health + Wellness,Oakland
ATTACH;FMTTYPE=image/jpeg:https://bayarearegistry.com/wp-content/uploads/2026/02/947fdf9c7adc5cca4db5d7218c098c5942873998_9BFCFF85-CB75-D2CA-D3EB5D42A7074467_9c118175-e772-ef38-132c67a9d3c25dd6-e1769952272881.jpg
GEO:37.789553;-122.165612
X-APPLE-STRUCTURED-LOCATION;VALUE=URI;X-ADDRESS=Merritt College 12500 Campus Dr Oakland CA 94619;X-APPLE-RADIUS=500;X-TITLE=12500 Campus Dr:geo:-122.165612,37.789553
END:VEVENT
BEGIN:VEVENT
DTSTART;VALUE=DATE:20260202
DTEND;VALUE=DATE:20260203
DTSTAMP:20260419T164425
CREATED:20260201T081119Z
LAST-MODIFIED:20260201T081119Z
UID:10010088-1769990400-1770076799@bayarearegistry.com
SUMMARY:Know Your History!
DESCRIPTION:Drop by the TeenZone all month long and take in a video or two from the excellent PBS & Crash Course team’s Crash Course Black American History series hosted by author Clint Smith. \nInfo & Tickets
URL:https://bayarearegistry.com/event/know-your-history/2026-02-02/
LOCATION:Eastmont Branch : Oakland Public Library\, 7200 Bancroft Ave #211\, Oakland\, CA\, 94612\, United States
CATEGORIES:Arts + Culture,BHM 2026,Conversations + Speakers + Conferences,East Bay,Oakland
ATTACH;FMTTYPE=image/jpeg:https://bayarearegistry.com/wp-content/uploads/2026/02/imgi_2_FebruaryFlyers5-e1769933399894.jpeg
END:VEVENT
BEGIN:VEVENT
DTSTART;TZID=America/Los_Angeles:20260201T120000
DTEND;TZID=America/Los_Angeles:20260201T160000
DTSTAMP:20260419T164425
CREATED:20260201T115317Z
LAST-MODIFIED:20260202T132225Z
UID:10010118-1769947200-1769961600@bayarearegistry.com
SUMMARY:HBCU Brunch at Home of Chicken and Waffles
DESCRIPTION:The Home of Chicken and Waffles presents the 5th Annual HBCU Brunch. \n \nInfo & Tickets
URL:https://bayarearegistry.com/event/hbcu-brunch-at-home-of-chicken-and-waffles/
LOCATION:Home of Chicken and Waffles\, 247 4th Street\, Oakland\, 94607\, United States
CATEGORIES:Arts + Culture,BHM 2026,Community,East Bay,Food + Drink,Oakland
ATTACH;FMTTYPE=image/jpeg:https://bayarearegistry.com/wp-content/uploads/2026/02/imgi_1_1_A96D51ED-0A46-C06F-D411CD8281883B3A-scaled-e1769946721139.jpeg
END:VEVENT
BEGIN:VEVENT
DTSTART;TZID=America/Los_Angeles:20260201T120000
DTEND;TZID=America/Los_Angeles:20260201T150000
DTSTAMP:20260419T164425
CREATED:20260127T152002Z
LAST-MODIFIED:20260202T131418Z
UID:10010024-1769947200-1769958000@bayarearegistry.com
SUMMARY:Black History Month Celebration
DESCRIPTION:Join us in Thrive City for our annual Black History Month Celebration on Sunday\, February 1st! Enjoy an afternoon full of vibrant live entertainment\, featuring Queen Iminah featuring AAFE Queens Rising and live performances from The Prospect Band and Veotis Latchinson! Don’t miss out on our arts & craft station\, culinary delights from Jamerikan Jerk\, and more! \nInfo & Tickets
URL:https://bayarearegistry.com/event/black-history-month-celebration/
LOCATION:Thrive City\, 1 Warriors Way\, San Francisco\, 94158
CATEGORIES:Arts + Culture,BHM 2026,Fairs + Festivals,San Francisco + South SF Area
ATTACH;FMTTYPE=image/png:https://bayarearegistry.com/wp-content/uploads/2026/01/Black-History-Month-Celebration-e1769527170263.png
END:VEVENT
BEGIN:VEVENT
DTSTART;TZID=America/Los_Angeles:20260201T090000
DTEND;TZID=America/Los_Angeles:20260201T110000
DTSTAMP:20260419T164425
CREATED:20260201T145152Z
LAST-MODIFIED:20260202T132210Z
UID:10010149-1769936400-1769943600@bayarearegistry.com
SUMMARY:Black History Communion Sunday
DESCRIPTION:Our meaningful communion ritual isn’t just about symbolism; it’s about service.  After regular services\, enjoy a unique communion service that honors the accomplishments of our Black ancestors and culminates in acts of kindness to those who struggle today. \nInfo & Tickets
URL:https://bayarearegistry.com/event/black-history-communion-sunday/
LOCATION:GLIDE Sanctuary\, 330 Ellis St\, San Francisco\, 94102\, United States
CATEGORIES:Arts + Culture,BHM 2026,Community,San Francisco + South SF Area
ATTACH;FMTTYPE=image/jpeg:https://bayarearegistry.com/wp-content/uploads/2026/02/imgi_28_Celebrating-Black-History-Month-768x432-1-e1769957504570.jpg
ORGANIZER;CN="Glide Memorial Church":MAILTO:info@glide.org
END:VEVENT
BEGIN:VEVENT
DTSTART;VALUE=DATE:20260201
DTEND;VALUE=DATE:20260301
DTSTAMP:20260419T164425
CREATED:20260201T081302Z
LAST-MODIFIED:20260302T135401Z
UID:10010090-1769904000-1772323199@bayarearegistry.com
SUMMARY:African American Quilt Guild of Oakland: Gee's Bend Quilt Display
DESCRIPTION:Come see this quilt display from the African American Quilt Guild of Oakland. \nGuild members produced unique quilts inspired in the tradition of Gee’s Bend. Gee’s Bend style is known for bold\, improvisational and geometric designs using simple shapes in abstract and non-linear ways. \nInfo & Tickets
URL:https://bayarearegistry.com/event/african-american-quilt-guild-of-oakland-gees-bend-quilt-display/
LOCATION:Oakland Public Library: Melrose Branch\, 4805 Foothill Blvd\, Oakland\, 94601\, United States
CATEGORIES:Arts + Culture,BHM 2026,Crafts,East Bay,Oakland,Visual Arts
ATTACH;FMTTYPE=image/jpeg:https://bayarearegistry.com/wp-content/uploads/2026/02/Pieced_Quilt_c._1979_by_Lucy_Mingo_Gees_Bend_Alabama-scaled-e1769933572985.jpg
END:VEVENT
BEGIN:VEVENT
DTSTART;TZID=America/Los_Angeles:20260131T130000
DTEND;TZID=America/Los_Angeles:20260131T170000
DTSTAMP:20260419T164425
CREATED:20260127T154134Z
LAST-MODIFIED:20260202T131111Z
UID:10010028-1769864400-1769878800@bayarearegistry.com
SUMMARY:Black History Month Kick Off
DESCRIPTION:Join us as we kick off Black History Month with a vibrant celebration of culture\, creativity\, and community. Enjoy live music\, interactive activations\, and hands-on experiences—including a make-your-own perfume oil station\, African head-wrap tying for men\, and style moments with our men’s stylist. Sip on wine\, enjoy light bites and refreshments\, and connect with local creatives. \nInfo & Tickets
URL:https://bayarearegistry.com/event/black-history-month-kick-off/
LOCATION:In The Black\, 1567 Fillmore Street\, San Francisco\, 94115
CATEGORIES:Arts + Culture,BHM 2026,Fairs + Festivals,Live Music,Performing Arts,San Francisco + South SF Area
ATTACH;FMTTYPE=image/png:https://bayarearegistry.com/wp-content/uploads/2026/01/Black-History-Month-Kick-Off-e1769528472973.png
END:VEVENT
BEGIN:VEVENT
DTSTART;VALUE=DATE:20260131
DTEND;VALUE=DATE:20260202
DTSTAMP:20260419T164425
CREATED:20260201T082103Z
LAST-MODIFIED:20260202T132351Z
UID:10010091-1769817600-1769990399@bayarearegistry.com
SUMMARY:Hold Out for Joy: Music of Hope and Resilience by African American Composers
DESCRIPTION:The African American Composer Initiative (AACI) presents the works of living and historical African American composers in concert\, shares video of these live concerts online\, and commissions new compositions. \nInfo & Tickets
URL:https://bayarearegistry.com/event/hold-out-for-joy-music-of-hope-and-resilience-by-african-american-composers/
LOCATION:Eastside College Preparatory School Theater\, 1041 Myrtle Street \, East Palo Alto\, CA\, 94303\, United States
CATEGORIES:Arts + Culture,BHM 2026,Live Music,Peninsula (Millbrae & south to Palo Alto, incl HMB & Coast),Performing Arts
ATTACH;FMTTYPE=image/jpeg:https://bayarearegistry.com/wp-content/uploads/2026/02/imgi_1_event_header-e1769934055379.jpeg
END:VEVENT
BEGIN:VEVENT
DTSTART;TZID=America/Los_Angeles:20260129T173000
DTEND;TZID=America/Los_Angeles:20260129T193000
DTSTAMP:20260419T164425
CREATED:20260127T071709Z
LAST-MODIFIED:20260202T131041Z
UID:10010012-1769707800-1769715000@bayarearegistry.com
SUMMARY:Black History Month Kickoff Celebration 2026
DESCRIPTION:You and a guest (must RSVP separately) are invited to join us as we celebrate Black History Month with our annual after-work reception!Networking • Mix/mingle with KPIX News Anchors and Reporters • Video Short • Story Collection • Live News Cut-in @ 6:15PM • VendorsHost: Devin Fehely\, Anchor\, Primetime News on PIX+– ——————–Join us in kicking off the month. And … we’re looking for stories! Got some news? Please join CBS News Bay Area in partnership with BAR | Bay Area Registry and the African American Employee Network (AAEN)\, as we once again kick off Black History Month with an after-work reception at the KPIX/CBS Event Space in San Francisco. \nThis Black History Month collaboration focuses on gathering African American business\, professional\, arts and community organization leaders who are experts in their respective fields\, both for networking and being a resource to the news station.\nFor over 19 years\, CBS News Bay Area has collaborated with local businesses\, non-profits\, and community leaders for after-work receptions at our studios that celebrate the diversity of the Bay Area. These gatherings bring together groups of influencers and experts to meet the CBS staff and on-air talent\, and we’re looking for stories! Productive and lasting relationships have developed from these receptions. \nPresented by: \n \nInfo & Tickets
URL:https://bayarearegistry.com/event/black-history-month-kickoff-celebration-2026/
LOCATION:KPIX 5\, 825 Battery Street\, San Francisco\, 94111
CATEGORIES:Arts + Culture,BHM 2026,Conversations + Speakers + Conferences,Networking,San Francisco + South SF Area
ATTACH;FMTTYPE=image/jpeg:https://bayarearegistry.com/wp-content/uploads/2026/01/imgi_17_https3A2F2Fcdn.evbuc_.com2Fimages2F11756044172F1347264897202F12Foriginal-e1769498189436.jpeg
END:VEVENT
END:VCALENDAR