BEGIN:VCALENDAR
VERSION:2.0
PRODID:-//BAR | Bay Area Registry - ECPv6.15.20//NONSGML v1.0//EN
CALSCALE:GREGORIAN
METHOD:PUBLISH
X-WR-CALNAME:BAR | Bay Area Registry
X-ORIGINAL-URL:https://bayarearegistry.com
X-WR-CALDESC:Events for BAR | Bay Area Registry
REFRESH-INTERVAL;VALUE=DURATION:PT1H
X-Robots-Tag:noindex
X-PUBLISHED-TTL:PT1H
BEGIN:VTIMEZONE
TZID:America/Los_Angeles
BEGIN:DAYLIGHT
TZOFFSETFROM:-0800
TZOFFSETTO:-0700
TZNAME:PDT
DTSTART:20240310T100000
END:DAYLIGHT
BEGIN:STANDARD
TZOFFSETFROM:-0700
TZOFFSETTO:-0800
TZNAME:PST
DTSTART:20241103T090000
END:STANDARD
BEGIN:DAYLIGHT
TZOFFSETFROM:-0800
TZOFFSETTO:-0700
TZNAME:PDT
DTSTART:20250309T100000
END:DAYLIGHT
BEGIN:STANDARD
TZOFFSETFROM:-0700
TZOFFSETTO:-0800
TZNAME:PST
DTSTART:20251102T090000
END:STANDARD
BEGIN:DAYLIGHT
TZOFFSETFROM:-0800
TZOFFSETTO:-0700
TZNAME:PDT
DTSTART:20260308T100000
END:DAYLIGHT
BEGIN:STANDARD
TZOFFSETFROM:-0700
TZOFFSETTO:-0800
TZNAME:PST
DTSTART:20261101T090000
END:STANDARD
BEGIN:DAYLIGHT
TZOFFSETFROM:-0800
TZOFFSETTO:-0700
TZNAME:PDT
DTSTART:20270314T100000
END:DAYLIGHT
BEGIN:STANDARD
TZOFFSETFROM:-0700
TZOFFSETTO:-0800
TZNAME:PST
DTSTART:20271107T090000
END:STANDARD
END:VTIMEZONE
BEGIN:VEVENT
DTSTART;VALUE=DATE:20251107
DTEND;VALUE=DATE:20260126
DTSTAMP:20260421T044622
CREATED:20251031T092342Z
LAST-MODIFIED:20260128T023155Z
UID:10009675-1762473600-1769385599@bayarearegistry.com
SUMMARY:Glowfari
DESCRIPTION:This wildly popular\, family-friendly experience features hundreds of ALL new\, larger-than-life animal lanterns throughout the Zoo. Each lantern tells the story of the ongoing journey of wildlife\, the importance of every species on our planet\, and Oakland Zoo’s commitment to conservation. \nThis year’s experience includes new themes — explore the future of Oakland\, learn about coexisting with wildlife\, swim through the reef to see colorful underwater creatures\, go on a safari through the savanna to spot iconic African animals\, meet some interesting bugs that are all around us\, and end the night by taking the train through the reptile world. \nInfo & Tickets
URL:https://bayarearegistry.com/event/glowfari/
LOCATION:Oakland Zoo\, 9777 Golf Links Rd\, Oakland\, 94605
CATEGORIES:Arts + Culture,East Bay,Fairs + Festivals,Holidays 2025,Oakland
ATTACH;FMTTYPE=image/jpeg:https://bayarearegistry.com/wp-content/uploads/2025/10/imgi_31_68b8cb8e3938d6af5c874b95_Glowfari_web_2025_Header-copy-scaled-e1761902614592.jpg
END:VEVENT
END:VCALENDAR