BEGIN:VCALENDAR
VERSION:2.0
PRODID:-//BAR | Bay Area Registry - ECPv6.15.20//NONSGML v1.0//EN
CALSCALE:GREGORIAN
METHOD:PUBLISH
X-WR-CALNAME:BAR | Bay Area Registry
X-ORIGINAL-URL:https://bayarearegistry.com
X-WR-CALDESC:Events for BAR | Bay Area Registry
REFRESH-INTERVAL;VALUE=DURATION:PT1H
X-Robots-Tag:noindex
X-PUBLISHED-TTL:PT1H
BEGIN:VTIMEZONE
TZID:America/Los_Angeles
BEGIN:DAYLIGHT
TZOFFSETFROM:-0800
TZOFFSETTO:-0700
TZNAME:PDT
DTSTART:20250309T100000
END:DAYLIGHT
BEGIN:STANDARD
TZOFFSETFROM:-0700
TZOFFSETTO:-0800
TZNAME:PST
DTSTART:20251102T090000
END:STANDARD
BEGIN:DAYLIGHT
TZOFFSETFROM:-0800
TZOFFSETTO:-0700
TZNAME:PDT
DTSTART:20260308T100000
END:DAYLIGHT
BEGIN:STANDARD
TZOFFSETFROM:-0700
TZOFFSETTO:-0800
TZNAME:PST
DTSTART:20261101T090000
END:STANDARD
BEGIN:DAYLIGHT
TZOFFSETFROM:-0800
TZOFFSETTO:-0700
TZNAME:PDT
DTSTART:20270314T100000
END:DAYLIGHT
BEGIN:STANDARD
TZOFFSETFROM:-0700
TZOFFSETTO:-0800
TZNAME:PST
DTSTART:20271107T090000
END:STANDARD
END:VTIMEZONE
BEGIN:VEVENT
DTSTART;TZID=America/Los_Angeles:20260425T180000
DTEND;TZID=America/Los_Angeles:20260426T000000
DTSTAMP:20260425T063230
CREATED:20260227T155836Z
LAST-MODIFIED:20260227T155836Z
UID:10010423-1777140000-1777161600@bayarearegistry.com
SUMMARY:WHCE 45th Anniversary: 2026 Woman of the Year (WOTY) Gala
DESCRIPTION:Join Women in Healthcare Executives (WHCE) for an unforgettable evening of authentic empowerment and Wonder Women bold energy. \nThis year’s theme\, “Roaring with Strength: The Wonder Within\,” celebrates the power\, purpose\, and resilience of women leading change across healthcare and beyond. This gala is dedicated to celebrating the achievements of women executives in healthcare. \nInfo & Tickets
URL:https://bayarearegistry.com/event/whce-45th-anniversary-2026-woman-of-the-year-woty-gala/
LOCATION:Four Seasons Hotel San Francisco\, 757 Market Street \, San Francisco\, CA\, 94103\, United States
CATEGORIES:Arts + Culture,Galas + Awards + Fundraiser,Health + Wellness,San Francisco + South SF Area,WHM 2026
ATTACH;FMTTYPE=image/jpeg:https://bayarearegistry.com/wp-content/uploads/2026/02/imgi_1_image-3-e1772207910101.jpeg
GEO:37.7865227;-122.4044554
X-APPLE-STRUCTURED-LOCATION;VALUE=URI;X-ADDRESS=Four Seasons Hotel San Francisco 757 Market Street  San Francisco CA 94103 United States;X-APPLE-RADIUS=500;X-TITLE=757 Market Street:geo:-122.4044554,37.7865227
END:VEVENT
BEGIN:VEVENT
DTSTART;VALUE=DATE:20260824
DTEND;VALUE=DATE:20260826
DTSTAMP:20260425T063230
CREATED:20260220T202231Z
LAST-MODIFIED:20260220T202231Z
UID:10010387-1787529600-1787702399@bayarearegistry.com
SUMMARY:Virtual | Global summit on Traditional and Alternative Medicine 2026
DESCRIPTION:Global summit on Traditional and Modern Medicine 2026 August 24-25\, 2026 which is going to be held in Tokyo\, Japan. \nInfo & Tickets
URL:https://bayarearegistry.com/event/virtual-global-summit-on-traditional-and-alternative-medicine-2026/
LOCATION:[ Virtual ]\, CA
CATEGORIES:Arts + Culture,Conversations + Speakers + Conferences,Virtual,WHM 2026
ATTACH;FMTTYPE=image/png:https://bayarearegistry.com/wp-content/uploads/2026/02/global_summit_on_traditional_and_alternative_medicineaugust2425_2026tokyojapan-e1771618901174.png
END:VEVENT
END:VCALENDAR