BEGIN:VCALENDAR
VERSION:2.0
PRODID:-//BAR | Bay Area Registry - ECPv6.15.20//NONSGML v1.0//EN
CALSCALE:GREGORIAN
METHOD:PUBLISH
X-WR-CALNAME:BAR | Bay Area Registry
X-ORIGINAL-URL:https://bayarearegistry.com
X-WR-CALDESC:Events for BAR | Bay Area Registry
REFRESH-INTERVAL;VALUE=DURATION:PT1H
X-Robots-Tag:noindex
X-PUBLISHED-TTL:PT1H
BEGIN:VTIMEZONE
TZID:America/Los_Angeles
BEGIN:DAYLIGHT
TZOFFSETFROM:-0800
TZOFFSETTO:-0700
TZNAME:PDT
DTSTART:20240310T100000
END:DAYLIGHT
BEGIN:STANDARD
TZOFFSETFROM:-0700
TZOFFSETTO:-0800
TZNAME:PST
DTSTART:20241103T090000
END:STANDARD
BEGIN:DAYLIGHT
TZOFFSETFROM:-0800
TZOFFSETTO:-0700
TZNAME:PDT
DTSTART:20250309T100000
END:DAYLIGHT
BEGIN:STANDARD
TZOFFSETFROM:-0700
TZOFFSETTO:-0800
TZNAME:PST
DTSTART:20251102T090000
END:STANDARD
BEGIN:DAYLIGHT
TZOFFSETFROM:-0800
TZOFFSETTO:-0700
TZNAME:PDT
DTSTART:20260308T100000
END:DAYLIGHT
BEGIN:STANDARD
TZOFFSETFROM:-0700
TZOFFSETTO:-0800
TZNAME:PST
DTSTART:20261101T090000
END:STANDARD
BEGIN:DAYLIGHT
TZOFFSETFROM:-0800
TZOFFSETTO:-0700
TZNAME:PDT
DTSTART:20270314T100000
END:DAYLIGHT
BEGIN:STANDARD
TZOFFSETFROM:-0700
TZOFFSETTO:-0800
TZNAME:PST
DTSTART:20271107T090000
END:STANDARD
END:VTIMEZONE
BEGIN:VEVENT
DTSTART;VALUE=DATE:20250905
DTEND;VALUE=DATE:20260502
DTSTAMP:20260421T044817
CREATED:20260129T192324Z
LAST-MODIFIED:20260309T212005Z
UID:10010067-1757030400-1777679999@bayarearegistry.com
SUMMARY:Adult Drawing
DESCRIPTION:Unleash your creativity and sharpen your skills in this relaxed\, supportive drawing class designed for adults of all experience levels. Whether you’re a beginner exploring the basics or a practiced artist looking to refine your technique\, this course offers guidance in line\, form\, shading\, perspective\, and composition. \nInfo & Tickets
URL:https://bayarearegistry.com/event/adult-drawing/
LOCATION:Livermore Valley Arts\, 2400 First St\, Livermore\, CA\, 94550\, United States
CATEGORIES:Arts + Culture,East Bay,San Ramon + Tri-Valley Area (also includes Dublin, Pleasanton, Livermore etc.),Visual Arts
ATTACH;FMTTYPE=image/jpeg:https://bayarearegistry.com/wp-content/uploads/2026/01/Art-Classes-Camps-1024x683-1-e1769714596870.jpeg
END:VEVENT
BEGIN:VEVENT
DTSTART;VALUE=DATE:20250911
DTEND;VALUE=DATE:20260508
DTSTAMP:20260421T044817
CREATED:20260129T193057Z
LAST-MODIFIED:20260129T193057Z
UID:10010068-1757548800-1778198399@bayarearegistry.com
SUMMARY:Adult Beginning Painting
DESCRIPTION:This introductory painting class is designed for adults with little or no previous experience. Students will explore foundational painting skills while working with a variety of media\, including acrylic\, watercolor\, gouache\, and more. \nThe class covers essential techniques such as color mixing\, brushwork\, layering\, and composition in a supportive\, step-by-step environment. \nInfo & Tickets
URL:https://bayarearegistry.com/event/adult-beginning-painting-2/
LOCATION:Livermore Valley Arts\, 2400 First St\, Livermore\, CA\, 94550\, United States
CATEGORIES:Arts + Culture,East Bay,Painting,San Ramon + Tri-Valley Area (also includes Dublin, Pleasanton, Livermore etc.),Visual Arts
ATTACH;FMTTYPE=image/jpeg:https://bayarearegistry.com/wp-content/uploads/2026/01/105578447_artist-7250697_1280-e1769715039505.jpg
END:VEVENT
BEGIN:VEVENT
DTSTART;VALUE=DATE:20260105
DTEND;VALUE=DATE:20260505
DTSTAMP:20260421T044817
CREATED:20260122T095224Z
LAST-MODIFIED:20260122T095224Z
UID:10009999-1767571200-1777939199@bayarearegistry.com
SUMMARY:Children’s Creative Lab
DESCRIPTION:Our children’s after-school drawing and painting class is designed for kids ages 7-15\, welcoming all skill levels from beginners to more experienced young artists. In this fun and supportive environment\, students will explore various techniques and mediums\, including pencils\, watercolors\, and acrylics. Each session includes guided instruction\, creative projects\, and opportunities for self-expression. The goal is to build confidence\, develop artistic skills\, and foster a love for art. \nInfo & Tickets
URL:https://bayarearegistry.com/event/childrens-creative-lab-2/
LOCATION:Livermore Valley Arts\, 2400 First St\, Livermore\, CA\, 94550\, United States
CATEGORIES:Arts + Culture,East Bay,Painting,San Ramon + Tri-Valley Area (also includes Dublin, Pleasanton, Livermore etc.),Visual Arts
ATTACH;FMTTYPE=image/jpeg:https://bayarearegistry.com/wp-content/uploads/2025/08/Creative-Lab-600x600-1-e1756556617311.jpg
END:VEVENT
BEGIN:VEVENT
DTSTART;VALUE=DATE:20260106
DTEND;VALUE=DATE:20260506
DTSTAMP:20260421T044817
CREATED:20260129T193705Z
LAST-MODIFIED:20260129T193747Z
UID:10010069-1767657600-1778025599@bayarearegistry.com
SUMMARY:Art Unbound: Discover. Experiment. Create.
DESCRIPTION:Break out of the routine and rediscover the joy of art making! In this open-format class\, you’ll explore paint\, watercolor\, collage\, and drawing materials in new and exciting ways. Each week offers prompts and techniques designed to spark imagination\, but you’ll have the freedom to follow your own path. Come to relax\, play and create art that feels uniquely yours. \nInfo & Tickets
URL:https://bayarearegistry.com/event/art-unbound-discover-experiment-create/
LOCATION:Livermore Valley Arts\, 2400 First St\, Livermore\, CA\, 94550\, United States
CATEGORIES:Arts + Culture,East Bay,San Ramon + Tri-Valley Area (also includes Dublin, Pleasanton, Livermore etc.),Visual Arts
ATTACH;FMTTYPE=image/jpeg:https://bayarearegistry.com/wp-content/uploads/2026/01/Art-Unbound-600x600-1-e1769715407721.jpg
END:VEVENT
BEGIN:VEVENT
DTSTART;VALUE=DATE:20260507
DTEND;VALUE=DATE:20260510
DTSTAMP:20260421T044817
CREATED:20260324T090558Z
LAST-MODIFIED:20260324T090558Z
UID:10010533-1778112000-1778371199@bayarearegistry.com
SUMMARY:Intersections & Connections
DESCRIPTION:Intersections and Connections showcases a variety of works choreographed by our esteemed Dance faculty and performed by our students of the Saint Mary’s College Dance Company and Baile Folklórico Guadalupano. The concert will feature Baile Folklorico (Mexican folk dance)\, Modern/Contemporary Dance\, Tap and West African Dance. There will be some special pieces performed by the seniors in Baile Folklórico Guadalupano\, West African Dance\, and a piece choreographed for the seniors by Prof. Jia Wu. Join us for this special dance concert\, and enjoy the talent of our award-winning students. \nInfo & Tickets
URL:https://bayarearegistry.com/event/intersections-connections/
LOCATION:LeFevre Theatre\, 1928 St Marys Rd\, Moraga\, 94556
CATEGORIES:Arts + Culture,Dance,Performing Arts,San Ramon + Tri-Valley Area (also includes Dublin, Pleasanton, Livermore etc.)
ATTACH;FMTTYPE=image/jpeg:https://bayarearegistry.com/wp-content/uploads/2026/03/sp26_dance_concert_image_smaller-e1774343134639.jpg
END:VEVENT
END:VCALENDAR