BEGIN:VCALENDAR
VERSION:2.0
PRODID:-//BAR | Bay Area Registry - ECPv6.15.20//NONSGML v1.0//EN
CALSCALE:GREGORIAN
METHOD:PUBLISH
X-ORIGINAL-URL:https://bayarearegistry.com
X-WR-CALDESC:Events for BAR | Bay Area Registry
REFRESH-INTERVAL;VALUE=DURATION:PT1H
X-Robots-Tag:noindex
X-PUBLISHED-TTL:PT1H
BEGIN:VTIMEZONE
TZID:America/Los_Angeles
BEGIN:DAYLIGHT
TZOFFSETFROM:-0800
TZOFFSETTO:-0700
TZNAME:PDT
DTSTART:20230312T100000
END:DAYLIGHT
BEGIN:STANDARD
TZOFFSETFROM:-0700
TZOFFSETTO:-0800
TZNAME:PST
DTSTART:20231105T090000
END:STANDARD
BEGIN:DAYLIGHT
TZOFFSETFROM:-0800
TZOFFSETTO:-0700
TZNAME:PDT
DTSTART:20240310T100000
END:DAYLIGHT
BEGIN:STANDARD
TZOFFSETFROM:-0700
TZOFFSETTO:-0800
TZNAME:PST
DTSTART:20241103T090000
END:STANDARD
BEGIN:DAYLIGHT
TZOFFSETFROM:-0800
TZOFFSETTO:-0700
TZNAME:PDT
DTSTART:20250309T100000
END:DAYLIGHT
BEGIN:STANDARD
TZOFFSETFROM:-0700
TZOFFSETTO:-0800
TZNAME:PST
DTSTART:20251102T090000
END:STANDARD
BEGIN:DAYLIGHT
TZOFFSETFROM:-0800
TZOFFSETTO:-0700
TZNAME:PDT
DTSTART:20260308T100000
END:DAYLIGHT
BEGIN:STANDARD
TZOFFSETFROM:-0700
TZOFFSETTO:-0800
TZNAME:PST
DTSTART:20261101T090000
END:STANDARD
BEGIN:DAYLIGHT
TZOFFSETFROM:-0800
TZOFFSETTO:-0700
TZNAME:PDT
DTSTART:20270314T100000
END:DAYLIGHT
BEGIN:STANDARD
TZOFFSETFROM:-0700
TZOFFSETTO:-0800
TZNAME:PST
DTSTART:20271107T090000
END:STANDARD
END:VTIMEZONE
BEGIN:VEVENT
DTSTART;VALUE=DATE:20250914
DTEND;VALUE=DATE:20260405
DTSTAMP:20260421T195447
CREATED:20250912T195042Z
LAST-MODIFIED:20260405T085040Z
UID:10009223-1757808000-1775347199@bayarearegistry.com
SUMMARY:Ballet of Lights: Sleeping Beauty in a Sparkling Show
DESCRIPTION:⭐ Ballet of Lights: Sleeping Beauty has arrived in SF Bay Area! This beloved tale is brought to life through classical dance\, stunning choreography\, and beautiful glow-in-the-dark costumes. Get your tickets for Ballet of Lights: Sleeping Beauty in a Sparkling Show in SF Bay Area! \nInfo & Tickets
URL:https://bayarearegistry.com/event/ballet-of-lights-sleeping-beauty-in-a-sparkling-show/
LOCATION:Brava Theater Center\, 2781 24th St\, San Francisco\, CA\, 94110\, United States
CATEGORIES:Arts + Culture,Dance,Performing Arts,San Francisco + South SF Area
ATTACH;FMTTYPE=image/jpeg:https://bayarearegistry.com/wp-content/uploads/2025/09/imgi_1_438232079_120209072942590447_7010258556131750831_n-e1757706633490.jpg
GEO:37.7527632;-122.4079889
X-APPLE-STRUCTURED-LOCATION;VALUE=URI;X-ADDRESS=Brava Theater Center 2781 24th St San Francisco CA 94110 United States;X-APPLE-RADIUS=500;X-TITLE=2781 24th St:geo:-122.4079889,37.7527632
END:VEVENT
BEGIN:VEVENT
DTSTART;VALUE=DATE:20250823
DTEND;VALUE=DATE:20260402
DTSTAMP:20260421T195447
CREATED:20250822T140552Z
LAST-MODIFIED:20260402T141447Z
UID:10008915-1755907200-1775087999@bayarearegistry.com
SUMMARY:Paul Klee + Ray Johnson: Typofacture
DESCRIPTION:Writing functions not only as language\, but also as a visual and even tactile form. Famed artist and educator Josef Albers imparted this idea to his students at Black Mountain College\, a former liberal arts school in North Carolina\, where artist Ray Johnson studied from 1945 to 1948. In an exercise called “typofacture\,” Albers asked students in his design course to create drawings mimicking printed or handwritten text. After observing textures on surfaces — like speckles on a wall or patterns in a raked garden path — they applied the concept to printed text\, which bears the imprint of its production\, whether by hand or machine. \nInfo & Tickets
URL:https://bayarearegistry.com/event/paul-klee-ray-johnson-typofacture/
LOCATION:SFMOMA\, 151 Third Street\, San Francisco\, CA\, 94103\, United States
CATEGORIES:Arts + Culture,San Francisco + South SF Area,Visual Arts
ATTACH;FMTTYPE=image/jpeg:https://bayarearegistry.com/wp-content/uploads/2025/08/imgi_20_Paul_Klee_Lantern_T1995.459_01_H02-Artsy-JPEG_header-scaled-1-scaled-e1755871544104.jpg
GEO:37.7859072;-122.4008003
X-APPLE-STRUCTURED-LOCATION;VALUE=URI;X-ADDRESS=SFMOMA 151 Third Street San Francisco CA 94103 United States;X-APPLE-RADIUS=500;X-TITLE=151 Third Street:geo:-122.4008003,37.7859072
END:VEVENT
BEGIN:VEVENT
DTSTART;VALUE=DATE:20250806
DTEND;VALUE=DATE:20260202
DTSTAMP:20260421T195447
CREATED:20250825T195203Z
LAST-MODIFIED:20260202T132308Z
UID:10008948-1754438400-1769990399@bayarearegistry.com
SUMMARY:Lee ShinJa: Drawing with Thread
DESCRIPTION:“Without any formal training in embroidery or weaving\, I often became the subject of ridicule\, with people jokingly asking whether I stitched my works with my toes instead of my fingers.” —Lee ShinJa \nLee ShinJa: Drawing with Thread is the first North American survey of the work of the historically under-recognized Korean artist Lee ShinJa (b. 1930\, Uljin\, South Korea; lives and works in Seoul). \nInfo & Tickets
URL:https://bayarearegistry.com/event/lee-shinja-drawing-with-thread/
LOCATION:BAMPFA\, 2155 Center St\, Berkeley\, CA\, 94704\, United States
CATEGORIES:Arts + Culture,Berkeley,East Bay,Visual Arts
ATTACH;FMTTYPE=image/jpeg:https://bayarearegistry.com/wp-content/uploads/2025/08/cropped-image-1756151475548b7ptu-e1756151515712.jpeg
END:VEVENT
BEGIN:VEVENT
DTSTART;VALUE=DATE:20250801
DTEND;VALUE=DATE:20260126
DTSTAMP:20260421T195447
CREATED:20250822T181135Z
LAST-MODIFIED:20260128T023136Z
UID:10008929-1754006400-1769385599@bayarearegistry.com
SUMMARY:Bay Area Then
DESCRIPTION:What does it mean to live with possibility? To live in a moment when artists and citizens reject fear and find power in discovery? For those who came of age in the Bay Area with the apocalyptic uncertainty of nuclear proliferation and the AIDS crisis; the devastation of the Loma Prieta earthquake and the Oakland firestorm; the audacious acquittal of LAPD officers Koon\, Wind\, and Briseno and the disembodied destruction of the first Gulf War; the road was bleak. And yet the energy in the cultural sector at the time was electrified. \nInfo & Tickets
URL:https://bayarearegistry.com/event/bay-area-then/
LOCATION:YBCA | Yerba Buena Center for the Arts\, 701 Mission Street (at 3rd Street) \, San Francisco\, CA\, 94103-3138\, United States
CATEGORIES:Arts + Culture,San Francisco + South SF Area,Visual Arts
ATTACH;FMTTYPE=image/jpeg:https://bayarearegistry.com/wp-content/uploads/2025/08/imgi_18_Castano_Carolyn_Chondua-scaled-1-scaled-e1755886289829.jpg
ORGANIZER;CN="YBCA | Yerba Buena Center for the Arts":MAILTO:boxoffice@ybca.org
GEO:37.7862345;-122.4019963
X-APPLE-STRUCTURED-LOCATION;VALUE=URI;X-ADDRESS=YBCA | Yerba Buena Center for the Arts 701 Mission Street (at 3rd Street)  San Francisco CA 94103-3138 United States;X-APPLE-RADIUS=500;X-TITLE=701 Mission Street (at 3rd Street):geo:-122.4019963,37.7862345
END:VEVENT
BEGIN:VEVENT
DTSTART;VALUE=DATE:20250207
DTEND;VALUE=DATE:20260202
DTSTAMP:20260421T195447
CREATED:20250825T165752Z
LAST-MODIFIED:20260330T142914Z
UID:10008938-1738886400-1769990399@bayarearegistry.com
SUMMARY:Ancestral Visions: An Installation by Chelsea Ryoko Wong
DESCRIPTION:Fashion\, family histories\, and personal identity intersect in a new installation at OMCA by Bay Area artist Chelsea Ryoko Wong. Wong’s energetic and colorful paintings\, drawn from both real-life events and her imagination\, depict  busy\, rhythmic scenes of people going about their daily lives. For this project\, Wong’s paintings take inspiration from dresses owned by six 20th century Chinese American women\, whose clothing and legacies live on in OMCA’s collection. Ancestral Visions features paintings along with a selection of the fashions that inspired them. \nInfo & Tickets
URL:https://bayarearegistry.com/event/ancestral-visions-an-installation-by-chelsea-ryoko-wong/
LOCATION:OMCA | Oakland Museum of California\, 1000 Oak Street\, Oakland\, CA\, 94607\, United States
CATEGORIES:Arts + Culture,East Bay,Oakland,Visual Arts
ATTACH;FMTTYPE=image/jpeg:https://bayarearegistry.com/wp-content/uploads/2025/08/imgi_28_6U4A0266-Enhanced-NR-1-2-e1756141020699.jpg
ORGANIZER;CN="OMCA | Oakland Museum of California":MAILTO:igrantham@museumca.org
GEO:37.7986167;-122.264194
X-APPLE-STRUCTURED-LOCATION;VALUE=URI;X-ADDRESS=OMCA | Oakland Museum of California 1000 Oak Street Oakland CA 94607 United States;X-APPLE-RADIUS=500;X-TITLE=1000 Oak Street:geo:-122.264194,37.7986167
END:VEVENT
BEGIN:VEVENT
DTSTART;VALUE=DATE:20240330
DTEND;VALUE=DATE:20260316
DTSTAMP:20260421T195447
CREATED:20241106T065807Z
LAST-MODIFIED:20260317T164544Z
UID:10006378-1711756800-1773619199@bayarearegistry.com
SUMMARY:Contemporary Painting in Papua New Guinea: Mathias Kauage and His Family
DESCRIPTION:Mathias Kauage (ca. 1944–2003) is acclaimed for his boldly colorful paintings of a world radically changing around him in the late 20th century. This exhibition features four paintings from our collection by Mathias and his family\, on view for the first time. During his lifetime\, Mathias experienced dramatic societal shifts — not only during the decades under colonial Australian administration but also after Papua New Guinea achieved independence in 1975. \nInfo & Tickets
URL:https://bayarearegistry.com/event/contemporary-painting-in-papua-new-guinea-mathias-kauage-and-his-family/
LOCATION:de Young – Fine Arts Museums of San Francisco\, Golden Gate Park | 50 Hagiwara Tea Garden Drive\, San Francisco\, CA\, 94118\, United States
CATEGORIES:Arts + Culture,Painting,San Francisco + South SF Area,Visual Arts
ATTACH;FMTTYPE=image/jpeg:https://bayarearegistry.com/wp-content/uploads/2024/11/Contemporary-Painting-in-Papua-New-Guinea-Mathias-Kauage-and-His-Family-e1730788055462.jpg
ORGANIZER;CN="de Young Museum":MAILTO:contact@famsf.org
GEO:37.7714775;-122.4687303
X-APPLE-STRUCTURED-LOCATION;VALUE=URI;X-ADDRESS=de Young – Fine Arts Museums of San Francisco Golden Gate Park | 50 Hagiwara Tea Garden Drive San Francisco CA 94118 United States;X-APPLE-RADIUS=500;X-TITLE=Golden Gate Park | 50 Hagiwara Tea Garden Drive:geo:-122.4687303,37.7714775
END:VEVENT
END:VCALENDAR