BEGIN:VCALENDAR
VERSION:2.0
PRODID:-//BAR | Bay Area Registry - ECPv6.15.20//NONSGML v1.0//EN
CALSCALE:GREGORIAN
METHOD:PUBLISH
X-WR-CALNAME:BAR | Bay Area Registry
X-ORIGINAL-URL:https://bayarearegistry.com
X-WR-CALDESC:Events for BAR | Bay Area Registry
REFRESH-INTERVAL;VALUE=DURATION:PT1H
X-Robots-Tag:noindex
X-PUBLISHED-TTL:PT1H
BEGIN:VTIMEZONE
TZID:America/Los_Angeles
BEGIN:DAYLIGHT
TZOFFSETFROM:-0800
TZOFFSETTO:-0700
TZNAME:PDT
DTSTART:20240310T100000
END:DAYLIGHT
BEGIN:STANDARD
TZOFFSETFROM:-0700
TZOFFSETTO:-0800
TZNAME:PST
DTSTART:20241103T090000
END:STANDARD
BEGIN:DAYLIGHT
TZOFFSETFROM:-0800
TZOFFSETTO:-0700
TZNAME:PDT
DTSTART:20250309T100000
END:DAYLIGHT
BEGIN:STANDARD
TZOFFSETFROM:-0700
TZOFFSETTO:-0800
TZNAME:PST
DTSTART:20251102T090000
END:STANDARD
BEGIN:DAYLIGHT
TZOFFSETFROM:-0800
TZOFFSETTO:-0700
TZNAME:PDT
DTSTART:20260308T100000
END:DAYLIGHT
BEGIN:STANDARD
TZOFFSETFROM:-0700
TZOFFSETTO:-0800
TZNAME:PST
DTSTART:20261101T090000
END:STANDARD
BEGIN:DAYLIGHT
TZOFFSETFROM:-0800
TZOFFSETTO:-0700
TZNAME:PDT
DTSTART:20270314T100000
END:DAYLIGHT
BEGIN:STANDARD
TZOFFSETFROM:-0700
TZOFFSETTO:-0800
TZNAME:PST
DTSTART:20271107T090000
END:STANDARD
END:VTIMEZONE
BEGIN:VEVENT
DTSTART;TZID=America/Los_Angeles:20260123T193000
DTEND;TZID=America/Los_Angeles:20260123T193000
DTSTAMP:20260419T224120
CREATED:20250703T055712Z
LAST-MODIFIED:20260126T110057Z
UID:10008754-1769196600-1769196600@bayarearegistry.com
SUMMARY:Enlighten Me New Century Chamber Orchestra with Simone Porter
DESCRIPTION:American violinist Simone Porter leads New Century and students from the San Francisco Conservatory of Music in this musical tour of illumination. Featuring works from the 12th to the 21st centuries\, each piece depicts different kinds of light: light from nature\, light that inspires or clarifies\, and light that bestows joy. Beginning with Andrew Norman’s Sabina\, written in response to an ecstatic experience watching the sunrise in an ancient Roman cathedral\, and moving through the upward gaze of Hildegard von Bingen’s antiphon to divine wisdom\, the program concludes with Mozart’s Divertimento in F major\, the very spirit of levity and brilliance. \nInfo & Tickets
URL:https://bayarearegistry.com/event/enlighten-me-new-century-chamber-orchestra-with-simone-porter/
LOCATION:BIng Studio\, 327 Lasuen Street\, Stanford\, CA\, 94305\, United States
CATEGORIES:Arts + Culture,Live Music,North Bay,Peninsula (Millbrae & south to Palo Alto, incl HMB & Coast),Performing Arts
ATTACH;FMTTYPE=image/jpeg:https://bayarearegistry.com/wp-content/uploads/2025/07/porter_2021__c_elishaknight02_1-e1751522142537.jpg
ORGANIZER;CN="Stanford Live":MAILTO:stanfordlive@stanford.edu
END:VEVENT
BEGIN:VEVENT
DTSTART;VALUE=DATE:20251015
DTEND;VALUE=DATE:20260223
DTSTAMP:20260419T224120
CREATED:20260216T185714Z
LAST-MODIFIED:20260223T150736Z
UID:10010365-1760486400-1771804799@bayarearegistry.com
SUMMARY:Cunning Folk
DESCRIPTION:Cunning Folk considers magical practice\, practitioners\, and their persecution in early modern European artwork and material culture (c.1500–1750). The term “cunning folk” typically describes wise people who knew traditional spells and remedies believed to cure and protect. The works on paper\, painting\, and personal items on view in this intimate\, single gallery exhibition more broadly explore the historical concept of “cunning” in connection to many forms of secret magical rites and knowledge\, from folk charms to occult natural philosophy to diabolic witchcraft. Early modern artists also helped construct the idea of magical figures as a threat to the prevailing social order–particularly through the rise of print culture–and here\, a selection of American contemporary artworks reconjure these histories. \nInfo & Tickets
URL:https://bayarearegistry.com/event/cunning-folk/
LOCATION:Cantor Arts Center\, 328 Lomita Dr\, Stanford\, CA\, 94305\, United States
CATEGORIES:Arts + Culture,Peninsula (Millbrae & south to Palo Alto, incl HMB & Coast),Visual Arts
ATTACH;FMTTYPE=image/jpeg:https://bayarearegistry.com/wp-content/uploads/2026/02/1988117-cdp-src-crop-web-e1771268222205.jpg
GEO:37.4329116;-122.1702076
X-APPLE-STRUCTURED-LOCATION;VALUE=URI;X-ADDRESS=Cantor Arts Center 328 Lomita Dr Stanford CA 94305 United States;X-APPLE-RADIUS=500;X-TITLE=328 Lomita Dr:geo:-122.1702076,37.4329116
END:VEVENT
END:VCALENDAR