BEGIN:VCALENDAR
VERSION:2.0
PRODID:-//BAR | Bay Area Registry - ECPv6.15.20//NONSGML v1.0//EN
CALSCALE:GREGORIAN
METHOD:PUBLISH
X-ORIGINAL-URL:https://bayarearegistry.com
X-WR-CALDESC:Events for BAR | Bay Area Registry
REFRESH-INTERVAL;VALUE=DURATION:PT1H
X-Robots-Tag:noindex
X-PUBLISHED-TTL:PT1H
BEGIN:VTIMEZONE
TZID:America/Los_Angeles
BEGIN:DAYLIGHT
TZOFFSETFROM:-0800
TZOFFSETTO:-0700
TZNAME:PDT
DTSTART:20250309T100000
END:DAYLIGHT
BEGIN:STANDARD
TZOFFSETFROM:-0700
TZOFFSETTO:-0800
TZNAME:PST
DTSTART:20251102T090000
END:STANDARD
BEGIN:DAYLIGHT
TZOFFSETFROM:-0800
TZOFFSETTO:-0700
TZNAME:PDT
DTSTART:20260308T100000
END:DAYLIGHT
BEGIN:STANDARD
TZOFFSETFROM:-0700
TZOFFSETTO:-0800
TZNAME:PST
DTSTART:20261101T090000
END:STANDARD
BEGIN:DAYLIGHT
TZOFFSETFROM:-0800
TZOFFSETTO:-0700
TZNAME:PDT
DTSTART:20270314T100000
END:DAYLIGHT
BEGIN:STANDARD
TZOFFSETFROM:-0700
TZOFFSETTO:-0800
TZNAME:PST
DTSTART:20271107T090000
END:STANDARD
END:VTIMEZONE
BEGIN:VEVENT
DTSTART;TZID=America/Los_Angeles:20260606T190000
DTEND;TZID=America/Los_Angeles:20260606T190000
DTSTAMP:20260425T093025
CREATED:20260412T115441Z
LAST-MODIFIED:20260412T115441Z
UID:10010753-1780772400-1780772400@bayarearegistry.com
SUMMARY:Juvenile's Boiling Point Album Release Tour with The 400 Degreez Band
DESCRIPTION:Terius Gray\, better known by his stage name Juvenile\, is an American rapper best known for his work with Birdman’s Cash Money Records in the late 1990s and early 2000s\, both solo and as a member of the label’s then-flagship group\, Hot Boys. \nInfo & Tickets
URL:https://bayarearegistry.com/event/juveniles-boiling-point-album-release-tour-with-the-400-degreez-band/
LOCATION:Ace of Spades\, 1417 R Street\, Sacramento\, 95811\, United States
CATEGORIES:Arts + Culture,Live Music,Performing Arts,Sacramento Area
ATTACH;FMTTYPE=image/jpeg:https://bayarearegistry.com/wp-content/uploads/2026/04/e87e5cbd-b491-4900-9bcd-5d18a7e0c49b_TABLET_LANDSCAPE_LARGE_16_9-e1775994872526.jpeg
END:VEVENT
BEGIN:VEVENT
DTSTART;TZID=America/Los_Angeles:20260606T200000
DTEND;TZID=America/Los_Angeles:20260606T200000
DTSTAMP:20260425T093025
CREATED:20260412T114718Z
LAST-MODIFIED:20260412T114718Z
UID:10010752-1780776000-1780776000@bayarearegistry.com
SUMMARY:Pitbull - I'm Back with special guest Lil Jon
DESCRIPTION:Armando Christian Pérez\, known professionally as Pitbull\, is an American rapper\, singer\, songwriter\, and actor. He began his career in the early 2000s as a reggaeton\, Latin hip-hop\, and crunk performer\, and signed with TVT Records to release his debut album\, M.I.A.M.I. \nInfo & Tickets
URL:https://bayarearegistry.com/event/pitbull-im-back-with-special-guest-lil-jon/
LOCATION:Toyota Amphitheatre\, 95692\, 2677 Forty Mile Rd\, Wheatland\, 95692\, United States
CATEGORIES:Arts + Culture,Live Music,Performing Arts,Sacramento Area
ATTACH;FMTTYPE=image/jpeg:https://bayarearegistry.com/wp-content/uploads/2026/04/download-1-e1775994424103.jpg
END:VEVENT
BEGIN:VEVENT
DTSTART;TZID=America/Los_Angeles:20260728T190000
DTEND;TZID=America/Los_Angeles:20260728T190000
DTSTAMP:20260425T093025
CREATED:20260412T111314Z
LAST-MODIFIED:20260412T111314Z
UID:10010748-1785265200-1785265200@bayarearegistry.com
SUMMARY:Myles Smith - My Mess\, My Heart\, My Life Tour
DESCRIPTION:Myles Michael Smith-Thompson is a British singer and songwriter from Luton\, England. He is best known for his 2024 singles “Stargazing” and “Nice to Meet You”. His debut studio album\, My Mess\, My Heart\, My Life.\, is scheduled for release in June 2026. \nInfo & Tickets
URL:https://bayarearegistry.com/event/myles-smith-my-mess-my-heart-my-life-tour/
LOCATION:Hard Rock Live Sacramento\, 3317 Forty Mile Rd\, Wheatland\, 95692\, United States
CATEGORIES:Arts + Culture,Live Music,Performing Arts,Sacramento Area
ATTACH;FMTTYPE=image/jpeg:https://bayarearegistry.com/wp-content/uploads/2026/04/0e4bba0e-8452-4107-baa1-f69c67fb1264_TABLET_LANDSCAPE_LARGE_16_9-e1775992386556.jpeg
END:VEVENT
BEGIN:VEVENT
DTSTART;TZID=America/Los_Angeles:20260807T183000
DTEND;TZID=America/Los_Angeles:20260807T183000
DTSTAMP:20260425T093025
CREATED:20260412T120857Z
LAST-MODIFIED:20260412T120857Z
UID:10010755-1786127400-1786127400@bayarearegistry.com
SUMMARY:Meghan Trainor: The Get In Girl Tour
DESCRIPTION:Meghan Elizabeth Trainor is an American singer-songwriter and television personality. She rose to prominence after signing with Epic Records in 2014 and releasing her debut single “All About That Bass”\, which reached number one on the U.S. Billboard Hot 100 chart and sold 11 million copies worldwide. \nInfo & Tickets
URL:https://bayarearegistry.com/event/meghan-trainor-the-get-in-girl-tour-2/
LOCATION:Golden 1 Center\, 500 David J Stern Walk\, Sacramento\, CA\, 95814\, United States
CATEGORIES:Arts + Culture,Live Music,Performing Arts,Sacramento Area
ATTACH;FMTTYPE=image/webp:https://bayarearegistry.com/wp-content/uploads/2026/04/FASHION_MeghanTrainor_MAIN-scaled-e1775995452685.webp
END:VEVENT
BEGIN:VEVENT
DTSTART;TZID=America/Los_Angeles:20260814T193000
DTEND;TZID=America/Los_Angeles:20260814T193000
DTSTAMP:20260425T093025
CREATED:20260412T130732Z
LAST-MODIFIED:20260412T130732Z
UID:10010759-1786735800-1786735800@bayarearegistry.com
SUMMARY:Jason Aldean: Songs About Us Tour 2026
DESCRIPTION:Jason Aldine Williams\, known professionally as Jason Aldean\, is an American country music singer. Since 2005\, he has been signed to BBR Music Group\, a record label for which he has released eleven albums and 40 singles. \nInfo & Tickets
URL:https://bayarearegistry.com/event/jason-aldean-songs-about-us-tour-2026/
LOCATION:Toyota Amphitheatre\, 95692\, 2677 Forty Mile Rd\, Wheatland\, 95692\, United States
CATEGORIES:Arts + Culture,Live Music,Performing Arts,Sacramento Area
ATTACH;FMTTYPE=image/jpeg:https://bayarearegistry.com/wp-content/uploads/2026/04/unnamed-scaled-e1775999242910.jpg
END:VEVENT
BEGIN:VEVENT
DTSTART;TZID=America/Los_Angeles:20260816T184500
DTEND;TZID=America/Los_Angeles:20260816T184500
DTSTAMP:20260425T093025
CREATED:20260412T141235Z
LAST-MODIFIED:20260412T141235Z
UID:10010769-1786905900-1786905900@bayarearegistry.com
SUMMARY:TOTO + Christopher Cross + The Romantics
DESCRIPTION:Toto is an American rock band formed in Los Angeles\, California\, in 1977. Toto combines elements of pop\, rock\, soul\, funk\, prog\, hard rock\, R&B\, blues\, and jazz. \nInfo & Tickets
URL:https://bayarearegistry.com/event/toto-christopher-cross-the-romantics-2/
LOCATION:Toyota Amphitheatre\, 95692\, 2677 Forty Mile Rd\, Wheatland\, 95692\, United States
CATEGORIES:Arts + Culture,Live Music,Performing Arts,Sacramento Area
ATTACH;FMTTYPE=image/jpeg:https://bayarearegistry.com/wp-content/uploads/2026/04/fe04dc13-2cbf-463b-93eb-b93e370e9794_TABLET_LANDSCAPE_LARGE_16_9-e1776002858220.jpeg
END:VEVENT
BEGIN:VEVENT
DTSTART;TZID=America/Los_Angeles:20260915T200000
DTEND;TZID=America/Los_Angeles:20260915T200000
DTSTAMP:20260425T093025
CREATED:20260412T133042Z
LAST-MODIFIED:20260420T035319Z
UID:10010763-1789502400-1789502400@bayarearegistry.com
SUMMARY:Earth\, Wind & Fire
DESCRIPTION:Earth\, Wind & Fire is an American band formed in Chicago\, Illinois\, in 1969. Their music spans multiple genres\, including jazz\, R&B\, soul\, funk\, disco\, pop\, Latin and Afro-pop. They are among the best-selling bands of all time\, with sales of over 90 million records worldwide. \nInfo & Tickets
URL:https://bayarearegistry.com/event/earth-wind-fire/
LOCATION:Hard Rock Live Sacramento\, 3317 Forty Mile Rd\, Wheatland\, 95692\, United States
CATEGORIES:Arts + Culture,Live Music,Performing Arts,Sacramento Area
ATTACH;FMTTYPE=image/avif:https://bayarearegistry.com/wp-content/uploads/2026/04/download-e1776000632770.avif
END:VEVENT
BEGIN:VEVENT
DTSTART;TZID=America/Los_Angeles:20260916T200000
DTEND;TZID=America/Los_Angeles:20260916T200000
DTSTAMP:20260425T093025
CREATED:20260412T133518Z
LAST-MODIFIED:20260420T035319Z
UID:10010764-1789588800-1789588800@bayarearegistry.com
SUMMARY:Earth\, Wind & Fire
DESCRIPTION:Earth\, Wind & Fire is an American band formed in Chicago\, Illinois\, in 1969. Their music spans multiple genres\, including jazz\, R&B\, soul\, funk\, disco\, pop\, Latin and Afro-pop. They are among the best-selling bands of all time\, with sales of over 90 million records worldwide. \nInfo & Tickets
URL:https://bayarearegistry.com/event/earth-wind-fire-2/
LOCATION:Hard Rock Live Sacramento\, 3317 Forty Mile Rd\, Wheatland\, 95692\, United States
CATEGORIES:Arts + Culture,Live Music,Performing Arts,Sacramento Area
ATTACH;FMTTYPE=image/avif:https://bayarearegistry.com/wp-content/uploads/2026/04/download-e1776000632770.avif
END:VEVENT
BEGIN:VEVENT
DTSTART;TZID=America/Los_Angeles:20260923T183000
DTEND;TZID=America/Los_Angeles:20260923T183000
DTSTAMP:20260425T093025
CREATED:20260412T125257Z
LAST-MODIFIED:20260412T130117Z
UID:10010757-1790188200-1790188200@bayarearegistry.com
SUMMARY:The Return Of The Carnival Of Sins: Mötley Crüe
DESCRIPTION:Mötley Crüe is an American heavy metal band formed in Hollywood\, California\, in 1981 by bassist Nikki Sixx and drummer Tommy Lee\, with guitarist Mick Mars and lead vocalist Vince Neil joining right after. The band has sold over 100 million records worldwide. \nInfo & Tickets
URL:https://bayarearegistry.com/event/the-return-of-the-carnival-of-sins-motley-crue/
LOCATION:Toyota Amphitheatre\, 95692\, 2677 Forty Mile Rd\, Wheatland\, 95692\, United States
CATEGORIES:Arts + Culture,Live Music,Performing Arts,Sacramento Area
ATTACH;FMTTYPE=image/jpeg:https://bayarearegistry.com/wp-content/uploads/2026/04/motley-crue-2024-ross-halfin-e1775998366861.jpg
END:VEVENT
BEGIN:VEVENT
DTSTART;TZID=America/Los_Angeles:20261003T193000
DTEND;TZID=America/Los_Angeles:20261003T193000
DTSTAMP:20260425T093025
CREATED:20260412T132315Z
LAST-MODIFIED:20260412T132315Z
UID:10010762-1791055800-1791055800@bayarearegistry.com
SUMMARY:Thomas Rhett: The Soundtrack to Life Tour
DESCRIPTION:Thomas Rhett Akins Jr. is an American country music singer-songwriter. He is the oldest son of singer Rhett Akins. \nInfo & Tickets
URL:https://bayarearegistry.com/event/thomas-rhett-the-soundtrack-to-life-tour/
LOCATION:Golden 1 Center\, 500 David J Stern Walk\, Sacramento\, CA\, 95814\, United States
CATEGORIES:Arts + Culture,Live Music,Performing Arts,Sacramento Area
ATTACH;FMTTYPE=image/webp:https://bayarearegistry.com/wp-content/uploads/2026/04/Thomas-Rhett-cr-John-Shearer-press-2022-billboard-1548-e1776000183407.webp
END:VEVENT
END:VCALENDAR