BEGIN:VCALENDAR
VERSION:2.0
PRODID:-//BAR | Bay Area Registry - ECPv6.15.20//NONSGML v1.0//EN
CALSCALE:GREGORIAN
METHOD:PUBLISH
X-ORIGINAL-URL:https://bayarearegistry.com
X-WR-CALDESC:Events for BAR | Bay Area Registry
REFRESH-INTERVAL;VALUE=DURATION:PT1H
X-Robots-Tag:noindex
X-PUBLISHED-TTL:PT1H
BEGIN:VTIMEZONE
TZID:America/Los_Angeles
BEGIN:DAYLIGHT
TZOFFSETFROM:-0800
TZOFFSETTO:-0700
TZNAME:PDT
DTSTART:20250309T100000
END:DAYLIGHT
BEGIN:STANDARD
TZOFFSETFROM:-0700
TZOFFSETTO:-0800
TZNAME:PST
DTSTART:20251102T090000
END:STANDARD
BEGIN:DAYLIGHT
TZOFFSETFROM:-0800
TZOFFSETTO:-0700
TZNAME:PDT
DTSTART:20260308T100000
END:DAYLIGHT
BEGIN:STANDARD
TZOFFSETFROM:-0700
TZOFFSETTO:-0800
TZNAME:PST
DTSTART:20261101T090000
END:STANDARD
BEGIN:DAYLIGHT
TZOFFSETFROM:-0800
TZOFFSETTO:-0700
TZNAME:PDT
DTSTART:20270314T100000
END:DAYLIGHT
BEGIN:STANDARD
TZOFFSETFROM:-0700
TZOFFSETTO:-0800
TZNAME:PST
DTSTART:20271107T090000
END:STANDARD
END:VTIMEZONE
BEGIN:VEVENT
DTSTART;VALUE=DATE:20260411
DTEND;VALUE=DATE:20260426
DTSTAMP:20260424T142841
CREATED:20260402T174423Z
LAST-MODIFIED:20260402T174423Z
UID:10010564-1775865600-1777161599@bayarearegistry.com
SUMMARY:Crafting in the Park
DESCRIPTION:Join us for FREE crafting workshops by the lake in Oakland. Bring your creativity and a good spirit and make art with the community! 🎨 \n \nInfo & Tickets
URL:https://bayarearegistry.com/event/crafting-in-the-park/
LOCATION:Lakeshore Ave\, (between Lakeshore & Merritt Ave\, Oakland\, 94612\, United States
CATEGORIES:Arts + Culture,Community,East Bay,Oakland
ATTACH;FMTTYPE=image/jpeg:https://bayarearegistry.com/wp-content/uploads/2026/04/imgi_2_651278433_18570668317024299_7688731457456286913_n-e1775151797105.jpg
END:VEVENT
BEGIN:VEVENT
DTSTART;VALUE=DATE:20260412
DTEND;VALUE=DATE:20260501
DTSTAMP:20260424T142841
CREATED:20260405T141128Z
LAST-MODIFIED:20260405T141128Z
UID:10010645-1775952000-1777593599@bayarearegistry.com
SUMMARY:Carmel-by-the-Sea Mystery Picnic: Self-Guided Foodie Adventure
DESCRIPTION:⭐ Embark on a Mystery Picnic in San Jose with AmazingCo! On this self-guided foodie adventure\, you will solve clues to collect gourmet picnic treats and discover a hidden\, picturesque picnic spot away from the crowds. \nInfo & Tickets
URL:https://bayarearegistry.com/event/carmel-by-the-sea-mystery-picnic-self-guided-foodie-adventure/
LOCATION:Carmel-by-the-Sea\, San Jose\, United States
CATEGORIES:Arts + Culture,Community,San Jose Area (including Almaden, Campbell, Gilroy/Morgan Hill, Los Gatos, Milpitas, San Jose, Saratoga)
ATTACH;FMTTYPE=image/avif:https://bayarearegistry.com/wp-content/uploads/2026/04/b43b1436-628c-11ee-b145-5603c7741b5f-e1775398223996.avif
END:VEVENT
BEGIN:VEVENT
DTSTART;TZID=America/Los_Angeles:20260425T130000
DTEND;TZID=America/Los_Angeles:20260425T150000
DTSTAMP:20260424T142841
CREATED:20260402T162747Z
LAST-MODIFIED:20260402T162747Z
UID:10010559-1777122000-1777129200@bayarearegistry.com
SUMMARY:Oakland Bloom Presents: Hands-On Tasting Workshop with Café con Cariño
DESCRIPTION:Join us for a hands-on tasting workshop with Javi and Clau of Café con Cariño. Explore different tasting notes and discover how flavors and ingredients tell the story of Javi and Clau’s connection to Latin America\, and of their diasporic experiences living as migrants in the U.S \nInfo & Tickets
URL:https://bayarearegistry.com/event/oakland-bloom-presents-hands-on-tasting-workshop-with-cafe-con-carino/
LOCATION:Oakland Public Library: César E. Chávez Branch\, 3301 East 12th Street\, Suite 271\, Oakland\, 94601\, United States
CATEGORIES:Arts + Culture,Community,East Bay,Food + Drink,Oakland
ATTACH;FMTTYPE=image/jpeg:https://bayarearegistry.com/wp-content/uploads/2026/04/CompressJPEG.Online_img1280x720-2-e1775147260927.jpg
END:VEVENT
BEGIN:VEVENT
DTSTART;TZID=America/Los_Angeles:20260425T130000
DTEND;TZID=America/Los_Angeles:20260425T160000
DTSTAMP:20260424T142841
CREATED:20260404T202604Z
LAST-MODIFIED:20260404T202604Z
UID:10010616-1777122000-1777132800@bayarearegistry.com
SUMMARY:STEAM on Saturdays
DESCRIPTION:Our first Winter STEAM on Saturday Winter session will be a Parent Session\, held on Saturday\, April 11th\, 2026\, at the African American Community Service Agency from 1:00 p.m. to 3:00 p.m! Ages 6–14 Hands-on Lego Robotics curriculum\, creative exploration\, and STEAM-powered fun! – Don’t miss this chance to inspire the next generation of innovators and creators. This hands-on experience also aligned with the National Black Child Development Institute’s Eight Essential Outcomes\, including: – Lives and plays in a safe community – Is seen as a child – Has books and toys that reflect who they are and can be – Breathes clean air and drinks clean water. \nInfo & Tickets
URL:https://bayarearegistry.com/event/steam-on-saturdays/2026-04-25/
LOCATION:African American Community Service Agency\, 304 N. 6th Street\, San Jose\, CA\, 95112
CATEGORIES:Arts + Culture,Community,Education,San Jose Area (including Almaden, Campbell, Gilroy/Morgan Hill, Los Gatos, Milpitas, San Jose, Saratoga)
ATTACH;FMTTYPE=image/avif:https://bayarearegistry.com/wp-content/uploads/2026/04/69b33c6a94c23ce7625b7216_IMG_4304-e1775334357564.avif
ORGANIZER;CN="AACSA | African American Community Service Agency":MAILTO:info@bayareajuneteenth.org
GEO:37.3431998;-121.8885772
X-APPLE-STRUCTURED-LOCATION;VALUE=URI;X-ADDRESS=African American Community Service Agency 304 N. 6th Street San Jose CA 95112;X-APPLE-RADIUS=500;X-TITLE=304 N. 6th Street:geo:-121.8885772,37.3431998
END:VEVENT
BEGIN:VEVENT
DTSTART;TZID=America/Los_Angeles:20260506T190000
DTEND;TZID=America/Los_Angeles:20260506T190000
DTSTAMP:20260424T142841
CREATED:20260418T125702Z
LAST-MODIFIED:20260418T125702Z
UID:10010855-1778094000-1778094000@bayarearegistry.com
SUMMARY:The Moth StorySLAM - I GOT IT FROM MY MAMA
DESCRIPTION:The Moth StorySLAM is an open-mic storytelling competition in which anyone can share a true\, personal\, 5-minute story on the night’s theme. Sign up for a chance to tell a story or sit back and enjoy the show! \nParking\nCenter Street Garage\, next door to The Freight\, is currently open nightly until 1am except Sunday. More details here. \nPublic Transit\nThe Freight & Salvage is BARTable! Downtown Berkeley BART station is a half a block from the Freight. Details at bart.gov. Many AC Transit bus lines stop within a few blocks of the Freight. Details at actransit.org. \nNearby Favorites Bars/Restaurants\nRevival Bar + Kitchen | 2102 Shattuck Avenue\, (510) 549–9950\nComal Next Door | 2024 Shattuck Ave\, (510) 422-662\nGather | 2200 Oxford Street @ Allston\, (510) 809-0400 \nInfo & Tickets
URL:https://bayarearegistry.com/event/the-moth-storyslam-i-got-it-from-my-mama/
LOCATION:The Freight\, 2020 Addison St\, Berkeley\, CA\, 94704\, United States
CATEGORIES:Arts + Culture,Berkeley,Community,East Bay
ATTACH;FMTTYPE=image/jpeg:https://bayarearegistry.com/wp-content/uploads/2026/04/TheMoth-1920-1080-2-e1776517015399.jpg
ORGANIZER;CN="The Freight":MAILTO:https://bit.ly/2ODM2Ep
GEO:37.8707545;-122.2695164
X-APPLE-STRUCTURED-LOCATION;VALUE=URI;X-ADDRESS=The Freight 2020 Addison St Berkeley CA 94704 United States;X-APPLE-RADIUS=500;X-TITLE=2020 Addison St:geo:-122.2695164,37.8707545
END:VEVENT
END:VCALENDAR