BEGIN:VCALENDAR
VERSION:2.0
PRODID:-//BAR | Bay Area Registry - ECPv6.15.20//NONSGML v1.0//EN
CALSCALE:GREGORIAN
METHOD:PUBLISH
X-ORIGINAL-URL:https://bayarearegistry.com
X-WR-CALDESC:Events for BAR | Bay Area Registry
REFRESH-INTERVAL;VALUE=DURATION:PT1H
X-Robots-Tag:noindex
X-PUBLISHED-TTL:PT1H
BEGIN:VTIMEZONE
TZID:America/Los_Angeles
BEGIN:DAYLIGHT
TZOFFSETFROM:-0800
TZOFFSETTO:-0700
TZNAME:PDT
DTSTART:20250309T100000
END:DAYLIGHT
BEGIN:STANDARD
TZOFFSETFROM:-0700
TZOFFSETTO:-0800
TZNAME:PST
DTSTART:20251102T090000
END:STANDARD
BEGIN:DAYLIGHT
TZOFFSETFROM:-0800
TZOFFSETTO:-0700
TZNAME:PDT
DTSTART:20260308T100000
END:DAYLIGHT
BEGIN:STANDARD
TZOFFSETFROM:-0700
TZOFFSETTO:-0800
TZNAME:PST
DTSTART:20261101T090000
END:STANDARD
BEGIN:DAYLIGHT
TZOFFSETFROM:-0800
TZOFFSETTO:-0700
TZNAME:PDT
DTSTART:20270314T100000
END:DAYLIGHT
BEGIN:STANDARD
TZOFFSETFROM:-0700
TZOFFSETTO:-0800
TZNAME:PST
DTSTART:20271107T090000
END:STANDARD
END:VTIMEZONE
BEGIN:VEVENT
DTSTART;TZID=America/Los_Angeles:20260419T100000
DTEND;TZID=America/Los_Angeles:20260419T150000
DTSTAMP:20260421T014052
CREATED:20260405T190337Z
LAST-MODIFIED:20260405T190337Z
UID:10010666-1776592800-1776610800@bayarearegistry.com
SUMMARY:Art for All Family Day\, Spring 2026
DESCRIPTION:Join us for fun and free drop-in art-making and live musical performances outdoors between the Cantor Arts Center and  Anderson Collection. \nART for ALL Family Day is a celebration for all families and ages. Engage with art at the Stanford museums through free hands-on art activities and live music outside on the lawn plus story time and a scavenger hunt in the galleries! Our upcoming activities are inspired by the Cantor’s featured exhibitions\, Jeremy Frey: Woven and Animal\, Vegetable\, nor Mineral: Works by Miljohn Ruperto\, as well as works in the Anderson Collection including Sam Francis’s The Beaubourg and Erika Chong Shuch’s 1\,000 Ways to Hold. \nInfo & Tickets
URL:https://bayarearegistry.com/event/art-for-all-family-day-spring-2026/
LOCATION:Cantor Arts Center\, 328 Lomita Dr\, Stanford\, CA\, 94305\, United States
CATEGORIES:Arts + Culture,Community,Fairs + Festivals,South Bay (Mountain View & south to Santa Clara)
ATTACH;FMTTYPE=image/jpeg:https://bayarearegistry.com/wp-content/uploads/2026/04/dc8b8e54771623386eaf06bbbef4fd817037e7fc-e1775415812271.jpg
GEO:37.4329116;-122.1702076
X-APPLE-STRUCTURED-LOCATION;VALUE=URI;X-ADDRESS=Cantor Arts Center 328 Lomita Dr Stanford CA 94305 United States;X-APPLE-RADIUS=500;X-TITLE=328 Lomita Dr:geo:-122.1702076,37.4329116
END:VEVENT
BEGIN:VEVENT
DTSTART;TZID=America/Los_Angeles:20260418T130000
DTEND;TZID=America/Los_Angeles:20260418T160000
DTSTAMP:20260421T014052
CREATED:20260404T202604Z
LAST-MODIFIED:20260404T202604Z
UID:10010615-1776517200-1776528000@bayarearegistry.com
SUMMARY:STEAM on Saturdays
DESCRIPTION:Our first Winter STEAM on Saturday Winter session will be a Parent Session\, held on Saturday\, April 11th\, 2026\, at the African American Community Service Agency from 1:00 p.m. to 3:00 p.m! Ages 6–14 Hands-on Lego Robotics curriculum\, creative exploration\, and STEAM-powered fun! – Don’t miss this chance to inspire the next generation of innovators and creators. This hands-on experience also aligned with the National Black Child Development Institute’s Eight Essential Outcomes\, including: – Lives and plays in a safe community – Is seen as a child – Has books and toys that reflect who they are and can be – Breathes clean air and drinks clean water. \nInfo & Tickets
URL:https://bayarearegistry.com/event/steam-on-saturdays/2026-04-18/
LOCATION:African American Community Service Agency\, 304 N. 6th Street\, San Jose\, CA\, 95112
CATEGORIES:Arts + Culture,Community,Education,San Jose Area (including Almaden, Campbell, Gilroy/Morgan Hill, Los Gatos, Milpitas, San Jose, Saratoga)
ATTACH;FMTTYPE=image/avif:https://bayarearegistry.com/wp-content/uploads/2026/04/69b33c6a94c23ce7625b7216_IMG_4304-e1775334357564.avif
ORGANIZER;CN="AACSA | African American Community Service Agency":MAILTO:info@bayareajuneteenth.org
GEO:37.3431998;-121.8885772
X-APPLE-STRUCTURED-LOCATION;VALUE=URI;X-ADDRESS=African American Community Service Agency 304 N. 6th Street San Jose CA 95112;X-APPLE-RADIUS=500;X-TITLE=304 N. 6th Street:geo:-121.8885772,37.3431998
END:VEVENT
BEGIN:VEVENT
DTSTART;TZID=America/Los_Angeles:20260418T100000
DTEND;TZID=America/Los_Angeles:20260418T133000
DTSTAMP:20260421T014052
CREATED:20260402T191854Z
LAST-MODIFIED:20260402T191854Z
UID:10010569-1776506400-1776519000@bayarearegistry.com
SUMMARY:Pilates & Prosecco
DESCRIPTION:Our most visually intentional experience to date — a “50 Shades of Blue” Pilates & Prosecco affair. \nExpect an immersive environment filled with floral & balloon installations\, curated photo moments\, and access to a hand picked “Wellness Lounge” featuring The Wellness Affair and local community vendors. \nInfo & Tickets
URL:https://bayarearegistry.com/event/pilates-prosecco/
LOCATION:2342 Valdez St\, 2342 Valdez St\, Oakland\, 94612\, United States
CATEGORIES:Arts + Culture,Community,East Bay,Health + Wellness,Oakland
ATTACH;FMTTYPE=image/webp:https://bayarearegistry.com/wp-content/uploads/2026/04/b6df906b-9458-433f-a563-96cdbaf6db56-e1775157527350.webp
END:VEVENT
BEGIN:VEVENT
DTSTART;TZID=America/Los_Angeles:20260418T100000
DTEND;TZID=America/Los_Angeles:20260418T100000
DTSTAMP:20260421T014052
CREATED:20260402T190317Z
LAST-MODIFIED:20260402T190317Z
UID:10010568-1776506400-1776506400@bayarearegistry.com
SUMMARY:EARTH DAY BEAUTIFICATION INVITE: SHOW UP & SHOW OUT WITH KEEP OAKLAND BEAUTIFUL!
DESCRIPTION:Join us for Oakland’s beloved FREE 2026 🌱 Plant\, Paint and Pick-up With Pups activation event to help revitalize Oakland through a day of beautification activities! \n \nInfo & Tickets
URL:https://bayarearegistry.com/event/earth-day-beautification-invite-show-up-show-out-with-keep-oakland-beautiful/
LOCATION:1734 E 12th St\, 1734 E 12th St\, Oakland\, 94606\, United States
CATEGORIES:Arts + Culture,Community,East Bay,Environment,Oakland
ATTACH;FMTTYPE=image/png:https://bayarearegistry.com/wp-content/uploads/2026/04/G3AgvTkjjIienteSBvQs6F9EaZGJginkLehrcAms-1-e1775156569224.png
END:VEVENT
BEGIN:VEVENT
DTSTART;TZID=America/Los_Angeles:20260411T130000
DTEND;TZID=America/Los_Angeles:20260411T160000
DTSTAMP:20260421T014052
CREATED:20260404T202604Z
LAST-MODIFIED:20260404T202604Z
UID:10010614-1775912400-1775923200@bayarearegistry.com
SUMMARY:STEAM on Saturdays
DESCRIPTION:Our first Winter STEAM on Saturday Winter session will be a Parent Session\, held on Saturday\, April 11th\, 2026\, at the African American Community Service Agency from 1:00 p.m. to 3:00 p.m! Ages 6–14 Hands-on Lego Robotics curriculum\, creative exploration\, and STEAM-powered fun! – Don’t miss this chance to inspire the next generation of innovators and creators. This hands-on experience also aligned with the National Black Child Development Institute’s Eight Essential Outcomes\, including: – Lives and plays in a safe community – Is seen as a child – Has books and toys that reflect who they are and can be – Breathes clean air and drinks clean water. \nInfo & Tickets
URL:https://bayarearegistry.com/event/steam-on-saturdays/2026-04-11/
LOCATION:African American Community Service Agency\, 304 N. 6th Street\, San Jose\, CA\, 95112
CATEGORIES:Arts + Culture,Community,Education,San Jose Area (including Almaden, Campbell, Gilroy/Morgan Hill, Los Gatos, Milpitas, San Jose, Saratoga)
ATTACH;FMTTYPE=image/avif:https://bayarearegistry.com/wp-content/uploads/2026/04/69b33c6a94c23ce7625b7216_IMG_4304-e1775334357564.avif
ORGANIZER;CN="AACSA | African American Community Service Agency":MAILTO:info@bayareajuneteenth.org
GEO:37.3431998;-121.8885772
X-APPLE-STRUCTURED-LOCATION;VALUE=URI;X-ADDRESS=African American Community Service Agency 304 N. 6th Street San Jose CA 95112;X-APPLE-RADIUS=500;X-TITLE=304 N. 6th Street:geo:-121.8885772,37.3431998
END:VEVENT
END:VCALENDAR