BEGIN:VCALENDAR
VERSION:2.0
PRODID:-//BAR | Bay Area Registry - ECPv6.15.20//NONSGML v1.0//EN
CALSCALE:GREGORIAN
METHOD:PUBLISH
X-ORIGINAL-URL:https://bayarearegistry.com
X-WR-CALDESC:Events for BAR | Bay Area Registry
REFRESH-INTERVAL;VALUE=DURATION:PT1H
X-Robots-Tag:noindex
X-PUBLISHED-TTL:PT1H
BEGIN:VTIMEZONE
TZID:America/Los_Angeles
BEGIN:DAYLIGHT
TZOFFSETFROM:-0800
TZOFFSETTO:-0700
TZNAME:PDT
DTSTART:20250309T100000
END:DAYLIGHT
BEGIN:STANDARD
TZOFFSETFROM:-0700
TZOFFSETTO:-0800
TZNAME:PST
DTSTART:20251102T090000
END:STANDARD
BEGIN:DAYLIGHT
TZOFFSETFROM:-0800
TZOFFSETTO:-0700
TZNAME:PDT
DTSTART:20260308T100000
END:DAYLIGHT
BEGIN:STANDARD
TZOFFSETFROM:-0700
TZOFFSETTO:-0800
TZNAME:PST
DTSTART:20261101T090000
END:STANDARD
BEGIN:DAYLIGHT
TZOFFSETFROM:-0800
TZOFFSETTO:-0700
TZNAME:PDT
DTSTART:20270314T100000
END:DAYLIGHT
BEGIN:STANDARD
TZOFFSETFROM:-0700
TZOFFSETTO:-0800
TZNAME:PST
DTSTART:20271107T090000
END:STANDARD
END:VTIMEZONE
BEGIN:VEVENT
DTSTART;VALUE=DATE:20260418
DTEND;VALUE=DATE:20261122
DTSTAMP:20260424T102348
CREATED:20260420T063035Z
LAST-MODIFIED:20260420T063035Z
UID:10010868-1776470400-1795305599@bayarearegistry.com
SUMMARY:Third Saturday Monthly
DESCRIPTION:A curated\, stylish and modern version of your traditional flea market with over 60 vintage vendors\, makers and artists. Enjoy live music from local musicians\, food trucks\, workshops and rotating family-friendly activities for all ages to enjoy\, every third Saturday from April- November. \nInfo & Tickets
URL:https://bayarearegistry.com/event/third-saturday-monthly/
LOCATION:37th Avenue at Ortega to Quintara\, 1994 37th Ave\, San Francisco\, 94116
CATEGORIES:Arts + Culture,Food + Drink,Live Music,Performing Arts,San Francisco + South SF Area,Shopping + Retail
ATTACH;FMTTYPE=image/png:https://bayarearegistry.com/wp-content/uploads/2026/04/Screenshot_1-e1776666568892.png
END:VEVENT
BEGIN:VEVENT
DTSTART;TZID=America/Los_Angeles:20260425T100000
DTEND;TZID=America/Los_Angeles:20260425T100000
DTSTAMP:20260424T102348
CREATED:20260324T080810Z
LAST-MODIFIED:20260324T081204Z
UID:10010529-1777111200-1777111200@bayarearegistry.com
SUMMARY:My Sister’s Keeper Homebuyer Wealth Building Workshop
DESCRIPTION:Join us for a powerful\, community-centered Homebuyer Wealth Building Workshop designed specifically for individuals and families in urban communities who are ready to take control of their financial future. This is more than a workshop—it’s a movement toward generational wealth\, stability\, and ownership. \nInfo & Tickets
URL:https://bayarearegistry.com/event/my-sisters-keeper-homebuyer-wealth-building-workshop/
LOCATION:South East Community Center\, 1550 Evans Ave\, San Francisco\, 94124
CATEGORIES:Arts + Culture,Conversations + Speakers + Conferences,Food + Drink,San Francisco + South SF Area,Visual Arts
ATTACH;FMTTYPE=image/png:https://bayarearegistry.com/wp-content/uploads/2026/03/img_8443-e1774339840418.png
END:VEVENT
BEGIN:VEVENT
DTSTART;TZID=America/Los_Angeles:20260425T110000
DTEND;TZID=America/Los_Angeles:20260425T110000
DTSTAMP:20260424T102348
CREATED:20260409T070937Z
LAST-MODIFIED:20260409T070937Z
UID:10010690-1777114800-1777114800@bayarearegistry.com
SUMMARY:46th Annual Black Cuisine Festival
DESCRIPTION:The 46th annual Black Cuisine Street Festival will take place Saturday\, April 25th\, 2026\, from 11:00 am to 6:00 pm in San Francisco’s Bayview District. The event will feature live music\, a cooking contest\, a marketplace for local vendors\, and a Kids’ Zone for the younger attendees. Entertainment is free. Food and alcohol are available for purchase. This is a benefit for Bayview Senior Services. \nInfo & Tickets
URL:https://bayarearegistry.com/event/46th-annual-black-cuisine-festival/
LOCATION:Dr. George W. Davis Senior Center\, 1706 Yosemite Avenue @ 3rd Street \, San Francisco\, CA\, 94124\, United States
CATEGORIES:Arts + Culture,Fairs + Festivals,Food + Drink,Live Music,Performing Arts,San Francisco + South SF Area
ATTACH;FMTTYPE=image/png:https://bayarearegistry.com/wp-content/uploads/2026/04/black_cuisine_2026-e1775718540840.png
GEO:37.727793;-122.3933293
X-APPLE-STRUCTURED-LOCATION;VALUE=URI;X-ADDRESS=Dr. George W. Davis Senior Center 1706 Yosemite Avenue @ 3rd Street  San Francisco CA 94124 United States;X-APPLE-RADIUS=500;X-TITLE=1706 Yosemite Avenue @ 3rd Street:geo:-122.3933293,37.727793
END:VEVENT
BEGIN:VEVENT
DTSTART;TZID=America/Los_Angeles:20260425T110000
DTEND;TZID=America/Los_Angeles:20260425T160000
DTSTAMP:20260424T102348
CREATED:20260422T060503Z
LAST-MODIFIED:20260422T060503Z
UID:10010883-1777114800-1777132800@bayarearegistry.com
SUMMARY:Piedmont FOOD FEST
DESCRIPTION:Piedmont Food Fest was born from our desire to unite the diverse communities surrounding us in the Bay Area\, celebrating our tapestry of cultures through the mediums of food\, music\, and art. \nOur mission is to shine a spotlight on the many individuals\, family legacies\, and cultural traditions that contribute to the vibrant mosaic of our Bay Area community. By championing local organizations\, culinary ventures\, and artists\, we aim to foster a deeper sense of collective belonging and appreciation for the uniqueness of our shared home. \nInfo & Tickets
URL:https://bayarearegistry.com/event/piedmont-food-fest/
LOCATION:Piedmont Park\, 356 Highland Ave\, Piedmont\, CA\, 94611\, United States
CATEGORIES:Arts + Culture,East Bay,Fairs + Festivals,Food + Drink,Live Music,Oakland,Performing Arts
ATTACH;FMTTYPE=image/png:https://bayarearegistry.com/wp-content/uploads/2026/04/Screenshot_6-e1776837891251.png
END:VEVENT
BEGIN:VEVENT
DTSTART;TZID=America/Los_Angeles:20260429T173000
DTEND;TZID=America/Los_Angeles:20260429T203000
DTSTAMP:20260424T102348
CREATED:20260402T195933Z
LAST-MODIFIED:20260402T195933Z
UID:10010574-1777483800-1777494600@bayarearegistry.com
SUMMARY:Taste of Temescal
DESCRIPTION:Temescal is a nationally recognized and thriving district offering tremendous diversity and award winning culinary destinations. You don’t want to miss this chance stroll\, explore\, and enjoy some of Oakland’s best restaurants and bars with live entertainment throughout the event. \nInfo & Tickets
URL:https://bayarearegistry.com/event/taste-of-temescal/
LOCATION:Temescal District\, Oakland\, 94609
CATEGORIES:Arts + Culture,Community,East Bay,Fairs + Festivals,Food + Drink,Oakland
ATTACH;FMTTYPE=image/jpeg:https://bayarearegistry.com/wp-content/uploads/2026/04/imgi_1_2026-SAVE-THE-DATE-3-e1775159966374.jpeg
END:VEVENT
BEGIN:VEVENT
DTSTART;TZID=America/Los_Angeles:20260430T190000
DTEND;TZID=America/Los_Angeles:20260430T210000
DTSTAMP:20260424T102348
CREATED:20260405T084307Z
LAST-MODIFIED:20260405T084510Z
UID:10010634-1777575600-1777582800@bayarearegistry.com
SUMMARY:Oakland Symphony Gala 2026
DESCRIPTION:Prepare for an enchanting evening as we gather for a spectacular night of music\, celebration\, and community in April 2026. This is an opportunity to immerse yourself in the artistry of the Oakland Symphony. We invite you to be a vital part of this memorable occasion. \nInfo & Tickets
URL:https://bayarearegistry.com/event/oakland-symphony-gala-2026/
LOCATION:The Bridge Yard\, 210 Burma Rd\, Oakland\, CA\, 94607\, United States
CATEGORIES:Arts + Culture,East Bay,Food + Drink,Galas + Awards + Fundraiser,Live Music,Oakland,Performing Arts
ATTACH;FMTTYPE=image/jpeg:https://bayarearegistry.com/wp-content/uploads/2026/04/Oakland-Symphony-Gala-2026-e1775378690474.jpg
END:VEVENT
BEGIN:VEVENT
DTSTART;TZID=America/Los_Angeles:20260509T110000
DTEND;TZID=America/Los_Angeles:20260509T140000
DTSTAMP:20260424T102348
CREATED:20260327T113446Z
LAST-MODIFIED:20260327T113446Z
UID:10010541-1778324400-1778335200@bayarearegistry.com
SUMMARY:Gala for the Gardens
DESCRIPTION:Celebrate nature\, community\, and the wonder of our planet at Gala for the Gardens\, the annual benefit supporting the Conservatory of Flowers\, Japanese Tea Garden\, and San Francisco Botanical Garden.   \nWe’re thrilled to honor long-time ambassadors and friends to the Gardens\, Ruth and Ken Wilcox\, and welcome the award-winning author Margaret Renkl\, for an afternoon to remember.   \nInfo & Tickets
URL:https://bayarearegistry.com/event/gala-for-the-gardens/
LOCATION:San Francisco Botanical Garden\, 1199 9th Ave\, San Francisco\, 94122
CATEGORIES:Arts + Culture,Food + Drink,Galas + Awards + Fundraiser,San Francisco + South SF Area
ATTACH;FMTTYPE=image/jpeg:https://bayarearegistry.com/wp-content/uploads/2026/03/unnamed-e1774611250354.jpg
END:VEVENT
BEGIN:VEVENT
DTSTART;TZID=America/Los_Angeles:20260510T110000
DTEND;TZID=America/Los_Angeles:20260510T160000
DTSTAMP:20260424T102348
CREATED:20260422T053526Z
LAST-MODIFIED:20260422T053526Z
UID:10010881-1778410800-1778428800@bayarearegistry.com
SUMMARY:Mother's Day Brunch 2026
DESCRIPTION:Join us for a Mother’s Day buffet (all-you-can-eat) brunch featuring southern comfort food the only way Chef Michele McQueen can do it! \nInfo & Tickets
URL:https://bayarearegistry.com/event/mothers-day-brunch-2026/
LOCATION:Town Fare by Michele McQueen\, 1000 Oak St\, Oakland\, CA\, 94607\, United States
CATEGORIES:Arts + Culture,East Bay,Food + Drink,Oakland
ATTACH;FMTTYPE=image/webp:https://bayarearegistry.com/wp-content/uploads/2026/04/Mothers-Day-Brunch-2026-e1776836035721.webp
END:VEVENT
BEGIN:VEVENT
DTSTART;TZID=America/Los_Angeles:20260510T123000
DTEND;TZID=America/Los_Angeles:20260510T163000
DTSTAMP:20260424T102348
CREATED:20260417T115550Z
LAST-MODIFIED:20260417T115550Z
UID:10010837-1778416200-1778430600@bayarearegistry.com
SUMMARY:Mommies & Mimosas .... A Mother's Day Brunch
DESCRIPTION:Celebrate the beauty\, strength\, and love of motherhood with an unforgettable afternoon of live music\, elevated Southern cuisine\, and a luxury brunch experience in the heart of Oakland.  \nInfo & Tickets
URL:https://bayarearegistry.com/event/mommies-mimosas-a-mothers-day-brunch/
LOCATION:Henry J. Kaiser Center for the Arts\, 10 10th Street\, Oakland\, 94607\, United States
CATEGORIES:Arts + Culture,East Bay,Food + Drink,Oakland
ATTACH;FMTTYPE=image/jpeg:https://bayarearegistry.com/wp-content/uploads/2026/04/imgi_2_ClientFile613820-e1776426877928.jpg
END:VEVENT
BEGIN:VEVENT
DTSTART;TZID=America/Los_Angeles:20260513T170000
DTEND;TZID=America/Los_Angeles:20260513T200000
DTSTAMP:20260424T102348
CREATED:20260420T142850Z
LAST-MODIFIED:20260420T142850Z
UID:10010871-1778691600-1778702400@bayarearegistry.com
SUMMARY:Taste of North Berkeley
DESCRIPTION:The North Shattuck Association invites the community to experience an unforgettable culinary celebration highlighting the creativity and craftsmanship of its vibrant local businesses. This immersive event will feature a diverse array of sweet and savory dishes\, along with both alcoholic and non-alcoholic beverages\, offering something for every palate. \nAttendees are encouraged to explore the district by visiting participating locations\, each presenting unique tastings and experiences. Whether discovering the neighborhood for the first time or revisiting beloved favorites\, guests will enjoy a dynamic “progressive dining” format designed to showcase the best of North Berkeley’s renowned food scene. \nInfo & Tickets
URL:https://bayarearegistry.com/event/taste-of-north-berkeley/
LOCATION:North Shattuck\, 1700 Shattuck Ave. #318\, Berkeley\, 94709
CATEGORIES:Arts + Culture,Berkeley,East Bay,Food + Drink,Live Music,Performing Arts
ATTACH;FMTTYPE=image/png:https://bayarearegistry.com/wp-content/uploads/2026/04/1080x1350_nsa_taste_of_north_berkeley_2026-scaled-e1776695290911.png
END:VEVENT
BEGIN:VEVENT
DTSTART;VALUE=DATE:20260910
DTEND;VALUE=DATE:20260921
DTSTAMP:20260424T102348
CREATED:20260422T054504Z
LAST-MODIFIED:20260422T054504Z
UID:10010882-1788998400-1789948799@bayarearegistry.com
SUMMARY:Flower Piano
DESCRIPTION:In the final days of summer and for the eleventh time since 2015\, Flower Piano will fill the Botanical Garden with music for everybody. Seek out 12 pianos and discover more than 100 performances\, family-friendly activities\, food\, beverages\, and more. \nInfo & Tickets
URL:https://bayarearegistry.com/event/flower-piano/
LOCATION:San Francisco Botanical Garden\, 1199 9th Ave\, San Francisco\, 94122
CATEGORIES:Arts + Culture,Food + Drink,Live Music,Performing Arts,San Francisco + South SF Area,Sports + Outdoors
ATTACH;FMTTYPE=image/jpeg:https://bayarearegistry.com/wp-content/uploads/2026/04/Flower-Piano-scaled-e1776836668305.jpg
END:VEVENT
END:VCALENDAR