BEGIN:VCALENDAR
VERSION:2.0
PRODID:-//BAR | Bay Area Registry - ECPv6.15.20//NONSGML v1.0//EN
CALSCALE:GREGORIAN
METHOD:PUBLISH
X-WR-CALNAME:BAR | Bay Area Registry
X-ORIGINAL-URL:https://bayarearegistry.com
X-WR-CALDESC:Events for BAR | Bay Area Registry
REFRESH-INTERVAL;VALUE=DURATION:PT1H
X-Robots-Tag:noindex
X-PUBLISHED-TTL:PT1H
BEGIN:VTIMEZONE
TZID:America/Los_Angeles
BEGIN:DAYLIGHT
TZOFFSETFROM:-0800
TZOFFSETTO:-0700
TZNAME:PDT
DTSTART:20250309T100000
END:DAYLIGHT
BEGIN:STANDARD
TZOFFSETFROM:-0700
TZOFFSETTO:-0800
TZNAME:PST
DTSTART:20251102T090000
END:STANDARD
BEGIN:DAYLIGHT
TZOFFSETFROM:-0800
TZOFFSETTO:-0700
TZNAME:PDT
DTSTART:20260308T100000
END:DAYLIGHT
BEGIN:STANDARD
TZOFFSETFROM:-0700
TZOFFSETTO:-0800
TZNAME:PST
DTSTART:20261101T090000
END:STANDARD
BEGIN:DAYLIGHT
TZOFFSETFROM:-0800
TZOFFSETTO:-0700
TZNAME:PDT
DTSTART:20270314T100000
END:DAYLIGHT
BEGIN:STANDARD
TZOFFSETFROM:-0700
TZOFFSETTO:-0800
TZNAME:PST
DTSTART:20271107T090000
END:STANDARD
END:VTIMEZONE
BEGIN:VEVENT
DTSTART;TZID=America/Los_Angeles:20260509T110000
DTEND;TZID=America/Los_Angeles:20260509T170000
DTSTAMP:20260419T201611
CREATED:20260410T071602Z
LAST-MODIFIED:20260410T071602Z
UID:10010702-1778324400-1778346000@bayarearegistry.com
SUMMARY:Thrive @ MoAD
DESCRIPTION:Join us every Second Saturday for Thrive @ MoAD\, a free community day sponsored by Kaiser Permanente\, with free admission to all exhibitions! Museums across the globe are increasingly recognized for their important role in promoting personal and social well-being. \nStudies show that engaging with art and culture boosts brain function\, supports trauma healing\, and helps reduce the stigma surrounding mental health. Don’t miss out—visit us for Thrive @ MoAD! \nInfo & Tickets
URL:https://bayarearegistry.com/event/thrive-moad-2/
LOCATION:MoAD | Museum of the African Diaspora\, 685 Mission Street\, San Francisco\, CA\, 94105\, United States
CATEGORIES:Arts + Culture,Health + Wellness,San Francisco + South SF Area
ATTACH;FMTTYPE=image/png:https://bayarearegistry.com/wp-content/uploads/2025/12/65fa2091257466c66244ae5a_Community-Free-Day-1-1-e1764605961553.png
ORGANIZER;CN="MoAD | Museum of the African Diaspora":MAILTO:info@moadsf.org
GEO:37.786528;-122.4014628
X-APPLE-STRUCTURED-LOCATION;VALUE=URI;X-ADDRESS=MoAD | Museum of the African Diaspora 685 Mission Street San Francisco CA 94105 United States;X-APPLE-RADIUS=500;X-TITLE=685 Mission Street:geo:-122.4014628,37.786528
END:VEVENT
BEGIN:VEVENT
DTSTART;VALUE=DATE:20260514
DTEND;VALUE=DATE:20260516
DTSTAMP:20260419T201611
CREATED:20250629T060053Z
LAST-MODIFIED:20250629T060053Z
UID:10008704-1778716800-1778889599@bayarearegistry.com
SUMMARY:Virtual | 4th International Conference on Neuroscience and Mental Health
DESCRIPTION:We are pleased to welcome you to the 4th International Conference on Neuroscience and Mental Health\, themed “Neuroscience and Mental Health: Healing Mind\, Brain\, and Society\,” which will take place on May 14–15\, 2026\, in Kuala Lumpur\, Malaysia. This event brings together researchers\, clinicians\, and professionals to explore breakthroughs in brain science and mental well-being\, and to foster collaborative approaches for healthier societies. Participants can expect thought-provoking keynote speeches\, engaging interactive sessions\, and meaningful networking opportunities. Don’t miss this event to gain valuable knowledge about brain health and mental health care. \nInfo & Tickets
URL:https://bayarearegistry.com/event/virtual-4th-international-conference-on-neuroscience-and-mental-health/
CATEGORIES:Arts + Culture,Conversations + Speakers + Conferences,Health + Wellness,Virtual
ATTACH;FMTTYPE=image/png:https://bayarearegistry.com/wp-content/uploads/2025/06/neuroscience_congress_2026-e1751176805207.png
LOCATION:
END:VEVENT
BEGIN:VEVENT
DTSTART;TZID=America/Los_Angeles:20260530T083000
DTEND;TZID=America/Los_Angeles:20260530T130000
DTSTAMP:20260419T201611
CREATED:20260327T111214Z
LAST-MODIFIED:20260327T111214Z
UID:10010538-1780129800-1780146000@bayarearegistry.com
SUMMARY:Walking to Live/Celebrating Life
DESCRIPTION:For more fun and impact\, create your own Walk Team to raise money and win Prizes! Register together or designate a team member to register for the group. Have all team members’ full contact info ready for sign-up! Tickets are $40/person. OR have each team member sign up and indicate which team. \nInfo & Tickets
URL:https://bayarearegistry.com/event/walking-to-live-celebrating-life/
LOCATION:Martin Luther King Jr. Regional Shoreline\, Entrance on Swan Way Kingfisher site\, Oakland\, 94621
CATEGORIES:Arts + Culture,East Bay,Health + Wellness,Oakland,Sports + Outdoors
ATTACH;FMTTYPE=image/png:https://bayarearegistry.com/wp-content/uploads/2026/03/w2l_flyer_final-e1774609904112.png
END:VEVENT
BEGIN:VEVENT
DTSTART;TZID=America/Los_Angeles:20260613T110000
DTEND;TZID=America/Los_Angeles:20260613T170000
DTSTAMP:20260419T201611
CREATED:20260411T102141Z
LAST-MODIFIED:20260411T102141Z
UID:10010739-1781348400-1781370000@bayarearegistry.com
SUMMARY:Thrive @ MoAD
DESCRIPTION:Join us every Second Saturday for Thrive @ MoAD\, a free community day sponsored by Kaiser Permanente\, with free admission to all exhibitions! Museums across the globe are increasingly recognized for their important role in promoting personal and social well-being. \nInfo & Tickets
URL:https://bayarearegistry.com/event/thrive-moad-3/
LOCATION:MoAD | Museum of the African Diaspora\, 685 Mission Street\, San Francisco\, CA\, 94105\, United States
CATEGORIES:Arts + Culture,Health + Wellness,San Francisco + South SF Area
ATTACH;FMTTYPE=image/png:https://bayarearegistry.com/wp-content/uploads/2025/12/65fa2091257466c66244ae5a_Community-Free-Day-1-1-e1764605961553.png
ORGANIZER;CN="MoAD | Museum of the African Diaspora":MAILTO:info@moadsf.org
GEO:37.786528;-122.4014628
X-APPLE-STRUCTURED-LOCATION;VALUE=URI;X-ADDRESS=MoAD | Museum of the African Diaspora 685 Mission Street San Francisco CA 94105 United States;X-APPLE-RADIUS=500;X-TITLE=685 Mission Street:geo:-122.4014628,37.786528
END:VEVENT
BEGIN:VEVENT
DTSTART;VALUE=DATE:20260620
DTEND;VALUE=DATE:20260622
DTSTAMP:20260419T201611
CREATED:20251120T134328Z
LAST-MODIFIED:20251120T134328Z
UID:10009747-1781913600-1782086399@bayarearegistry.com
SUMMARY:Virtual | International Conference on Cancer Science & Therapy
DESCRIPTION:We are pleased to invite you to the INTERNATIONAL CONFERENCE ONCANCER SCIENCE & THERAPY\, taking place on July 20\, 21\, 2026\, in Paris\, France Theme: “Innovating Cancer Care: Bridging Research\, Precision\, and Patient-Centered Therapy” Join over 300 international professionals\, Oncologists\, educators\, and researchers for keynote sessions\, presentations\, panel discussions\, and global networking opportunities focused on Innovating Cancer Care: Bridging Research\, Precision\, and Patient-Centered Therapy. \nInfo & Tickets
URL:https://bayarearegistry.com/event/virtual-international-conference-on-cancer-science-therapy/
LOCATION:[ Virtual ]\, CA
CATEGORIES:Arts + Culture,Conversations + Speakers + Conferences,Health + Wellness,Virtual
ATTACH;FMTTYPE=image/png:https://bayarearegistry.com/wp-content/uploads/2025/11/change_the_backgroun1-e1763646125529.png
END:VEVENT
BEGIN:VEVENT
DTSTART;VALUE=DATE:20260622
DTEND;VALUE=DATE:20260624
DTSTAMP:20260419T201611
CREATED:20250916T055707Z
LAST-MODIFIED:20250916T135321Z
UID:10009265-1782086400-1782259199@bayarearegistry.com
SUMMARY:Virtual | Global Summit on Diabetes and Endocrinology 2026
DESCRIPTION:Intelli Global Conferences is overwhelmed to announce the commencement of “Global Summit on Diabetes and Endocrinology 2026\, CPD Accredited” to be held during June 22-23\,2026| London\,UK. The upcoming conference will be organized around the theme “Trending Medical Research and Recent developments for Changing Life of Diabetes World”.\nThe main objective of Diabetes congress 2026 is to promote awareness about diabetes and risk associated with it along with endocrinology and its impact on health and will educate and strengthen recent research on the several causes\, results\, treatment\, and prevention of diabetes\, this conference encourages the involvement of researchers\, scientists and to highlight their role\, this will help to connect active researchers and practitioners from diverse disciplines. \nInfo & Tickets
URL:https://bayarearegistry.com/event/global-summit-on-diabetes-and-endocrinology-2026/
LOCATION:[ Virtual ]\, CA
CATEGORIES:Arts + Culture,Conversations + Speakers + Conferences,Health + Wellness,Virtual
ATTACH;FMTTYPE=image/png:https://bayarearegistry.com/wp-content/uploads/2025/09/download-5-1-e1758002126203.png
END:VEVENT
BEGIN:VEVENT
DTSTART;TZID=America/Los_Angeles:20260711T110000
DTEND;TZID=America/Los_Angeles:20260711T170000
DTSTAMP:20260419T201611
CREATED:20260411T102842Z
LAST-MODIFIED:20260411T102842Z
UID:10010741-1783767600-1783789200@bayarearegistry.com
SUMMARY:Thrive @ MoAD
DESCRIPTION:Join us every Second Saturday for Thrive @ MoAD\, a free community day sponsored by Kaiser Permanente\, with free admission to all exhibitions! Museums across the globe are increasingly recognized for their important role in promoting personal and social well-being. \nInfo & Tickets
URL:https://bayarearegistry.com/event/thrive-moad-4/
LOCATION:MoAD | Museum of the African Diaspora\, 685 Mission Street\, San Francisco\, CA\, 94105\, United States
CATEGORIES:Arts + Culture,Health + Wellness,San Francisco + South SF Area
ATTACH;FMTTYPE=image/png:https://bayarearegistry.com/wp-content/uploads/2025/12/65fa2091257466c66244ae5a_Community-Free-Day-1-1-e1764605961553.png
ORGANIZER;CN="MoAD | Museum of the African Diaspora":MAILTO:info@moadsf.org
GEO:37.786528;-122.4014628
X-APPLE-STRUCTURED-LOCATION;VALUE=URI;X-ADDRESS=MoAD | Museum of the African Diaspora 685 Mission Street San Francisco CA 94105 United States;X-APPLE-RADIUS=500;X-TITLE=685 Mission Street:geo:-122.4014628,37.786528
END:VEVENT
BEGIN:VEVENT
DTSTART;VALUE=DATE:20260720
DTEND;VALUE=DATE:20260722
DTSTAMP:20260419T201611
CREATED:20251008T160001Z
LAST-MODIFIED:20251008T160018Z
UID:10009410-1784505600-1784678399@bayarearegistry.com
SUMMARY:Virtual | 2nd International Conference on Diabetes and Endocrinology
DESCRIPTION:It is with great honor and anticipation that we welcome you to the 2nd International Conference on Diabetes and Endocrinology\, to be held in the historic and inspiring city of Paris\, France\, on July 20–21\, 2026. \nInfo & Tickets
URL:https://bayarearegistry.com/event/virtual-2nd-international-conference-on-diabetes-and-endocrinology/
LOCATION:[ Virtual ]\, CA
CATEGORIES:Arts + Culture,Conversations + Speakers + Conferences,Health + Wellness,Virtual
ATTACH;FMTTYPE=image/jpeg:https://bayarearegistry.com/wp-content/uploads/2025/10/paris_france-e1759939077965.jpg
END:VEVENT
BEGIN:VEVENT
DTSTART;VALUE=DATE:20260722
DTEND;VALUE=DATE:20260724
DTSTAMP:20260419T201611
CREATED:20251110T133301Z
LAST-MODIFIED:20251110T133301Z
UID:10009721-1784678400-1784851199@bayarearegistry.com
SUMMARY:Virtual | 11th International Congress on Cancer Science and Radiology 2026
DESCRIPTION:Greetings from Inovine Scientific Meetings. Inovine Scientific Meetings\, the world class open access publisher & scientific event’s organizer is delighted to welcome you for the prestigious “11th International Congress on Cancer Science Radiology” during July 22-23\, 2026\, at Tokyo\, Japan.  \nInfo & Tickets
URL:https://bayarearegistry.com/event/virtual-11th-international-congress-on-cancer-science-and-radiology-2026/
LOCATION:[ Virtual ]\, CA
CATEGORIES:Arts + Culture,Conversations + Speakers + Conferences,Health + Wellness,Virtual
ATTACH;FMTTYPE=image/jpeg:https://bayarearegistry.com/wp-content/uploads/2025/11/cancerscienceradiology_2025_twitterbanner-e1762781521377.jpg
END:VEVENT
BEGIN:VEVENT
DTSTART;VALUE=DATE:20260727
DTEND;VALUE=DATE:20260729
DTSTAMP:20260419T201611
CREATED:20260327T112658Z
LAST-MODIFIED:20260327T112658Z
UID:10010540-1785110400-1785283199@bayarearegistry.com
SUMMARY:16th Global Summit on Diabetes & Endocrinology
DESCRIPTION:Inovine Meetings LLC extends its heartfelt welcome to ‘16th Global Summit on Diabetes & Endocrinology’ that will be held in Paris\, France during July 27-28\, 2026. The conference will be organised around the theme ‘Advancing Frontiers in Diabetes Research and Care’. \nInfo & Tickets
URL:https://bayarearegistry.com/event/16th-global-summit-on-diabetes-endocrinology/
LOCATION:[ Virtual ]\, CA
CATEGORIES:Arts + Culture,Conversations + Speakers + Conferences,Health + Wellness,Virtual
ATTACH;FMTTYPE=image/jpeg:https://bayarearegistry.com/wp-content/uploads/2026/03/diabetesendocrinology_websitebanner5-e1774610622717.jpg
END:VEVENT
BEGIN:VEVENT
DTSTART;TZID=America/Los_Angeles:20260808T110000
DTEND;TZID=America/Los_Angeles:20260808T170000
DTSTAMP:20260419T201611
CREATED:20260411T104017Z
LAST-MODIFIED:20260411T104017Z
UID:10010744-1786186800-1786208400@bayarearegistry.com
SUMMARY:Thrive @ MoAD
DESCRIPTION:Join us every Second Saturday for Thrive @ MoAD\, a free community day sponsored by Kaiser Permanente\, with free admission to all exhibitions! Museums across the globe are increasingly recognized for their important role in promoting personal and social well-being. \nInfo & Tickets
URL:https://bayarearegistry.com/event/thrive-moad-5/
LOCATION:MoAD | Museum of the African Diaspora\, 685 Mission Street\, San Francisco\, CA\, 94105\, United States
CATEGORIES:Arts + Culture,Health + Wellness,San Francisco + South SF Area
ATTACH;FMTTYPE=image/png:https://bayarearegistry.com/wp-content/uploads/2025/12/65fa2091257466c66244ae5a_Community-Free-Day-1-1-e1764605961553.png
ORGANIZER;CN="MoAD | Museum of the African Diaspora":MAILTO:info@moadsf.org
GEO:37.786528;-122.4014628
X-APPLE-STRUCTURED-LOCATION;VALUE=URI;X-ADDRESS=MoAD | Museum of the African Diaspora 685 Mission Street San Francisco CA 94105 United States;X-APPLE-RADIUS=500;X-TITLE=685 Mission Street:geo:-122.4014628,37.786528
END:VEVENT
BEGIN:VEVENT
DTSTART;VALUE=DATE:20261019
DTEND;VALUE=DATE:20261021
DTSTAMP:20260419T201611
CREATED:20260313T082813Z
LAST-MODIFIED:20260313T082813Z
UID:10010510-1792368000-1792540799@bayarearegistry.com
SUMMARY:Hybrid | 25th Global Summit on Nursing Education and Practice (GSNEP 2026)
DESCRIPTION:It is with immense enthusiasm that we invite you to join the 25th Global Summit on Nursing Education and Practice (GSNEP 2026) – a landmark event uniting visionary nursing professionals\, educators\, researchers\, policymakers and healthcare leaders from across the globe. \nSet to take place October 19–20\, 2026 in Los Angeles\, USA and virtually worldwide\, GSNEP 2026 serves as a vibrant platform for innovation\, collaboration and transformation in nursing and healthcare education. \nInfo & Tickets
URL:https://bayarearegistry.com/event/hybrid-25th-global-summit-on-nursing-education-and-practice-gsnep-2026/
LOCATION:[ Virtual ]\, CA
CATEGORIES:Arts + Culture,Conversations + Speakers + Conferences,Health + Wellness,Virtual
ATTACH;FMTTYPE=image/png:https://bayarearegistry.com/wp-content/uploads/2026/03/25th_nursing_education_and_practice_los_angeles3-e1773390436582.png
END:VEVENT
BEGIN:VEVENT
DTSTART;VALUE=DATE:20261019
DTEND;VALUE=DATE:20261021
DTSTAMP:20260419T201611
CREATED:20260330T101904Z
LAST-MODIFIED:20260330T102336Z
UID:10010546-1792368000-1792540799@bayarearegistry.com
SUMMARY:Virtual | 24th Global Summit on Nursing Education & Health Care
DESCRIPTION:We are honored to invite you to the 24th Global Summit on Nursing Education & Health Care\, scheduled to take place on October 19–20\, 2026\, in the vibrant city of Tokyo\, Japan. \nInfo & Tickets
URL:https://bayarearegistry.com/event/24th-global-summit-on-nursing-education-health-care/
LOCATION:[ Virtual ]\, CA
CATEGORIES:Arts + Culture,Conversations + Speakers + Conferences,Health + Wellness,Virtual
ATTACH;FMTTYPE=image/jpeg:https://bayarearegistry.com/wp-content/uploads/2026/03/nursingeducationhealthcarewebsitebanner3min-e1774865873894.jpg
END:VEVENT
BEGIN:VEVENT
DTSTART;VALUE=DATE:20261019
DTEND;VALUE=DATE:20261021
DTSTAMP:20260419T201611
CREATED:20260401T061847Z
LAST-MODIFIED:20260401T062100Z
UID:10010553-1792368000-1792540799@bayarearegistry.com
SUMMARY:Virtual | 9th World Conference on Gynecology\, Midwifery & Maternal Health
DESCRIPTION:It is our pleasure to invite you and your team to join as an Speaker or Delegate for the upcoming 9th World Conference on Gynecology\, Midwifery & Maternal Health\, scheduled for October 19–20\, 2026\, in Los Angeles\, USA.\nThis international conference offers a unique platform to connect with leading physicians\, scientists\, clinical researchers\, academic experts and decision-makers in healthcare and biomedical sciences. \nInfo & Tickets
URL:https://bayarearegistry.com/event/virtual-9th-world-conference-on-gynecology-midwifery-maternal-health/
LOCATION:[ Virtual ]\, CA
CATEGORIES:Arts + Culture,Conversations + Speakers + Conferences,Health + Wellness,Virtual
ATTACH;FMTTYPE=image/jpeg:https://bayarearegistry.com/wp-content/uploads/2026/03/gynecology_congress_2026_usa_october-e1775024264987.jpg
END:VEVENT
BEGIN:VEVENT
DTSTART;VALUE=DATE:20261106
DTEND;VALUE=DATE:20261108
DTSTAMP:20260419T201611
CREATED:20260211T140639Z
LAST-MODIFIED:20260211T140639Z
UID:10010233-1793923200-1794095999@bayarearegistry.com
SUMMARY:Hybrid | 2nd International Conference on Neuropsychiatry
DESCRIPTION:We are delighted to welcome you to the 2nd International Conference on Neuropsychiatry\, scheduled for November 06-07\, 2026\, in Dubai\, UAE. This prestigious event will bring together leading experts\, researchers\, and clinicians in the field of neuropsychiatry to explore the intricate connection between the brain and mind. \nInfo & Tickets
URL:https://bayarearegistry.com/event/hybrid-2nd-international-conference-on-neuropsychiatry/
LOCATION:[ Virtual ]\, CA
CATEGORIES:Arts + Culture,Conversations + Speakers + Conferences,Health + Wellness,Virtual
ATTACH;FMTTYPE=image/png:https://bayarearegistry.com/wp-content/uploads/2026/02/neuropsychiatrylogo-e1770818730992.png
END:VEVENT
BEGIN:VEVENT
DTSTART;VALUE=DATE:20261120
DTEND;VALUE=DATE:20261122
DTSTAMP:20260419T201611
CREATED:20260214T074903Z
LAST-MODIFIED:20260214T074903Z
UID:10010239-1795132800-1795305599@bayarearegistry.com
SUMMARY:Virtual | 6th Global Meeting on Diabetes and Endocrinology
DESCRIPTION:The 6th Global Meeting on Diabetes and Endocrinology 2026 is a premier international medical conference taking place on November 20–21\, 2026\, in Bangkok\, Thailand. This global healthcare event brings together endocrinologists\, diabetologists\, researchers\, clinicians\, and industry professionals to discuss the latest advances in diabetes research\, endocrine disorders\, metabolic diseases\, and clinical innovations. The conference features keynote lectures\, scientific sessions\, oral and poster presentations\, and expert panel discussions\, offering excellent opportunities for networking\, collaboration\, and knowledge exchange. Join one of the leading diabetes and endocrinology conferences in 2026 to advance research\, education\, and clinical practice worldwide. \nInfo & Tickets
URL:https://bayarearegistry.com/event/6th-global-meeting-on-diabetes-and-endocrinology/
LOCATION:[ Virtual ]\, CA
CATEGORIES:Arts + Culture,Conversations + Speakers + Conferences,Health + Wellness,Virtual
ATTACH;FMTTYPE=image/png:https://bayarearegistry.com/wp-content/uploads/2026/02/diabeteslogo-e1771055308200.png
END:VEVENT
END:VCALENDAR