BEGIN:VCALENDAR
VERSION:2.0
PRODID:-//BAR | Bay Area Registry - ECPv6.15.20//NONSGML v1.0//EN
CALSCALE:GREGORIAN
METHOD:PUBLISH
X-WR-CALNAME:BAR | Bay Area Registry
X-ORIGINAL-URL:https://bayarearegistry.com
X-WR-CALDESC:Events for BAR | Bay Area Registry
REFRESH-INTERVAL;VALUE=DURATION:PT1H
X-Robots-Tag:noindex
X-PUBLISHED-TTL:PT1H
BEGIN:VTIMEZONE
TZID:America/Los_Angeles
BEGIN:DAYLIGHT
TZOFFSETFROM:-0800
TZOFFSETTO:-0700
TZNAME:PDT
DTSTART:20250309T100000
END:DAYLIGHT
BEGIN:STANDARD
TZOFFSETFROM:-0700
TZOFFSETTO:-0800
TZNAME:PST
DTSTART:20251102T090000
END:STANDARD
BEGIN:DAYLIGHT
TZOFFSETFROM:-0800
TZOFFSETTO:-0700
TZNAME:PDT
DTSTART:20260308T100000
END:DAYLIGHT
BEGIN:STANDARD
TZOFFSETFROM:-0700
TZOFFSETTO:-0800
TZNAME:PST
DTSTART:20261101T090000
END:STANDARD
BEGIN:DAYLIGHT
TZOFFSETFROM:-0800
TZOFFSETTO:-0700
TZNAME:PDT
DTSTART:20270314T100000
END:DAYLIGHT
BEGIN:STANDARD
TZOFFSETFROM:-0700
TZOFFSETTO:-0800
TZNAME:PST
DTSTART:20271107T090000
END:STANDARD
END:VTIMEZONE
BEGIN:VEVENT
DTSTART;VALUE=DATE:20260418
DTEND;VALUE=DATE:20260420
DTSTAMP:20260419T183908
CREATED:20260405T075237Z
LAST-MODIFIED:20260405T075237Z
UID:10010628-1776470400-1776643199@bayarearegistry.com
SUMMARY:2026 US Quadball Cup
DESCRIPTION:US Quadball Cup is the pinnacle of our season—the national championship that brings together every corner of the quadball community. Featuring four divisions and open to all USQ teams\, the Cup showcases over 50 teams and over 1\,000 athletes each year. Powered by the dedication of our volunteers and cheered on by our fans\, it’s the ultimate celebration of competition\, community\, and sport. \nInfo & Tickets
URL:https://bayarearegistry.com/event/2026-us-quadball-cup/
LOCATION:Placer Valley Sports Complex\, 2600 Westbrook Blvd\, Roseville\, 95747
CATEGORIES:Arts + Culture,Sacramento Area,Sports + Outdoors
ATTACH;FMTTYPE=image/png:https://bayarearegistry.com/wp-content/uploads/2026/04/day_152_medium-e1775375429763.png
END:VEVENT
BEGIN:VEVENT
DTSTART;TZID=America/Los_Angeles:20260419T153000
DTEND;TZID=America/Los_Angeles:20260419T200000
DTSTAMP:20260419T183908
CREATED:20260415T123738Z
LAST-MODIFIED:20260415T124742Z
UID:10010773-1776612600-1776628800@bayarearegistry.com
SUMMARY:Skate The Town
DESCRIPTION:Lace up your skates and roll into the Henry J for Skate the Town\, a fun-filled evening of music\, movement\, and community inside the historic HJK Arena. Whether you’re bringing the whole family or ready to hit the floor for an adults-only skate\, there’s a session for everyone to enjoy. \nInfo & Tickets
URL:https://bayarearegistry.com/event/skate-the-town/
LOCATION:Henry J. Kaiser Center for the Arts\, 10 10th Street\, Oakland\, 94607\, United States
CATEGORIES:Arts + Culture,East Bay,Oakland,Sports + Outdoors
ATTACH;FMTTYPE=image/webp:https://bayarearegistry.com/wp-content/uploads/2026/04/Skate-the-Town-e1776256592473.webp
END:VEVENT
BEGIN:VEVENT
DTSTART;TZID=America/Los_Angeles:20260517T100000
DTEND;TZID=America/Los_Angeles:20260517T130000
DTSTAMP:20260419T183908
CREATED:20260405T080747Z
LAST-MODIFIED:20260405T080747Z
UID:10010630-1779012000-1779022800@bayarearegistry.com
SUMMARY:TopGolf Scholarship Fundraiser
DESCRIPTION:Join Sigma Gamma Rho Sorority\, Inc. – Beta Theta Sigma Chapter at Topgolf ⛳ for an afternoon of fun\, competition\, and community impact as we raise funds for college scholarships. \nInfo & Tickets
URL:https://bayarearegistry.com/event/topgolf-scholarship-fundraiser/
LOCATION:TopGolf Burlingame\, 258 Anza Blvd\, Burlingame\, 94010
CATEGORIES:Arts + Culture,Galas + Awards + Fundraiser,Sports + Outdoors
ATTACH;FMTTYPE=image/webp:https://bayarearegistry.com/wp-content/uploads/2026/04/744bafdf-7d92-4bb9-9990-b4d3b743276f-e1775376322503.webp
END:VEVENT
BEGIN:VEVENT
DTSTART;TZID=America/Los_Angeles:20260530T083000
DTEND;TZID=America/Los_Angeles:20260530T130000
DTSTAMP:20260419T183908
CREATED:20260327T111214Z
LAST-MODIFIED:20260327T111214Z
UID:10010538-1780129800-1780146000@bayarearegistry.com
SUMMARY:Walking to Live/Celebrating Life
DESCRIPTION:For more fun and impact\, create your own Walk Team to raise money and win Prizes! Register together or designate a team member to register for the group. Have all team members’ full contact info ready for sign-up! Tickets are $40/person. OR have each team member sign up and indicate which team. \nInfo & Tickets
URL:https://bayarearegistry.com/event/walking-to-live-celebrating-life/
LOCATION:Martin Luther King Jr. Regional Shoreline\, Entrance on Swan Way Kingfisher site\, Oakland\, 94621
CATEGORIES:Arts + Culture,East Bay,Health + Wellness,Oakland,Sports + Outdoors
ATTACH;FMTTYPE=image/png:https://bayarearegistry.com/wp-content/uploads/2026/03/w2l_flyer_final-e1774609904112.png
END:VEVENT
BEGIN:VEVENT
DTSTART;VALUE=DATE:20260619
DTEND;VALUE=DATE:20260713
DTSTAMP:20260419T183908
CREATED:20251123T115540Z
LAST-MODIFIED:20260309T215347Z
UID:10009753-1781827200-1783900799@bayarearegistry.com
SUMMARY:Alameda County Fair
DESCRIPTION:Save BIG on Fair thrills during the Advance Savings Sale. Save with reduced prices through June 18\, 2026\, midnight. Offer applies to Fair admission\, carnival wristbands\, concerts and the annual Wine Fest or save more with a Season Pass and pay less than $3 a day for admission. \nInfo & Tickets
URL:https://bayarearegistry.com/event/alameda-county-fair/
LOCATION:Alameda County Fairgrounds\, 2005 Valley Ave Gate 8\, Pleasanton\, 94566
CATEGORIES:Alameda,Arts + Culture,East Bay,Fairs + Festivals,Sports + Outdoors
ATTACH;FMTTYPE=image/jpeg:https://bayarearegistry.com/wp-content/uploads/2025/11/260254_SaffireImageHeader_619x380_px-e1763898903352.jpg
GEO:37.6619301;-121.886913
X-APPLE-STRUCTURED-LOCATION;VALUE=URI;X-ADDRESS=Alameda County Fairgrounds 2005 Valley Ave Gate 8 Pleasanton 94566;X-APPLE-RADIUS=500;X-TITLE=2005 Valley Ave Gate 8:geo:-121.886913,37.6619301
END:VEVENT
END:VCALENDAR