BEGIN:VCALENDAR
VERSION:2.0
PRODID:-//BAR | Bay Area Registry - ECPv6.15.20//NONSGML v1.0//EN
CALSCALE:GREGORIAN
METHOD:PUBLISH
X-WR-CALNAME:BAR | Bay Area Registry
X-ORIGINAL-URL:https://bayarearegistry.com
X-WR-CALDESC:Events for BAR | Bay Area Registry
REFRESH-INTERVAL;VALUE=DURATION:PT1H
X-Robots-Tag:noindex
X-PUBLISHED-TTL:PT1H
BEGIN:VTIMEZONE
TZID:America/Los_Angeles
BEGIN:DAYLIGHT
TZOFFSETFROM:-0800
TZOFFSETTO:-0700
TZNAME:PDT
DTSTART:20250309T100000
END:DAYLIGHT
BEGIN:STANDARD
TZOFFSETFROM:-0700
TZOFFSETTO:-0800
TZNAME:PST
DTSTART:20251102T090000
END:STANDARD
BEGIN:DAYLIGHT
TZOFFSETFROM:-0800
TZOFFSETTO:-0700
TZNAME:PDT
DTSTART:20260308T100000
END:DAYLIGHT
BEGIN:STANDARD
TZOFFSETFROM:-0700
TZOFFSETTO:-0800
TZNAME:PST
DTSTART:20261101T090000
END:STANDARD
BEGIN:DAYLIGHT
TZOFFSETFROM:-0800
TZOFFSETTO:-0700
TZNAME:PDT
DTSTART:20270314T100000
END:DAYLIGHT
BEGIN:STANDARD
TZOFFSETFROM:-0700
TZOFFSETTO:-0800
TZNAME:PST
DTSTART:20271107T090000
END:STANDARD
END:VTIMEZONE
BEGIN:VEVENT
DTSTART;TZID=America/Los_Angeles:20260220T200000
DTEND;TZID=America/Los_Angeles:20260221T000000
DTSTAMP:20260419T165504
CREATED:20260201T132118Z
LAST-MODIFIED:20260222T213349Z
UID:10010139-1771617600-1771632000@bayarearegistry.com
SUMMARY:New R&B Friday Feb 20 W/DJ Mind Motion at 1945 Lounge SF Celebrating BHM
DESCRIPTION:Get ready to vibe with DJ Mind Motion at 1945 Lounge SF for New R&B Friday – celebrating Black History Month in style! \nInfo & Tickets
URL:https://bayarearegistry.com/event/new-rb-friday-feb-20-w-dj-mind-motion-at-1945-lounge-sf-celebrating-bhm/
LOCATION:1945 Restaurant Bar and Lounge\, 5 Leland Avenue\, San Francisco\, 94134
CATEGORIES:Arts + Culture,BHM 2026,Fairs + Festivals,San Francisco + South SF Area
ATTACH;FMTTYPE=image/png:https://bayarearegistry.com/wp-content/uploads/2026/02/New-RB-Friday-Feb-20-w-DJ-Mind-Motion-at-1945-Lounge-SF-Celebrating-BHM-e1769952018315.png
END:VEVENT
END:VCALENDAR