BEGIN:VCALENDAR
VERSION:2.0
PRODID:-//BAR | Bay Area Registry - ECPv6.15.20//NONSGML v1.0//EN
CALSCALE:GREGORIAN
METHOD:PUBLISH
X-WR-CALNAME:BAR | Bay Area Registry
X-ORIGINAL-URL:https://bayarearegistry.com
X-WR-CALDESC:Events for BAR | Bay Area Registry
REFRESH-INTERVAL;VALUE=DURATION:PT1H
X-Robots-Tag:noindex
X-PUBLISHED-TTL:PT1H
BEGIN:VTIMEZONE
TZID:America/Los_Angeles
BEGIN:DAYLIGHT
TZOFFSETFROM:-0800
TZOFFSETTO:-0700
TZNAME:PDT
DTSTART:20250309T100000
END:DAYLIGHT
BEGIN:STANDARD
TZOFFSETFROM:-0700
TZOFFSETTO:-0800
TZNAME:PST
DTSTART:20251102T090000
END:STANDARD
BEGIN:DAYLIGHT
TZOFFSETFROM:-0800
TZOFFSETTO:-0700
TZNAME:PDT
DTSTART:20260308T100000
END:DAYLIGHT
BEGIN:STANDARD
TZOFFSETFROM:-0700
TZOFFSETTO:-0800
TZNAME:PST
DTSTART:20261101T090000
END:STANDARD
BEGIN:DAYLIGHT
TZOFFSETFROM:-0800
TZOFFSETTO:-0700
TZNAME:PDT
DTSTART:20270314T100000
END:DAYLIGHT
BEGIN:STANDARD
TZOFFSETFROM:-0700
TZOFFSETTO:-0800
TZNAME:PST
DTSTART:20271107T090000
END:STANDARD
END:VTIMEZONE
BEGIN:VEVENT
DTSTART;TZID=America/Los_Angeles:20260421T150000
DTEND;TZID=America/Los_Angeles:20260421T170000
DTSTAMP:20260424T115826
CREATED:20260420T151928Z
LAST-MODIFIED:20260420T151928Z
UID:10010873-1776783600-1776790800@bayarearegistry.com
SUMMARY:Taste the World’s First Beer Made with Atmospheric Carbon + DAC Brewery Tour
DESCRIPTION:What if the CO₂ in your drink didn’t come from industrial supply chains—but directly from the air? \n​During San Francisco Climate Week\, Aircapture invites you inside Almanac Beer Co. for a behind-the-scenes look at a live direct air capture (DAC) system integrated into a working brewery. In addition to the guided tours\, the space will be open for a more casual\, drop-in experience. \nInfo & Tickets
URL:https://bayarearegistry.com/event/taste-the-worlds-first-beer-made-with-atmospheric-carbon-dac-brewery-tour/
LOCATION:Almanac Adventureland & Brewery\, 651 W Tower Ave\, Alameda\, 94501
CATEGORIES:Alameda,Arts + Culture,East Bay,Food + Drink
ATTACH;FMTTYPE=image/png:https://bayarearegistry.com/wp-content/uploads/2026/04/screenshot_20260417_at_12.26.18pm-e1776698343115.png
END:VEVENT
END:VCALENDAR