BEGIN:VCALENDAR
VERSION:2.0
PRODID:-//BAR | Bay Area Registry - ECPv6.15.20//NONSGML v1.0//EN
CALSCALE:GREGORIAN
METHOD:PUBLISH
X-WR-CALNAME:BAR | Bay Area Registry
X-ORIGINAL-URL:https://bayarearegistry.com
X-WR-CALDESC:Events for BAR | Bay Area Registry
REFRESH-INTERVAL;VALUE=DURATION:PT1H
X-Robots-Tag:noindex
X-PUBLISHED-TTL:PT1H
BEGIN:VTIMEZONE
TZID:America/Los_Angeles
BEGIN:DAYLIGHT
TZOFFSETFROM:-0800
TZOFFSETTO:-0700
TZNAME:PDT
DTSTART:20250309T100000
END:DAYLIGHT
BEGIN:STANDARD
TZOFFSETFROM:-0700
TZOFFSETTO:-0800
TZNAME:PST
DTSTART:20251102T090000
END:STANDARD
BEGIN:DAYLIGHT
TZOFFSETFROM:-0800
TZOFFSETTO:-0700
TZNAME:PDT
DTSTART:20260308T100000
END:DAYLIGHT
BEGIN:STANDARD
TZOFFSETFROM:-0700
TZOFFSETTO:-0800
TZNAME:PST
DTSTART:20261101T090000
END:STANDARD
BEGIN:DAYLIGHT
TZOFFSETFROM:-0800
TZOFFSETTO:-0700
TZNAME:PDT
DTSTART:20270314T100000
END:DAYLIGHT
BEGIN:STANDARD
TZOFFSETFROM:-0700
TZOFFSETTO:-0800
TZNAME:PST
DTSTART:20271107T090000
END:STANDARD
END:VTIMEZONE
BEGIN:VEVENT
DTSTART;VALUE=DATE:20260403
DTEND;VALUE=DATE:20260405
DTSTAMP:20260420T050308
CREATED:20260330T102925Z
LAST-MODIFIED:20260405T082444Z
UID:10010547-1775174400-1775347199@bayarearegistry.com
SUMMARY:Patterns: AXIS Dance Company 2026
DESCRIPTION:Every body carries patterns of movement\, habit\, culture\, identity\, and history. You’re invited to experience Patterns\, a new performance from AXIS Dance Company that explores how movement shapes the way we connect. Through a series of live dance and film\, Patterns celebrates individuality as an expression of the infinite ways we move through the world.   \nInfo & Tickets
URL:https://bayarearegistry.com/event/patterns-axis-dance-company-2026/
LOCATION:Lesher Center for the Arts\, 1601 Civic Drive\, Walnut Creek\, CA\, 94596\, United States
CATEGORIES:Arts + Culture,Dance,East Bay,Performing Arts,Walnut Creek + Concord Area
ATTACH;FMTTYPE=image/png:https://bayarearegistry.com/wp-content/uploads/2026/03/Patterns-AXIS-Dance-Company-2026-e1774866551257.png
GEO:37.9012872;-122.0630336
X-APPLE-STRUCTURED-LOCATION;VALUE=URI;X-ADDRESS=Lesher Center for the Arts 1601 Civic Drive Walnut Creek CA 94596 United States;X-APPLE-RADIUS=500;X-TITLE=1601 Civic Drive:geo:-122.0630336,37.9012872
END:VEVENT
END:VCALENDAR