BEGIN:VCALENDAR
VERSION:2.0
PRODID:-//BAR | Bay Area Registry - ECPv6.15.20//NONSGML v1.0//EN
CALSCALE:GREGORIAN
METHOD:PUBLISH
X-ORIGINAL-URL:https://bayarearegistry.com
X-WR-CALDESC:Events for BAR | Bay Area Registry
REFRESH-INTERVAL;VALUE=DURATION:PT1H
X-Robots-Tag:noindex
X-PUBLISHED-TTL:PT1H
BEGIN:VTIMEZONE
TZID:America/Los_Angeles
BEGIN:DAYLIGHT
TZOFFSETFROM:-0800
TZOFFSETTO:-0700
TZNAME:PDT
DTSTART:20250309T100000
END:DAYLIGHT
BEGIN:STANDARD
TZOFFSETFROM:-0700
TZOFFSETTO:-0800
TZNAME:PST
DTSTART:20251102T090000
END:STANDARD
BEGIN:DAYLIGHT
TZOFFSETFROM:-0800
TZOFFSETTO:-0700
TZNAME:PDT
DTSTART:20260308T100000
END:DAYLIGHT
BEGIN:STANDARD
TZOFFSETFROM:-0700
TZOFFSETTO:-0800
TZNAME:PST
DTSTART:20261101T090000
END:STANDARD
BEGIN:DAYLIGHT
TZOFFSETFROM:-0800
TZOFFSETTO:-0700
TZNAME:PDT
DTSTART:20270314T100000
END:DAYLIGHT
BEGIN:STANDARD
TZOFFSETFROM:-0700
TZOFFSETTO:-0800
TZNAME:PST
DTSTART:20271107T090000
END:STANDARD
END:VTIMEZONE
BEGIN:VEVENT
DTSTART;TZID=America/Los_Angeles:20260403T180000
DTEND;TZID=America/Los_Angeles:20260403T210000
DTSTAMP:20260419T210914
CREATED:20260330T103443Z
LAST-MODIFIED:20260405T082400Z
UID:10010548-1775239200-1775250000@bayarearegistry.com
SUMMARY:Coretta's King: An Artist's Perspective
DESCRIPTION:Coretta’s King\, a multidisciplinary performance honoring the life\, legacy\, and artistic spirit of Coretta Scott King will be presented by NorCal MLK Foundation on Friday\, April 3\, 2026\, at the historic Ruth Williams Bayview Opera House in San Francisco in collaboration with Destiny Muhammad\, Ruth Williams Bayview Opera House\, the San Francisco Chapter of The Links Incorporated\, San Francisco Foundation FAITHS Program\, and Zellerbach Family Foundation. \nInfo & Tickets
URL:https://bayarearegistry.com/event/corettas-king-an-artists-perspective/
LOCATION:Bayview Opera House Ruth Williams Memorial Theatre\, 4705 Third Street\, San Francisco\, CA\, 94124\, United States
CATEGORIES:Arts + Culture,Live Music,Performing Arts,San Francisco + South SF Area
ATTACH;FMTTYPE=image/png:https://bayarearegistry.com/wp-content/uploads/2026/03/Corettas-King-An-Artists-Perspective-e1774866843701.png
ORGANIZER;CN="Bayview Opera House Ruth Williams Memorial Theatre":MAILTO:info.bvoh@bvoh.org
GEO:37.7349888;-122.3903196
X-APPLE-STRUCTURED-LOCATION;VALUE=URI;X-ADDRESS=Bayview Opera House Ruth Williams Memorial Theatre 4705 Third Street San Francisco CA 94124 United States;X-APPLE-RADIUS=500;X-TITLE=4705 Third Street:geo:-122.3903196,37.7349888
END:VEVENT
BEGIN:VEVENT
DTSTART;TZID=America/Los_Angeles:20260218T150000
DTEND;TZID=America/Los_Angeles:20260218T190000
DTSTAMP:20260419T210914
CREATED:20260201T133637Z
LAST-MODIFIED:20260220T155712Z
UID:10010141-1771426800-1771441200@bayarearegistry.com
SUMMARY:COMMUNITY REIMAGINED: Celebrating Black Excellence
DESCRIPTION:Join us in person for an inspiring event all about honoring and uplifting Black excellence! It’s a chance to connect\, celebrate amazing achievements\, and reimagine our community together. Come vibe with great people\, powerful stories\, and a shared vision for a brighter future. You won’t want to miss this uplifting experience! \nInfo & Tickets
URL:https://bayarearegistry.com/event/community-reimagined-celebrating-black-excellence/
LOCATION:Bayview Opera House Ruth Williams Memorial Theatre\, 4705 Third Street\, San Francisco\, CA\, 94124\, United States
CATEGORIES:Arts + Culture,Food + Drink,Live Music,Performing Arts,San Francisco + South SF Area
ATTACH;FMTTYPE=image/png:https://bayarearegistry.com/wp-content/uploads/2026/02/COMMUNITY-REIMAGINED-Celebrating-Black-Excellence-e1769952924378.png
ORGANIZER;CN="Bayview Opera House Ruth Williams Memorial Theatre":MAILTO:info.bvoh@bvoh.org
GEO:37.7349888;-122.3903196
X-APPLE-STRUCTURED-LOCATION;VALUE=URI;X-ADDRESS=Bayview Opera House Ruth Williams Memorial Theatre 4705 Third Street San Francisco CA 94124 United States;X-APPLE-RADIUS=500;X-TITLE=4705 Third Street:geo:-122.3903196,37.7349888
END:VEVENT
END:VCALENDAR