BEGIN:VCALENDAR
VERSION:2.0
PRODID:-//BAR | Bay Area Registry - ECPv6.15.20//NONSGML v1.0//EN
CALSCALE:GREGORIAN
METHOD:PUBLISH
X-ORIGINAL-URL:https://bayarearegistry.com
X-WR-CALDESC:Events for BAR | Bay Area Registry
REFRESH-INTERVAL;VALUE=DURATION:PT1H
X-Robots-Tag:noindex
X-PUBLISHED-TTL:PT1H
BEGIN:VTIMEZONE
TZID:America/Los_Angeles
BEGIN:DAYLIGHT
TZOFFSETFROM:-0800
TZOFFSETTO:-0700
TZNAME:PDT
DTSTART:20250309T100000
END:DAYLIGHT
BEGIN:STANDARD
TZOFFSETFROM:-0700
TZOFFSETTO:-0800
TZNAME:PST
DTSTART:20251102T090000
END:STANDARD
BEGIN:DAYLIGHT
TZOFFSETFROM:-0800
TZOFFSETTO:-0700
TZNAME:PDT
DTSTART:20260308T100000
END:DAYLIGHT
BEGIN:STANDARD
TZOFFSETFROM:-0700
TZOFFSETTO:-0800
TZNAME:PST
DTSTART:20261101T090000
END:STANDARD
BEGIN:DAYLIGHT
TZOFFSETFROM:-0800
TZOFFSETTO:-0700
TZNAME:PDT
DTSTART:20270314T100000
END:DAYLIGHT
BEGIN:STANDARD
TZOFFSETFROM:-0700
TZOFFSETTO:-0800
TZNAME:PST
DTSTART:20271107T090000
END:STANDARD
END:VTIMEZONE
BEGIN:VEVENT
DTSTART;TZID=America/Los_Angeles:20260205T170000
DTEND;TZID=America/Los_Angeles:20260205T170000
DTSTAMP:20260421T165244
CREATED:20260122T125101Z
LAST-MODIFIED:20260208T155503Z
UID:10010004-1770310800-1770310800@bayarearegistry.com
SUMMARY:THE MEETUP: Bay Area
DESCRIPTION:THE MEETUP: Bay Area\, presented by AfroTech\, brings innovators\, creatives\, and industry leaders together for impactful conversations and real connections. This event offers a vibrant space to network\, get inspired\, and turn introductions into collaborations across tech and culture. \nInfo & Tickets
URL:https://bayarearegistry.com/event/the-meetup-bay-area/
LOCATION:Eria Events\, 562 Bridgeway\, Sausalito\, 94965
CATEGORIES:Arts + Culture,Conversations + Speakers + Conferences,North Bay,Sausalito
ATTACH;FMTTYPE=image/jpeg:https://bayarearegistry.com/wp-content/uploads/2026/01/1400x1750_1-1-e1769086240672.jpg
END:VEVENT
END:VCALENDAR