BEGIN:VCALENDAR
VERSION:2.0
PRODID:-//BAR | Bay Area Registry - ECPv6.15.20//NONSGML v1.0//EN
CALSCALE:GREGORIAN
METHOD:PUBLISH
X-WR-CALNAME:BAR | Bay Area Registry
X-ORIGINAL-URL:https://bayarearegistry.com
X-WR-CALDESC:Events for BAR | Bay Area Registry
REFRESH-INTERVAL;VALUE=DURATION:PT1H
X-Robots-Tag:noindex
X-PUBLISHED-TTL:PT1H
BEGIN:VTIMEZONE
TZID:America/Los_Angeles
BEGIN:DAYLIGHT
TZOFFSETFROM:-0800
TZOFFSETTO:-0700
TZNAME:PDT
DTSTART:20250309T100000
END:DAYLIGHT
BEGIN:STANDARD
TZOFFSETFROM:-0700
TZOFFSETTO:-0800
TZNAME:PST
DTSTART:20251102T090000
END:STANDARD
BEGIN:DAYLIGHT
TZOFFSETFROM:-0800
TZOFFSETTO:-0700
TZNAME:PDT
DTSTART:20260308T100000
END:DAYLIGHT
BEGIN:STANDARD
TZOFFSETFROM:-0700
TZOFFSETTO:-0800
TZNAME:PST
DTSTART:20261101T090000
END:STANDARD
BEGIN:DAYLIGHT
TZOFFSETFROM:-0800
TZOFFSETTO:-0700
TZNAME:PDT
DTSTART:20270314T100000
END:DAYLIGHT
BEGIN:STANDARD
TZOFFSETFROM:-0700
TZOFFSETTO:-0800
TZNAME:PST
DTSTART:20271107T090000
END:STANDARD
END:VTIMEZONE
BEGIN:VEVENT
DTSTART;TZID=America/Los_Angeles:20260417T173000
DTEND;TZID=America/Los_Angeles:20260417T173000
DTSTAMP:20260421T195622
CREATED:20260405T133520Z
LAST-MODIFIED:20260418T071009Z
UID:10010637-1776447000-1776447000@bayarearegistry.com
SUMMARY:Cal Performances’ 2026 Gala
DESCRIPTION:Cal Performances invites you to join us on Friday\, April 17\, 2026\, for an incredible evening featuring The Joffrey Ballet. \nOur spring Gala will be a highlight of the 2025–26 Bay Area cultural season that you won’t want to miss! The Joffrey Ballet will present Alexander Ekman’s creatively bold Midsummer Night’s Dream set to a score by composer Mikael Karlsson and featuring Swedish indie rock sensation Anna von Hausswolff in an event to remember! We also will have the honor of presenting The Joffrey Ballet’s Artistic Director\, Ashley Wheater MBE\, with the Cal Performances Award of Distinction in the Performing Arts. \nInfo & Tickets
URL:https://bayarearegistry.com/event/cal-performances-2026-gala/
LOCATION:Zellerbach Hall\, 2499 Bancroft St.\, Berkeley\, CA\, 94720\, United States
CATEGORIES:Arts + Culture,Berkeley,Dance,East Bay,Performing Arts
ATTACH;FMTTYPE=image/jpeg:https://bayarearegistry.com/wp-content/uploads/2026/04/gala-2626-1920x900-1-scaled-e1775396113734.jpg
ORGANIZER;CN="Cal Performances":MAILTO:tickets@calperformances.org
GEO:37.8687417;-122.2591735
X-APPLE-STRUCTURED-LOCATION;VALUE=URI;X-ADDRESS=Zellerbach Hall 2499 Bancroft St. Berkeley CA 94720 United States;X-APPLE-RADIUS=500;X-TITLE=2499 Bancroft St.:geo:-122.2591735,37.8687417
END:VEVENT
BEGIN:VEVENT
DTSTART;VALUE=DATE:20260417
DTEND;VALUE=DATE:20260420
DTSTAMP:20260421T195622
CREATED:20260405T133938Z
LAST-MODIFIED:20260421T152942Z
UID:10010638-1776384000-1776643199@bayarearegistry.com
SUMMARY:The Joffrey Ballet
DESCRIPTION:Straying far from Shakespeare’s familiar path\, the peerless Joffrey Ballet returns to Berkeley with Alexander Ekman’s daring and exuberant Midsummer Night’s Dream\, a mind-bending trip to a surreal realm of unearthly delights. This “odd\, wonderful\, provocative and utterly original work” (Chicago Sun Times) begins during the traditional Scandinavian summer solstice festival—the dancers celebrating a day of revelry and romance under the maypole—but soon blossoms into a sensual\, otherworldly fantasy. Featuring Swedish indie rock sensation Anna von Hausswolff and performed to a score by composer Mikael Karlsson\, Midsummer is a bold fusion of classical and contemporary ballet that artfully blurs the line between the real and the imagined\, and makes us wonder\, is it all a dream? \nInfo & Tickets
URL:https://bayarearegistry.com/event/the-joffrey-ballet/
LOCATION:Zellerbach Hall\, 2499 Bancroft St.\, Berkeley\, CA\, 94720\, United States
CATEGORIES:Arts + Culture,Berkeley,Dance,East Bay,Live Music,Performing Arts
ATTACH;FMTTYPE=image/jpeg:https://bayarearegistry.com/wp-content/uploads/2026/04/the-joffrey-ballet-midsummer-nights-dream-2-1920x900-1-e1775396372458.jpg
ORGANIZER;CN="Cal Performances":MAILTO:tickets@calperformances.org
GEO:37.8687417;-122.2591735
X-APPLE-STRUCTURED-LOCATION;VALUE=URI;X-ADDRESS=Zellerbach Hall 2499 Bancroft St. Berkeley CA 94720 United States;X-APPLE-RADIUS=500;X-TITLE=2499 Bancroft St.:geo:-122.2591735,37.8687417
END:VEVENT
BEGIN:VEVENT
DTSTART;VALUE=DATE:20260407
DTEND;VALUE=DATE:20260413
DTSTAMP:20260421T195622
CREATED:20260403T194609Z
LAST-MODIFIED:20260414T160729Z
UID:10010604-1775520000-1776038399@bayarearegistry.com
SUMMARY:Alvin Ailey American Dance Theater
DESCRIPTION:From its first public performances in 1958\, to the premiere of the masterpiece Revelations in 1960\, through the struggles of touring in the Civil Rights Movement\, to the tragic loss of its founder in 1989—across so much social upheaval and cultural change\, Alvin Ailey American Dance Theater has thrived as a model of Black resilience and unparalleled artistic excellence. \nThis season\, celebrate the company’s first Berkeley appearances under new artistic director Alicia Graf Mack. With brand-new commissions from next-generation creators and beloved works by Ailey dancers past and present\, this revered institution continues to embody the values and vision of its founder through performances of exceptional power\, beauty\, and grace. \nInfo & Tickets
URL:https://bayarearegistry.com/event/alvin-ailey-american-dance-theater/
LOCATION:Zellerbach Hall\, 2499 Bancroft St.\, Berkeley\, CA\, 94720\, United States
CATEGORIES:Arts + Culture,Berkeley,Dance,East Bay,Performing Arts
ATTACH;FMTTYPE=image/jpeg:https://bayarearegistry.com/wp-content/uploads/2026/04/imgi_3_alvin-ailey-american-dance-theater-2526-2-1920x900-1-e1775245563184.jpg
ORGANIZER;CN="Cal Performances":MAILTO:tickets@calperformances.org
GEO:37.8687417;-122.2591735
X-APPLE-STRUCTURED-LOCATION;VALUE=URI;X-ADDRESS=Zellerbach Hall 2499 Bancroft St. Berkeley CA 94720 United States;X-APPLE-RADIUS=500;X-TITLE=2499 Bancroft St.:geo:-122.2591735,37.8687417
END:VEVENT
BEGIN:VEVENT
DTSTART;VALUE=DATE:20260227
DTEND;VALUE=DATE:20260302
DTSTAMP:20260421T195622
CREATED:20260215T171001Z
LAST-MODIFIED:20260302T135517Z
UID:10010348-1772150400-1772409599@bayarearegistry.com
SUMMARY:Yaa Samar! Dance Theatre
DESCRIPTION:Conceived\, written\, and directed by choreographer Samar Haddad King\, Gathering explores themes of love\, loss\, trauma\, and dislocation. Through movement\, text\, song\, and puppetry\, an international cohort of collaborating artists tells a fictional story of a village under siege\, and one woman’s struggle to reconcile her fragmented memories. Part staged work\, part interactive experience\, Gathering invites audiences to join as participants and witnesses in the collective action. \nInfo & Tickets
URL:https://bayarearegistry.com/event/yaa-samar-dance-theatre/
LOCATION:Zellerbach Playhouse\, UC Berkeley Campus\, Berkeley\, CA\, United States
CATEGORIES:Arts + Culture,Berkeley,Dance,East Bay,Performing Arts
ATTACH;FMTTYPE=image/jpeg:https://bayarearegistry.com/wp-content/uploads/2026/02/yaa-samar-dance-theatre-gathering-3-1920x900-1-e1771175395546.jpg
ORGANIZER;CN="Cal Performances":MAILTO:tickets@calperformances.org
GEO:37.8739132;-122.2505629
X-APPLE-STRUCTURED-LOCATION;VALUE=URI;X-ADDRESS=Zellerbach Playhouse UC Berkeley Campus Berkeley CA United States;X-APPLE-RADIUS=500;X-TITLE=UC Berkeley Campus:geo:-122.2505629,37.8739132
END:VEVENT
BEGIN:VEVENT
DTSTART;TZID=America/Los_Angeles:20260221T200000
DTEND;TZID=America/Los_Angeles:20260221T200000
DTSTAMP:20260421T195622
CREATED:20251201T151621Z
LAST-MODIFIED:20260223T150609Z
UID:10009889-1771704000-1771704000@bayarearegistry.com
SUMMARY:Somi*
DESCRIPTION:Riveting vocalist and composer Somi Kakoma\, known simply as “Somi\,” is truly a jazz artist for our globally connected times. \nThe Midwestern daughter of parents who emigrated from Rwanda and Uganda\, she found her musical voice traversing cultural bridges between Africa and the US\, weaving Afropop\, soul\, and jazz into her sumptuous\, elegant\, deeply grooving body of work. A return to her singer-songwriter roots\, the music on her latest release was composed in Lagos\, Dakar\, Paris\, and New York\, offering a sonic travelogue that weaves deeply personal storytelling with modern jazz and African sensibilities. \nInfo & Tickets
URL:https://bayarearegistry.com/event/somi/
LOCATION:Zellerbach Playhouse\, UC Berkeley Campus\, Berkeley\, CA\, United States
CATEGORIES:Arts + Culture,Berkeley,East Bay,Live Music,Performing Arts
ATTACH;FMTTYPE=image/jpeg:https://bayarearegistry.com/wp-content/uploads/2025/12/somi-2526-3-1920x900-1-e1764602164175.jpg
ORGANIZER;CN="Cal Performances":MAILTO:tickets@calperformances.org
GEO:37.8739132;-122.2505629
X-APPLE-STRUCTURED-LOCATION;VALUE=URI;X-ADDRESS=Zellerbach Playhouse UC Berkeley Campus Berkeley CA United States;X-APPLE-RADIUS=500;X-TITLE=UC Berkeley Campus:geo:-122.2505629,37.8739132
END:VEVENT
BEGIN:VEVENT
DTSTART;VALUE=DATE:20260221
DTEND;VALUE=DATE:20260223
DTSTAMP:20260421T195622
CREATED:20260215T170651Z
LAST-MODIFIED:20260223T150754Z
UID:10010347-1771632000-1771804799@bayarearegistry.com
SUMMARY:A.I.M by Kyle Abraham
DESCRIPTION:Visionary choreographer Kyle Abraham brings his accomplished A.I.M company to Berkeley for its eagerly anticipated Cal Performances debut\, featuring three works danced to live performances of the music that inspired them. \nAbraham tells stories at the intersection of Black and queer culture\, reflecting on themes of love\, isolation\, and personal and social change. Max Roach’s track “The Gettin\,’” from his Freedom Now Suite infuses the movement on stage with a taut\, edgy energy. If We Were a Love Song features moody music by Nina Simone sung by Crystal Monee Hall\, setting the stage for a series of intimate solos and duets exploring different aspects of love. And the kinetic new 2 X 4 is a collaboration with composer and saxophonist Shelley Washington fueled by contrasts and oppositions. \nInfo & Tickets
URL:https://bayarearegistry.com/event/a-i-m-by-kyle-abraham/
LOCATION:Zellerbach Hall\, 2499 Bancroft St.\, Berkeley\, CA\, 94720\, United States
CATEGORIES:Arts + Culture,Berkeley,Dance,East Bay,Performing Arts
ATTACH;FMTTYPE=image/jpeg:https://bayarearegistry.com/wp-content/uploads/2026/02/aim-by-kyle-abraham-1920x900-1-e1771175205924.jpg
ORGANIZER;CN="Cal Performances":MAILTO:tickets@calperformances.org
GEO:37.8687417;-122.2591735
X-APPLE-STRUCTURED-LOCATION;VALUE=URI;X-ADDRESS=Zellerbach Hall 2499 Bancroft St. Berkeley CA 94720 United States;X-APPLE-RADIUS=500;X-TITLE=2499 Bancroft St.:geo:-122.2591735,37.8687417
END:VEVENT
BEGIN:VEVENT
DTSTART;TZID=America/Los_Angeles:20260205T193000
DTEND;TZID=America/Los_Angeles:20260205T193000
DTSTAMP:20260421T195622
CREATED:20250828T065059Z
LAST-MODIFIED:20260207T080506Z
UID:10009001-1770319800-1770319800@bayarearegistry.com
SUMMARY:Cécile McLorin Salvant
DESCRIPTION:Hailed as “her generation’s most imaginative and thrilling jazz interpreter” (Spin)\, vocalist and composer Cécile McLorin Salvant is much admired for beguiling projects that bring fresh perspectives to jazz performance through dramatic storytelling\, vivid historical context\, and daring original composition. \nA MacArthur Fellow and three-time Grammy winner\, Salvant is classically trained and steeped in jazz\, blues\, and Caribbean music\, as well as Baroque repertoire and musical theater—an extraordinary musician who also surrounds herself with many of the best and brightest artists on today’s scene. \nInfo & Tickets
URL:https://bayarearegistry.com/event/cecile-mclorin-salvant/
LOCATION:Zellerbach Hall\, 2499 Bancroft St.\, Berkeley\, CA\, 94720\, United States
CATEGORIES:Arts + Culture,Berkeley,East Bay,Live Music,Performing Arts
ATTACH;FMTTYPE=image/jpeg:https://bayarearegistry.com/wp-content/uploads/2025/08/cropped-image-17563638095153t02w.jpeg
ORGANIZER;CN="Cal Performances":MAILTO:tickets@calperformances.org
GEO:37.8687417;-122.2591735
X-APPLE-STRUCTURED-LOCATION;VALUE=URI;X-ADDRESS=Zellerbach Hall 2499 Bancroft St. Berkeley CA 94720 United States;X-APPLE-RADIUS=500;X-TITLE=2499 Bancroft St.:geo:-122.2591735,37.8687417
END:VEVENT
BEGIN:VEVENT
DTSTART;TZID=America/Los_Angeles:20260201T150000
DTEND;TZID=America/Los_Angeles:20260201T150000
DTSTAMP:20260421T195622
CREATED:20250828T064534Z
LAST-MODIFIED:20260202T132217Z
UID:10009000-1769958000-1769958000@bayarearegistry.com
SUMMARY:Steven Banks\, baritone saxophone* Xak Bjerken\, piano*
DESCRIPTION:It is not every day you get to hear a saxophone virtuoso reimagine seminal works composed for bassoon\, cello\, and voice on his deeply expressive instrument of choice. In his Cal Performances debut\, Steven Banks\, “the saxophone’s best friend\, fiercest advocate\, and primary virtuoso in the classical realm” (Washington Post) and the first saxophonist to win the coveted Avery Fisher Career Grant\, offers a whirlwind musical tour on the mighty baritone saxophone. \nInfo & Tickets
URL:https://bayarearegistry.com/event/steven-banks-baritone-saxophone-xak-bjerken-piano/
LOCATION:Hertz Hall (UC Campus)\, Bancroft Way\, Berkeley\, CA\, 94720\, United States
CATEGORIES:Arts + Culture,Berkeley,East Bay,Live Music,Performing Arts
ATTACH;FMTTYPE=image/jpeg:https://bayarearegistry.com/wp-content/uploads/2025/08/steven-banks-baritone-saxophone-xak-bjerken-piano-golden-silhouettes-1920x900-1-e1756363526397.jpg
ORGANIZER;CN="Cal Performances":MAILTO:tickets@calperformances.org
GEO:37.8678246;-122.2659928
X-APPLE-STRUCTURED-LOCATION;VALUE=URI;X-ADDRESS=Hertz Hall (UC Campus) Bancroft Way Berkeley CA 94720 United States;X-APPLE-RADIUS=500;X-TITLE=Bancroft Way:geo:-122.2659928,37.8678246
END:VEVENT
BEGIN:VEVENT
DTSTART;TZID=America/Los_Angeles:20260125T150000
DTEND;TZID=America/Los_Angeles:20260125T150000
DTSTAMP:20260421T195622
CREATED:20260121T073714Z
LAST-MODIFIED:20260128T023050Z
UID:10009976-1769353200-1769353200@bayarearegistry.com
SUMMARY:Takács Quartet with Jordan Bak\, viola*
DESCRIPTION:As it enters its 51st season\, the renowned Takács Quartet continues to deepen its connections to timeless masterworks and enliven the string quartet repertoire through fresh artistic collaborations. \nFor its first concert this season\, the group is joined by award-winning Jamaican American violist Jordan Bak in his Cal Performances debut for a rare performance of Mozart’s revelatory viola quintets in C major (K. 515) and G minor (K. 516). Bak adds his “haunting lyrical grace” (Gramophone) to the Takács’ telepathic ensemble blend in these works of exceptional melodic beauty and textural clarity. Schubert’s dramatic single-movement Quartettsatz opens the program. \nInfo & Tickets
URL:https://bayarearegistry.com/event/takacs-quartet-with-jordan-bak-viola/
LOCATION:Hertz Hall (UC Campus)\, Bancroft Way\, Berkeley\, CA\, 94720\, United States
CATEGORIES:Arts + Culture,Berkeley,East Bay,Live Music,Performing Arts
ATTACH;FMTTYPE=image/jpeg:https://bayarearegistry.com/wp-content/uploads/2026/01/imgi_4_takacs-quartet-with-jordan-bak-viola-700x438-1-e1768981025185.jpg
ORGANIZER;CN="Cal Performances":MAILTO:tickets@calperformances.org
GEO:37.8678246;-122.2659928
X-APPLE-STRUCTURED-LOCATION;VALUE=URI;X-ADDRESS=Hertz Hall (UC Campus) Bancroft Way Berkeley CA 94720 United States;X-APPLE-RADIUS=500;X-TITLE=Bancroft Way:geo:-122.2659928,37.8678246
END:VEVENT
BEGIN:VEVENT
DTSTART;VALUE=DATE:20260123
DTEND;VALUE=DATE:20260126
DTSTAMP:20260421T195622
CREATED:20251130T095822Z
LAST-MODIFIED:20260128T023214Z
UID:10009852-1769126400-1769385599@bayarearegistry.com
SUMMARY:Mark Morris Dance Group MOON
DESCRIPTION:MOON is commissioned by the John F. Kennedy Center for the Performing Arts in partnership with Arizona Arts Live\, University of Arizona; Cal Performances\, UC Berkeley; Krannert Center for the Performing Arts\, University of Illinois Urbana-Champaign; and Mark Morris Dance Group. \nInfo & Tickets
URL:https://bayarearegistry.com/event/mark-morris-dance-group-moon/
LOCATION:Zellerbach Hall\, 2499 Bancroft St.\, Berkeley\, CA\, 94720\, United States
CATEGORIES:Arts + Culture,Berkeley,Dance,East Bay,Live Music,Performing Arts
ATTACH;FMTTYPE=image/jpeg:https://bayarearegistry.com/wp-content/uploads/2025/11/mark-morris-dance-group-moon-5-1920x900-1-e1764496693621.jpg
ORGANIZER;CN="Cal Performances":MAILTO:tickets@calperformances.org
GEO:37.8687417;-122.2591735
X-APPLE-STRUCTURED-LOCATION;VALUE=URI;X-ADDRESS=Zellerbach Hall 2499 Bancroft St. Berkeley CA 94720 United States;X-APPLE-RADIUS=500;X-TITLE=2499 Bancroft St.:geo:-122.2591735,37.8687417
END:VEVENT
END:VCALENDAR