BEGIN:VCALENDAR
VERSION:2.0
PRODID:-//BAR | Bay Area Registry - ECPv6.15.20//NONSGML v1.0//EN
CALSCALE:GREGORIAN
METHOD:PUBLISH
X-WR-CALNAME:BAR | Bay Area Registry
X-ORIGINAL-URL:https://bayarearegistry.com
X-WR-CALDESC:Events for BAR | Bay Area Registry
REFRESH-INTERVAL;VALUE=DURATION:PT1H
X-Robots-Tag:noindex
X-PUBLISHED-TTL:PT1H
BEGIN:VTIMEZONE
TZID:America/Los_Angeles
BEGIN:DAYLIGHT
TZOFFSETFROM:-0800
TZOFFSETTO:-0700
TZNAME:PDT
DTSTART:20250309T100000
END:DAYLIGHT
BEGIN:STANDARD
TZOFFSETFROM:-0700
TZOFFSETTO:-0800
TZNAME:PST
DTSTART:20251102T090000
END:STANDARD
BEGIN:DAYLIGHT
TZOFFSETFROM:-0800
TZOFFSETTO:-0700
TZNAME:PDT
DTSTART:20260308T100000
END:DAYLIGHT
BEGIN:STANDARD
TZOFFSETFROM:-0700
TZOFFSETTO:-0800
TZNAME:PST
DTSTART:20261101T090000
END:STANDARD
BEGIN:DAYLIGHT
TZOFFSETFROM:-0800
TZOFFSETTO:-0700
TZNAME:PDT
DTSTART:20270314T100000
END:DAYLIGHT
BEGIN:STANDARD
TZOFFSETFROM:-0700
TZOFFSETTO:-0800
TZNAME:PST
DTSTART:20271107T090000
END:STANDARD
END:VTIMEZONE
BEGIN:VEVENT
DTSTART;TZID=America/Los_Angeles:20260215T160000
DTEND;TZID=America/Los_Angeles:20260215T180000
DTSTAMP:20260419T180943
CREATED:20260201T160736Z
LAST-MODIFIED:20260216T092252Z
UID:10010156-1771171200-1771178400@bayarearegistry.com
SUMMARY:BLURRING THE COLOR LINE by Crystal Kwok
DESCRIPTION:Blurring the Color Line breaks racial barriers by going beyond the narratives of black & white. Much has been written about segregation upon Black people in the South\, but nothing that discusses the social placement of Asian Americans during this time. This film invites critical conversations around today’s racial tensions by addressing a connective past. \nInfo & Tickets
URL:https://bayarearegistry.com/event/blurring-the-color-line-by-crystal-kwok/
LOCATION:Clarion Performing Arts Center\, 2 Waverly Place\, San Francisco\, 94108
CATEGORIES:Arts + Culture,BHM 2026,Conversations + Speakers + Conferences,San Francisco + South SF Area
ATTACH;FMTTYPE=image/png:https://bayarearegistry.com/wp-content/uploads/2026/02/BLURRING-THE-COLOR-LINE-by-Crystal-Kwok-e1769961986668.png
END:VEVENT
END:VCALENDAR