BEGIN:VCALENDAR
VERSION:2.0
PRODID:-//BAR | Bay Area Registry - ECPv6.15.20//NONSGML v1.0//EN
CALSCALE:GREGORIAN
METHOD:PUBLISH
X-ORIGINAL-URL:https://bayarearegistry.com
X-WR-CALDESC:Events for BAR | Bay Area Registry
REFRESH-INTERVAL;VALUE=DURATION:PT1H
X-Robots-Tag:noindex
X-PUBLISHED-TTL:PT1H
BEGIN:VTIMEZONE
TZID:America/Los_Angeles
BEGIN:DAYLIGHT
TZOFFSETFROM:-0800
TZOFFSETTO:-0700
TZNAME:PDT
DTSTART:20250309T100000
END:DAYLIGHT
BEGIN:STANDARD
TZOFFSETFROM:-0700
TZOFFSETTO:-0800
TZNAME:PST
DTSTART:20251102T090000
END:STANDARD
BEGIN:DAYLIGHT
TZOFFSETFROM:-0800
TZOFFSETTO:-0700
TZNAME:PDT
DTSTART:20260308T100000
END:DAYLIGHT
BEGIN:STANDARD
TZOFFSETFROM:-0700
TZOFFSETTO:-0800
TZNAME:PST
DTSTART:20261101T090000
END:STANDARD
BEGIN:DAYLIGHT
TZOFFSETFROM:-0800
TZOFFSETTO:-0700
TZNAME:PDT
DTSTART:20270314T100000
END:DAYLIGHT
BEGIN:STANDARD
TZOFFSETFROM:-0700
TZOFFSETTO:-0800
TZNAME:PST
DTSTART:20271107T090000
END:STANDARD
END:VTIMEZONE
BEGIN:VEVENT
DTSTART;TZID=America/Los_Angeles:20260205T180000
DTEND;TZID=America/Los_Angeles:20260205T193000
DTSTAMP:20260419T193929
CREATED:20260127T153334Z
LAST-MODIFIED:20260208T155511Z
UID:10010026-1770314400-1770319800@bayarearegistry.com
SUMMARY:Black History Month: She Carried Us Forward
DESCRIPTION:This Black History Month\, GLIDE presents She Carried Us Forward\, an evening honoring the brilliance\, courage\, creativity\, and enduring leadership of Black women across the civil rights movement – then and now. \nInfo & Tickets
URL:https://bayarearegistry.com/event/black-history-month-she-carried-us-forward/
LOCATION:Glide Memorial Church\, 330 Ellis St\, San Francisco\, CA\, 94102\, United States
CATEGORIES:Arts + Culture,BHM 2026,Conversations + Speakers + Conferences,San Francisco + South SF Area,Visual Arts
ATTACH;FMTTYPE=image/png:https://bayarearegistry.com/wp-content/uploads/2026/01/Black-History-Month-She-Carried-Us-Forward-e1769527982801.png
GEO:37.785151;-122.4114983
X-APPLE-STRUCTURED-LOCATION;VALUE=URI;X-ADDRESS=Glide Memorial Church 330 Ellis St San Francisco CA 94102 United States;X-APPLE-RADIUS=500;X-TITLE=330 Ellis St:geo:-122.4114983,37.785151
END:VEVENT
END:VCALENDAR