BEGIN:VCALENDAR
VERSION:2.0
PRODID:-//BAR | Bay Area Registry - ECPv6.15.20//NONSGML v1.0//EN
CALSCALE:GREGORIAN
METHOD:PUBLISH
X-WR-CALNAME:BAR | Bay Area Registry
X-ORIGINAL-URL:https://bayarearegistry.com
X-WR-CALDESC:Events for BAR | Bay Area Registry
REFRESH-INTERVAL;VALUE=DURATION:PT1H
X-Robots-Tag:noindex
X-PUBLISHED-TTL:PT1H
BEGIN:VTIMEZONE
TZID:America/Los_Angeles
BEGIN:DAYLIGHT
TZOFFSETFROM:-0800
TZOFFSETTO:-0700
TZNAME:PDT
DTSTART:20250309T100000
END:DAYLIGHT
BEGIN:STANDARD
TZOFFSETFROM:-0700
TZOFFSETTO:-0800
TZNAME:PST
DTSTART:20251102T090000
END:STANDARD
BEGIN:DAYLIGHT
TZOFFSETFROM:-0800
TZOFFSETTO:-0700
TZNAME:PDT
DTSTART:20260308T100000
END:DAYLIGHT
BEGIN:STANDARD
TZOFFSETFROM:-0700
TZOFFSETTO:-0800
TZNAME:PST
DTSTART:20261101T090000
END:STANDARD
BEGIN:DAYLIGHT
TZOFFSETFROM:-0800
TZOFFSETTO:-0700
TZNAME:PDT
DTSTART:20270314T100000
END:DAYLIGHT
BEGIN:STANDARD
TZOFFSETFROM:-0700
TZOFFSETTO:-0800
TZNAME:PST
DTSTART:20271107T090000
END:STANDARD
END:VTIMEZONE
BEGIN:VEVENT
DTSTART;TZID=America/Los_Angeles:20260501T200000
DTEND;TZID=America/Los_Angeles:20260501T220000
DTSTAMP:20260421T061230
CREATED:20251107T222140Z
LAST-MODIFIED:20260420T034747Z
UID:10009711-1777665600-1777672800@bayarearegistry.com
SUMMARY:Sherri Shepherd: Make It Make Sense Tour
DESCRIPTION:Sherri Shepherd was born and raised in Chicago\, Illinois. Sherri started her stand-up career in 1990 while working in Beverly Hills as a legal secretary. In 1995\, she took the big plunge\, stepped out on faith\, and quit her secretarial job. 12 days later she booked her first series as a regular on WB’s Cleghorne. It lasted only a season; and since unemployment didn’t pay the bills but typing did\, Sherri had to go back to the law firm for the next three years. She is best-known for her role as Ramona on ABC’s Less Than Perfect. Not leaving her stand-up roots\, Sherri still performs regularly at the Comedy Store\, the Laugh Factory and the Improv. \nInfo & Tickets
URL:https://bayarearegistry.com/event/sherri-shepherd-make-it-make-sense-tour/
LOCATION:Henry J. Kaiser Center for the Arts\, 10 10th Street\, Oakland\, 94607\, United States
CATEGORIES:Arts + Culture,Comedy,East Bay,Oakland,Performing Arts
ATTACH;FMTTYPE=image/png:https://bayarearegistry.com/wp-content/uploads/2025/11/26-05-01-Sherri-Shepherd-1080x1350px-e1762554076155.png
END:VEVENT
BEGIN:VEVENT
DTSTART;TZID=America/Los_Angeles:20260510T123000
DTEND;TZID=America/Los_Angeles:20260510T163000
DTSTAMP:20260421T061230
CREATED:20260417T115550Z
LAST-MODIFIED:20260417T115550Z
UID:10010837-1778416200-1778430600@bayarearegistry.com
SUMMARY:Mommies & Mimosas .... A Mother's Day Brunch
DESCRIPTION:Celebrate the beauty\, strength\, and love of motherhood with an unforgettable afternoon of live music\, elevated Southern cuisine\, and a luxury brunch experience in the heart of Oakland.  \nInfo & Tickets
URL:https://bayarearegistry.com/event/mommies-mimosas-a-mothers-day-brunch/
LOCATION:Henry J. Kaiser Center for the Arts\, 10 10th Street\, Oakland\, 94607\, United States
CATEGORIES:Arts + Culture,East Bay,Food + Drink,Oakland
ATTACH;FMTTYPE=image/jpeg:https://bayarearegistry.com/wp-content/uploads/2026/04/imgi_2_ClientFile613820-e1776426877928.jpg
END:VEVENT
BEGIN:VEVENT
DTSTART;TZID=America/Los_Angeles:20260520T193000
DTEND;TZID=America/Los_Angeles:20260520T213000
DTSTAMP:20260421T061230
CREATED:20260417T114840Z
LAST-MODIFIED:20260417T115031Z
UID:10010836-1779305400-1779312600@bayarearegistry.com
SUMMARY:Chaka Khan
DESCRIPTION:Spend an unforgettable evening with one of the most influential voices in modern music. This unique live event offers a rare\, up-close experience with Chaka Khan as she takes the stage for an intimate\, in-depth conversation about her life\, career\, and legacy. The evening will also feature a special live acoustic performance of the songs that have defined generations. \nInfo & Tickets
URL:https://bayarearegistry.com/event/chaka-khan/
LOCATION:Henry J. Kaiser Center for the Arts\, 10 10th Street\, Oakland\, 94607\, United States
CATEGORIES:Arts + Culture,East Bay,Live Music,Oakland,Performing Arts
ATTACH;FMTTYPE=image/jpeg:https://bayarearegistry.com/wp-content/uploads/2026/04/chaka-khan-renell-medrano-020419-3-scaled-e1776426623844.jpg
END:VEVENT
BEGIN:VEVENT
DTSTART;TZID=America/Los_Angeles:20260612T200000
DTEND;TZID=America/Los_Angeles:20260612T200000
DTSTAMP:20260421T061230
CREATED:20260417T113334Z
LAST-MODIFIED:20260417T114751Z
UID:10010835-1781294400-1781294400@bayarearegistry.com
SUMMARY:Orchestra Noir presents: The Culture 2000 Tour
DESCRIPTION:Orchestra Noir\, the acclaimed Atlanta based orchestra – brings its brand-new Culture 2000 Tour to the Bay – an immersive concert experience that evokes and celebrates the spirit of early 2000s culture. \nUnder the direction of Maestro Jason Ikeem Rodgers\, the orchestra will deliver a high-impact night of music\, movement\, and nostalgia as it reimagines the biggest 2000s Hip-Hop and R&B hits through an orchestral lens. \nInfo & Tickets
URL:https://bayarearegistry.com/event/orchestra-noir-presents-the-culture-2000-tour/
LOCATION:Henry J. Kaiser Center for the Arts\, 10 10th Street\, Oakland\, 94607\, United States
CATEGORIES:Arts + Culture,East Bay,Live Music,Oakland,Performing Arts
ATTACH;FMTTYPE=image/png:https://bayarearegistry.com/wp-content/uploads/2026/04/Orchestra-Noir-presents-The-Culture-2000-Tour-e1776425539478.png
END:VEVENT
BEGIN:VEVENT
DTSTART;TZID=America/Los_Angeles:20260614T150000
DTEND;TZID=America/Los_Angeles:20260614T150000
DTSTAMP:20260421T061230
CREATED:20260415T131459Z
LAST-MODIFIED:20260415T131459Z
UID:10010775-1781449200-1781449200@bayarearegistry.com
SUMMARY:Ballet Folklórico México Danza / EBCPCA
DESCRIPTION:Ballet Folklórico México Danza is turning 35! Come mark this special occasion with us\, featuring spectacular mariachi and classic but energetic folklórico favorites. Join us for a noche de gala\, dress to impress. \nInfo & Tickets
URL:https://bayarearegistry.com/event/ballet-folklorico-mexico-danza-ebcpca/
LOCATION:Henry J. Kaiser Center for the Arts\, 10 10th Street\, Oakland\, 94607\, United States
CATEGORIES:Arts + Culture,Dance,East Bay,Oakland,Performing Arts
ATTACH;FMTTYPE=image/png:https://bayarearegistry.com/wp-content/uploads/2026/04/download-2-e1776258820253.png
END:VEVENT
BEGIN:VEVENT
DTSTART;TZID=America/Los_Angeles:20261023T200000
DTEND;TZID=America/Los_Angeles:20261023T200000
DTSTAMP:20260421T061230
CREATED:20260415T125557Z
LAST-MODIFIED:20260415T125557Z
UID:10010774-1792785600-1792785600@bayarearegistry.com
SUMMARY:Celtic Thunder
DESCRIPTION:Celtic Thunder is an Irish singing group and stage show known for its eclectic\, theatrical style show. The group is backed by the Celtic Thunder Band on their concert tours\, and their live shows are known for the use of dramatic set pieces\, visual effects\, and highly choreographed staging. \nInfo & Tickets
URL:https://bayarearegistry.com/event/celtic-thunder/
LOCATION:Henry J. Kaiser Center for the Arts\, 10 10th Street\, Oakland\, 94607\, United States
CATEGORIES:Arts + Culture,East Bay,Live Music,Oakland,Performing Arts
ATTACH;FMTTYPE=image/webp:https://bayarearegistry.com/wp-content/uploads/2026/04/Celtic-Thunder-e1776257705801.webp
END:VEVENT
END:VCALENDAR