BEGIN:VCALENDAR
VERSION:2.0
PRODID:-//BAR | Bay Area Registry - ECPv6.15.20//NONSGML v1.0//EN
CALSCALE:GREGORIAN
METHOD:PUBLISH
X-ORIGINAL-URL:https://bayarearegistry.com
X-WR-CALDESC:Events for BAR | Bay Area Registry
REFRESH-INTERVAL;VALUE=DURATION:PT1H
X-Robots-Tag:noindex
X-PUBLISHED-TTL:PT1H
BEGIN:VTIMEZONE
TZID:America/Los_Angeles
BEGIN:DAYLIGHT
TZOFFSETFROM:-0800
TZOFFSETTO:-0700
TZNAME:PDT
DTSTART:20250309T100000
END:DAYLIGHT
BEGIN:STANDARD
TZOFFSETFROM:-0700
TZOFFSETTO:-0800
TZNAME:PST
DTSTART:20251102T090000
END:STANDARD
BEGIN:DAYLIGHT
TZOFFSETFROM:-0800
TZOFFSETTO:-0700
TZNAME:PDT
DTSTART:20260308T100000
END:DAYLIGHT
BEGIN:STANDARD
TZOFFSETFROM:-0700
TZOFFSETTO:-0800
TZNAME:PST
DTSTART:20261101T090000
END:STANDARD
BEGIN:DAYLIGHT
TZOFFSETFROM:-0800
TZOFFSETTO:-0700
TZNAME:PDT
DTSTART:20270314T100000
END:DAYLIGHT
BEGIN:STANDARD
TZOFFSETFROM:-0700
TZOFFSETTO:-0800
TZNAME:PST
DTSTART:20271107T090000
END:STANDARD
END:VTIMEZONE
BEGIN:VEVENT
DTSTART;TZID=America/Los_Angeles:20260408T160000
DTEND;TZID=America/Los_Angeles:20260408T160000
DTSTAMP:20260420T043251
CREATED:20260327T095222Z
LAST-MODIFIED:20260409T074741Z
UID:10010536-1775664000-1775664000@bayarearegistry.com
SUMMARY:Trivia Night at Hyatt Regency San Francisco
DESCRIPTION:Join us for a special Trivia Night Happy Hour with the Traveling Museum on April 8 from 4–6 PM at the Eclipse Bar & Kitchen\, located inside the world’s largest atrium at Hyatt Regency San Francisco. Enjoy light bites\, drinks\, and a lively evening of trivia while tasting the newly launched menu and competing for special prizes! \nInfo & Tickets
URL:https://bayarearegistry.com/event/trivia-night-at-hyatt-regency-san-francisco/
LOCATION:Hyatt Regency San Francisco\,  5 Embarcadero Center \, San Francisco\, CA\, 94111\, United States
CATEGORIES:Arts + Culture,Food + Drink,San Francisco + South SF Area
ATTACH;FMTTYPE=image/png:https://bayarearegistry.com/wp-content/uploads/2026/03/triviahyattregency-e1774605006664.png
GEO:37.7945892;-122.3954468
X-APPLE-STRUCTURED-LOCATION;VALUE=URI;X-ADDRESS=Hyatt Regency San Francisco  5 Embarcadero Center  San Francisco CA 94111 United States;X-APPLE-RADIUS=500;X-TITLE=5 Embarcadero Center:geo:-122.3954468,37.7945892
END:VEVENT
END:VCALENDAR