BEGIN:VCALENDAR
VERSION:2.0
PRODID:-//BAR | Bay Area Registry - ECPv6.15.20//NONSGML v1.0//EN
CALSCALE:GREGORIAN
METHOD:PUBLISH
X-WR-CALNAME:BAR | Bay Area Registry
X-ORIGINAL-URL:https://bayarearegistry.com
X-WR-CALDESC:Events for BAR | Bay Area Registry
REFRESH-INTERVAL;VALUE=DURATION:PT1H
X-Robots-Tag:noindex
X-PUBLISHED-TTL:PT1H
BEGIN:VTIMEZONE
TZID:America/Los_Angeles
BEGIN:DAYLIGHT
TZOFFSETFROM:-0800
TZOFFSETTO:-0700
TZNAME:PDT
DTSTART:20250309T100000
END:DAYLIGHT
BEGIN:STANDARD
TZOFFSETFROM:-0700
TZOFFSETTO:-0800
TZNAME:PST
DTSTART:20251102T090000
END:STANDARD
BEGIN:DAYLIGHT
TZOFFSETFROM:-0800
TZOFFSETTO:-0700
TZNAME:PDT
DTSTART:20260308T100000
END:DAYLIGHT
BEGIN:STANDARD
TZOFFSETFROM:-0700
TZOFFSETTO:-0800
TZNAME:PST
DTSTART:20261101T090000
END:STANDARD
BEGIN:DAYLIGHT
TZOFFSETFROM:-0800
TZOFFSETTO:-0700
TZNAME:PDT
DTSTART:20270314T100000
END:DAYLIGHT
BEGIN:STANDARD
TZOFFSETFROM:-0700
TZOFFSETTO:-0800
TZNAME:PST
DTSTART:20271107T090000
END:STANDARD
END:VTIMEZONE
BEGIN:VEVENT
DTSTART;VALUE=DATE:20260602
DTEND;VALUE=DATE:20260605
DTSTAMP:20260419T232552
CREATED:20250903T163334Z
LAST-MODIFIED:20250903T163407Z
UID:10009086-1780358400-1780617599@bayarearegistry.com
SUMMARY:Virtual | World Conference on Nursing Education and Health Care 2026
DESCRIPTION:Join over 300 international professionals—nurses\, educators\, and researchers—for keynote sessions\, presentations\, panel discussions\, and global networking opportunities focused on advancing nursing education and healthcare. \nInfo & Tickets
URL:https://bayarearegistry.com/event/world-conference-on-nursing-education-and-health-care-2026/
LOCATION:[ Virtual ]\, CA
CATEGORIES:Arts + Culture,Conversations + Speakers + Conferences,Virtual
ATTACH;FMTTYPE=image/png:https://bayarearegistry.com/wp-content/uploads/2025/09/post_1-e1756917060867.png
END:VEVENT
BEGIN:VEVENT
DTSTART;VALUE=DATE:20260622
DTEND;VALUE=DATE:20260624
DTSTAMP:20260419T232552
CREATED:20250830T073850Z
LAST-MODIFIED:20250830T073905Z
UID:10009020-1782086400-1782259199@bayarearegistry.com
SUMMARY:Virtual | 2nd International Conference on Nursing Education and Healthcare
DESCRIPTION:We are pleased to invite you to the International Conference on Nursing Education & Healthcare 2026\, taking place on June 22–23\, 2026\, in London\, UK. \nTheme: “Caring Beyond Boundaries: Nursing’s Impact on Global Health” \nJoin over 300 international professionals—nurses\, educators\, and researchers—for keynote sessions\, presentations\, panel discussions\, and global networking opportunities focused on advancing nursing education and healthcare. \nInfo & Tickets
URL:https://bayarearegistry.com/event/2nd-international-conference-on-nursing-education-and-healthcare/
LOCATION:[ Virtual ]\, CA
CATEGORIES:Arts + Culture,Conversations + Speakers + Conferences,Virtual
ATTACH;FMTTYPE=image/jpeg:https://bayarearegistry.com/wp-content/uploads/2025/08/intelli-e1756539493796.jpg
END:VEVENT
BEGIN:VEVENT
DTSTART;VALUE=DATE:20260720
DTEND;VALUE=DATE:20260722
DTSTAMP:20260419T232552
CREATED:20251012T072138Z
LAST-MODIFIED:20251012T072138Z
UID:10009458-1784505600-1784678399@bayarearegistry.com
SUMMARY:Virtual | International Conference on Cardiology
DESCRIPTION:Dear Esteemed Colleagues\, Researchers\, and Innovators! It is with great honor and anticipation that we welcome you to the International conference on Cardiology\, to be held in the historic and inspiring city of Paris\, France\, on July 20-21\, 2026. \nTheme: “Cardiac Care in the Modern Era: Challenges\, Innovations\, and Collaborations” We are delighted to cordially invite professionals from around the world to participate in the International conference on Cardiology 2026\, hosted by Intelli Meetings. This prestigious event offers a unique platform for Cardiologist\, healthcare professionals\, academics\, and researchers to connect\, share insights\, and collaborate across global boundaries. \nInfo & Tickets
URL:https://bayarearegistry.com/event/virtual-international-conference-on-cardiology/
LOCATION:[ Virtual ]\, CA
CATEGORIES:Arts + Culture,Conversations + Speakers + Conferences,Virtual
ATTACH;FMTTYPE=image/jpeg:https://bayarearegistry.com/wp-content/uploads/2025/10/whatsapp_image_20251010_at_10.22.55_am.jpeg-e1760253651708.jpg
END:VEVENT
END:VCALENDAR