BEGIN:VCALENDAR
VERSION:2.0
PRODID:-//BAR | Bay Area Registry - ECPv6.15.20//NONSGML v1.0//EN
CALSCALE:GREGORIAN
METHOD:PUBLISH
X-WR-CALNAME:BAR | Bay Area Registry
X-ORIGINAL-URL:https://bayarearegistry.com
X-WR-CALDESC:Events for BAR | Bay Area Registry
REFRESH-INTERVAL;VALUE=DURATION:PT1H
X-Robots-Tag:noindex
X-PUBLISHED-TTL:PT1H
BEGIN:VTIMEZONE
TZID:America/Los_Angeles
BEGIN:DAYLIGHT
TZOFFSETFROM:-0800
TZOFFSETTO:-0700
TZNAME:PDT
DTSTART:20250309T100000
END:DAYLIGHT
BEGIN:STANDARD
TZOFFSETFROM:-0700
TZOFFSETTO:-0800
TZNAME:PST
DTSTART:20251102T090000
END:STANDARD
BEGIN:DAYLIGHT
TZOFFSETFROM:-0800
TZOFFSETTO:-0700
TZNAME:PDT
DTSTART:20260308T100000
END:DAYLIGHT
BEGIN:STANDARD
TZOFFSETFROM:-0700
TZOFFSETTO:-0800
TZNAME:PST
DTSTART:20261101T090000
END:STANDARD
BEGIN:DAYLIGHT
TZOFFSETFROM:-0800
TZOFFSETTO:-0700
TZNAME:PDT
DTSTART:20270314T100000
END:DAYLIGHT
BEGIN:STANDARD
TZOFFSETFROM:-0700
TZOFFSETTO:-0800
TZNAME:PST
DTSTART:20271107T090000
END:STANDARD
END:VTIMEZONE
BEGIN:VEVENT
DTSTART;TZID=America/Los_Angeles:20260207T090000
DTEND;TZID=America/Los_Angeles:20260207T120000
DTSTAMP:20260421T145328
CREATED:20260127T145622Z
LAST-MODIFIED:20260208T155609Z
UID:10010021-1770454800-1770465600@bayarearegistry.com
SUMMARY:Celebrating Black History Month with Health\, Healing & Community
DESCRIPTION:Join us for a Community Health Fair focused on empowering our community through education\, prevention\, and care. \nCelebrate Black History Month\nJoin us for a Community Health Fair focused on empowering our community through education\, prevention\, and care. \nWhat You’ll Experience\nLearn & Connect \n\nAttend a live HouseCalls event focused on maintaining a heart-healthy lifestyle\nExplore Lifestyle Medicine and learn how small changes can lead to big health rewards\nGet your health questions answered by doctors\, pharmacists\, and health educators\n\nHealth Services & Screenings \n\nBlood pressure checks\nDiabetic retinal screenings\nA1c blood tests\nGlucose monitoring support\n\nPlanning for the Future \n\nLearn about life care planning\n\nInfo & Tickets
URL:https://bayarearegistry.com/event/celebrating-black-history-month-with-health-healing-community/
LOCATION:Kaiser Permanente Oakland Medical Center\, Lower Level Conference Room A\, B\, C\, Oakland\, 94611
CATEGORIES:Arts + Culture,BHM 2026,East Bay,Health + Wellness,Oakland
ATTACH;FMTTYPE=image/jpeg:https://bayarearegistry.com/wp-content/uploads/2026/01/Celebrating-Black-History-Month-with-Health-Healing-Community-e1769525741729.jpg
END:VEVENT
END:VCALENDAR