BEGIN:VCALENDAR
VERSION:2.0
PRODID:-//BAR | Bay Area Registry - ECPv6.15.20//NONSGML v1.0//EN
CALSCALE:GREGORIAN
METHOD:PUBLISH
X-ORIGINAL-URL:https://bayarearegistry.com
X-WR-CALDESC:Events for BAR | Bay Area Registry
REFRESH-INTERVAL;VALUE=DURATION:PT1H
X-Robots-Tag:noindex
X-PUBLISHED-TTL:PT1H
BEGIN:VTIMEZONE
TZID:America/Los_Angeles
BEGIN:DAYLIGHT
TZOFFSETFROM:-0800
TZOFFSETTO:-0700
TZNAME:PDT
DTSTART:20250309T100000
END:DAYLIGHT
BEGIN:STANDARD
TZOFFSETFROM:-0700
TZOFFSETTO:-0800
TZNAME:PST
DTSTART:20251102T090000
END:STANDARD
BEGIN:DAYLIGHT
TZOFFSETFROM:-0800
TZOFFSETTO:-0700
TZNAME:PDT
DTSTART:20260308T100000
END:DAYLIGHT
BEGIN:STANDARD
TZOFFSETFROM:-0700
TZOFFSETTO:-0800
TZNAME:PST
DTSTART:20261101T090000
END:STANDARD
BEGIN:DAYLIGHT
TZOFFSETFROM:-0800
TZOFFSETTO:-0700
TZNAME:PDT
DTSTART:20270314T100000
END:DAYLIGHT
BEGIN:STANDARD
TZOFFSETFROM:-0700
TZOFFSETTO:-0800
TZNAME:PST
DTSTART:20271107T090000
END:STANDARD
END:VTIMEZONE
BEGIN:VEVENT
DTSTART;TZID=America/Los_Angeles:20260418T110000
DTEND;TZID=America/Los_Angeles:20260418T110000
DTSTAMP:20260425T080100
CREATED:20260401T060852Z
LAST-MODIFIED:20260420T153809Z
UID:10010552-1776510000-1776510000@bayarearegistry.com
SUMMARY:North Shattuck Swap n' Shop
DESCRIPTION:Show your commitment to sustainability and join a lively Earth Day pre-party in North Berkeley featuring community swaps\, sidewalk sales\, and a festive after-party celebrating sustainability across multiple local spots. \nInfo & Tickets
URL:https://bayarearegistry.com/event/north-shattuck-swap-n-shop/
LOCATION:North Shattuck\, 1700 Shattuck Ave. #318\, Berkeley\, 94709
CATEGORIES:Arts + Culture,Berkeley,East Bay,Shopping + Retail,Style + Beauty
ATTACH;FMTTYPE=image/png:https://bayarearegistry.com/wp-content/uploads/2026/03/screenshot_20260330_at_9.57.16am-e1775023517961.png
END:VEVENT
END:VCALENDAR