BEGIN:VCALENDAR
VERSION:2.0
PRODID:-//BAR | Bay Area Registry - ECPv6.15.20//NONSGML v1.0//EN
CALSCALE:GREGORIAN
METHOD:PUBLISH
X-ORIGINAL-URL:https://bayarearegistry.com
X-WR-CALDESC:Events for BAR | Bay Area Registry
REFRESH-INTERVAL;VALUE=DURATION:PT1H
X-Robots-Tag:noindex
X-PUBLISHED-TTL:PT1H
BEGIN:VTIMEZONE
TZID:America/Los_Angeles
BEGIN:DAYLIGHT
TZOFFSETFROM:-0800
TZOFFSETTO:-0700
TZNAME:PDT
DTSTART:20250309T100000
END:DAYLIGHT
BEGIN:STANDARD
TZOFFSETFROM:-0700
TZOFFSETTO:-0800
TZNAME:PST
DTSTART:20251102T090000
END:STANDARD
BEGIN:DAYLIGHT
TZOFFSETFROM:-0800
TZOFFSETTO:-0700
TZNAME:PDT
DTSTART:20260308T100000
END:DAYLIGHT
BEGIN:STANDARD
TZOFFSETFROM:-0700
TZOFFSETTO:-0800
TZNAME:PST
DTSTART:20261101T090000
END:STANDARD
BEGIN:DAYLIGHT
TZOFFSETFROM:-0800
TZOFFSETTO:-0700
TZNAME:PDT
DTSTART:20270314T100000
END:DAYLIGHT
BEGIN:STANDARD
TZOFFSETFROM:-0700
TZOFFSETTO:-0800
TZNAME:PST
DTSTART:20271107T090000
END:STANDARD
END:VTIMEZONE
BEGIN:VEVENT
DTSTART;VALUE=DATE:20260706
DTEND;VALUE=DATE:20260708
DTSTAMP:20260419T233000
CREATED:20251109T180833Z
LAST-MODIFIED:20251109T181029Z
UID:10009714-1783296000-1783468799@bayarearegistry.com
SUMMARY:Virtual | International Conference on Advances in Surgery and Anesthesia
DESCRIPTION:The inaugural International Conference on Advances in Surgery and Anesthesia set a high benchmark for advancing knowledge and collaboration in surgical practice and patient care. We are excited to announce that preparations are underway for the International Conference on Advances in Surgery and Anesthesia\, which will take place in Singapore City\, Singapore\, on July 06-07\, 2026. \nInfo & Tickets
URL:https://bayarearegistry.com/event/virtual-international-conference-on-advances-in-surgery-and-anesthesia/
LOCATION:[ Virtual ]\, CA
CATEGORIES:Arts + Culture,Conversations + Speakers + Conferences,Virtual
ATTACH;FMTTYPE=image/png:https://bayarearegistry.com/wp-content/uploads/2025/11/surgery_banner-e1762711598111.png
END:VEVENT
BEGIN:VEVENT
DTSTART;VALUE=DATE:20261116
DTEND;VALUE=DATE:20261118
DTSTAMP:20260419T233000
CREATED:20251109T181226Z
LAST-MODIFIED:20251109T181242Z
UID:10009715-1794787200-1794959999@bayarearegistry.com
SUMMARY:Virtual | 2nd International Conference on Nursing and Healthcare
DESCRIPTION:The 1st International Conference on Nursing and Healthcare set a strong foundation for advancing knowledge\, practice\, and collaboration in global healthcare. Building on this success\, we are delighted to announce the 2nd International Conference on Nursing and Healthcare\, scheduled to be held on November 16-17\, 2026\, in Dubai\, UAE. This prestigious event will once again bring together nurses\, healthcare professionals\, researchers\, policymakers\, and industry leaders from around the world to explore the latest innovations\, challenges\, and opportunities shaping the future of nursing and healthcare. \nInfo & Tickets
URL:https://bayarearegistry.com/event/virtual-2nd-international-conference-on-nursing-and-healthcare/
LOCATION:[ Virtual ]\, CA
CATEGORIES:Arts + Culture,Conversations + Speakers + Conferences,Virtual
ATTACH;FMTTYPE=image/jpeg:https://bayarearegistry.com/wp-content/uploads/2025/11/nursing_banner-e1762711916936.jpg
END:VEVENT
END:VCALENDAR