BEGIN:VCALENDAR
VERSION:2.0
PRODID:-//BAR | Bay Area Registry - ECPv6.15.20//NONSGML v1.0//EN
CALSCALE:GREGORIAN
METHOD:PUBLISH
X-ORIGINAL-URL:https://bayarearegistry.com
X-WR-CALDESC:Events for BAR | Bay Area Registry
REFRESH-INTERVAL;VALUE=DURATION:PT1H
X-Robots-Tag:noindex
X-PUBLISHED-TTL:PT1H
BEGIN:VTIMEZONE
TZID:America/Los_Angeles
BEGIN:DAYLIGHT
TZOFFSETFROM:-0800
TZOFFSETTO:-0700
TZNAME:PDT
DTSTART:20250309T100000
END:DAYLIGHT
BEGIN:STANDARD
TZOFFSETFROM:-0700
TZOFFSETTO:-0800
TZNAME:PST
DTSTART:20251102T090000
END:STANDARD
BEGIN:DAYLIGHT
TZOFFSETFROM:-0800
TZOFFSETTO:-0700
TZNAME:PDT
DTSTART:20260308T100000
END:DAYLIGHT
BEGIN:STANDARD
TZOFFSETFROM:-0700
TZOFFSETTO:-0800
TZNAME:PST
DTSTART:20261101T090000
END:STANDARD
BEGIN:DAYLIGHT
TZOFFSETFROM:-0800
TZOFFSETTO:-0700
TZNAME:PDT
DTSTART:20270314T100000
END:DAYLIGHT
BEGIN:STANDARD
TZOFFSETFROM:-0700
TZOFFSETTO:-0800
TZNAME:PST
DTSTART:20271107T090000
END:STANDARD
END:VTIMEZONE
BEGIN:VEVENT
DTSTART;TZID=America/Los_Angeles:20260506T170000
DTEND;TZID=America/Los_Angeles:20260506T190000
DTSTAMP:20260425T061522
CREATED:20260420T152648Z
LAST-MODIFIED:20260420T152648Z
UID:10010874-1778086800-1778094000@bayarearegistry.com
SUMMARY:Rooted in Legacy: Honoring Delroy Lindo
DESCRIPTION:The Office of Mayor Barbara Lee warmly invites you to join us for a special cultural experience honoring longtime Oakland resident and acclaimed actor\, Delroy Lindo. \nInfo & Tickets
URL:https://bayarearegistry.com/event/rooted-in-legacy-honoring-delroy-lindo/
LOCATION:Oakland City Hall\, 1 Frank H. Ogawa Plaza\, Oakland\, CA\, 94612\, United States
CATEGORIES:Arts + Culture,Conversations + Speakers + Conferences,East Bay,Oakland,Performing Arts,Theater + Film
ATTACH;FMTTYPE=image/png:https://bayarearegistry.com/wp-content/uploads/2026/04/Rooted-in-Legacy-Honoring-Delroy-Lindo-e1776698656702.png
GEO:37.8053639;-122.2724809
X-APPLE-STRUCTURED-LOCATION;VALUE=URI;X-ADDRESS=Oakland City Hall 1 Frank H. Ogawa Plaza Oakland CA 94612 United States;X-APPLE-RADIUS=500;X-TITLE=1 Frank H. Ogawa Plaza:geo:-122.2724809,37.8053639
END:VEVENT
END:VCALENDAR