BEGIN:VCALENDAR
VERSION:2.0
PRODID:-//BAR | Bay Area Registry - ECPv6.15.20//NONSGML v1.0//EN
CALSCALE:GREGORIAN
METHOD:PUBLISH
X-WR-CALNAME:BAR | Bay Area Registry
X-ORIGINAL-URL:https://bayarearegistry.com
X-WR-CALDESC:Events for BAR | Bay Area Registry
REFRESH-INTERVAL;VALUE=DURATION:PT1H
X-Robots-Tag:noindex
X-PUBLISHED-TTL:PT1H
BEGIN:VTIMEZONE
TZID:America/Los_Angeles
BEGIN:DAYLIGHT
TZOFFSETFROM:-0800
TZOFFSETTO:-0700
TZNAME:PDT
DTSTART:20250309T100000
END:DAYLIGHT
BEGIN:STANDARD
TZOFFSETFROM:-0700
TZOFFSETTO:-0800
TZNAME:PST
DTSTART:20251102T090000
END:STANDARD
BEGIN:DAYLIGHT
TZOFFSETFROM:-0800
TZOFFSETTO:-0700
TZNAME:PDT
DTSTART:20260308T100000
END:DAYLIGHT
BEGIN:STANDARD
TZOFFSETFROM:-0700
TZOFFSETTO:-0800
TZNAME:PST
DTSTART:20261101T090000
END:STANDARD
BEGIN:DAYLIGHT
TZOFFSETFROM:-0800
TZOFFSETTO:-0700
TZNAME:PDT
DTSTART:20270314T100000
END:DAYLIGHT
BEGIN:STANDARD
TZOFFSETFROM:-0700
TZOFFSETTO:-0800
TZNAME:PST
DTSTART:20271107T090000
END:STANDARD
END:VTIMEZONE
BEGIN:VEVENT
DTSTART;VALUE=DATE:20260410
DTEND;VALUE=DATE:20260412
DTSTAMP:20260425T193757
CREATED:20260405T155012Z
LAST-MODIFIED:20260414T160625Z
UID:10010656-1775779200-1775951999@bayarearegistry.com
SUMMARY:She Kills Monsters
DESCRIPTION:Join our Young Actors Lab teen students for a heartfelt and hilarious adventure into the world of Dungeons & Dragons (D&D). When Agnes loses her little sister\, Tilly\, in a car crash\, her late sister’s old D&D journal becomes the key to reconnecting. \nInfo & Tickets
URL:https://bayarearegistry.com/event/she-kills-monsters/
LOCATION:Brava Theater\, 2781 24th St.\, San Francisco\, 94110\, United States
CATEGORIES:Arts + Culture,Performing Arts,San Francisco + South SF Area,Theater + Film
ATTACH;FMTTYPE=image/jpeg:https://bayarearegistry.com/wp-content/uploads/2026/04/imgi_52_SKM-SFBATCO-GROUP-PhotoCredit_NubiaAndreaGonzalez-scaled-e1775404205597.jpg
ORGANIZER;CN="SFBATCO":MAILTO:info@sfbatco.org
END:VEVENT
BEGIN:VEVENT
DTSTART;TZID=America/Los_Angeles:20260220T200000
DTEND;TZID=America/Los_Angeles:20260221T220000
DTSTAMP:20260425T193757
CREATED:20260216T174319Z
LAST-MODIFIED:20260223T150629Z
UID:10010353-1771617600-1771711200@bayarearegistry.com
SUMMARY:Cabaret Series: Black Broadway
DESCRIPTION:Black Broadway is a dazzling celebration of the songs and shows that have defined generations of Black excellence on stage. Featuring powerhouse performances from Dreamgirls\, The Wiz\, Ain’t Misbehavin’\, Once on This Island\, Caroline\, or Change\, and more\, this cabaret honors the artists\, stories\, and sounds that continue to shape musical theatre. \nInfo & Tickets
URL:https://bayarearegistry.com/event/cabaret-series-black-broadway/
LOCATION:Feinstein’s at The Nikko\, 222 Mason Street\, San Francisco\, CA\, 94102\, United States
CATEGORIES:Arts + Culture,BHM 2026,Live Music,Performing Arts,San Francisco + South SF Area
ATTACH;FMTTYPE=image/jpeg:https://bayarearegistry.com/wp-content/uploads/2026/02/imgi_1_SFBATCO_BlackBroadway_Withjeannine-e1771263787589.jpeg
ORGANIZER;CN="SFBATCO":MAILTO:info@sfbatco.org
GEO:37.7860672;-122.4092521
X-APPLE-STRUCTURED-LOCATION;VALUE=URI;X-ADDRESS=Feinstein’s at The Nikko 222 Mason Street San Francisco CA 94102 United States;X-APPLE-RADIUS=500;X-TITLE=222 Mason Street:geo:-122.4092521,37.7860672
END:VEVENT
END:VCALENDAR