BEGIN:VCALENDAR
VERSION:2.0
PRODID:-//BAR | Bay Area Registry - ECPv6.15.20//NONSGML v1.0//EN
CALSCALE:GREGORIAN
METHOD:PUBLISH
X-WR-CALNAME:BAR | Bay Area Registry
X-ORIGINAL-URL:https://bayarearegistry.com
X-WR-CALDESC:Events for BAR | Bay Area Registry
REFRESH-INTERVAL;VALUE=DURATION:PT1H
X-Robots-Tag:noindex
X-PUBLISHED-TTL:PT1H
BEGIN:VTIMEZONE
TZID:America/Los_Angeles
BEGIN:DAYLIGHT
TZOFFSETFROM:-0800
TZOFFSETTO:-0700
TZNAME:PDT
DTSTART:20250309T100000
END:DAYLIGHT
BEGIN:STANDARD
TZOFFSETFROM:-0700
TZOFFSETTO:-0800
TZNAME:PST
DTSTART:20251102T090000
END:STANDARD
BEGIN:DAYLIGHT
TZOFFSETFROM:-0800
TZOFFSETTO:-0700
TZNAME:PDT
DTSTART:20260308T100000
END:DAYLIGHT
BEGIN:STANDARD
TZOFFSETFROM:-0700
TZOFFSETTO:-0800
TZNAME:PST
DTSTART:20261101T090000
END:STANDARD
BEGIN:DAYLIGHT
TZOFFSETFROM:-0800
TZOFFSETTO:-0700
TZNAME:PDT
DTSTART:20270314T100000
END:DAYLIGHT
BEGIN:STANDARD
TZOFFSETFROM:-0700
TZOFFSETTO:-0800
TZNAME:PST
DTSTART:20271107T090000
END:STANDARD
END:VTIMEZONE
BEGIN:VEVENT
DTSTART;TZID=America/Los_Angeles:20260425T110000
DTEND;TZID=America/Los_Angeles:20260425T110000
DTSTAMP:20260425T080300
CREATED:20260417T110910Z
LAST-MODIFIED:20260417T111017Z
UID:10010828-1777114800-1777114800@bayarearegistry.com
SUMMARY:SFJAZZ Student Poetry Showcase
DESCRIPTION:SFJAZZ’s Education Department welcomes nationally renowned spoken word poets and jazz musicians to celebrate the youth we serve. \nThis event will feature students from Jazz in the Middle\, SFJAZZ’s premiere middle school arts programs\, student musicians\, youth poets from the Bay Area\, and our star-studded staff of Teaching Artists for an afternoon of poetry\, jazz and reflection on how these art forms work together to move us toward a brighter future. \nInfo & Tickets
URL:https://bayarearegistry.com/event/sfjazz-student-poetry-showcase/
LOCATION:SFJAZZ\, 201 Franklin Street\, San Francisco\, CA\, 94102\, United States
CATEGORIES:Arts + Culture,Live Music,Performing Arts,Poetry + Spoken Word,San Francisco + South SF Area
ATTACH;FMTTYPE=image/jpeg:https://bayarearegistry.com/wp-content/uploads/2026/04/imgi_13_s2526_edu_hero_poetryshowcase_v2-e1776424142385.jpg
GEO:37.776395;-122.421554
X-APPLE-STRUCTURED-LOCATION;VALUE=URI;X-ADDRESS=SFJAZZ 201 Franklin Street San Francisco CA 94102 United States;X-APPLE-RADIUS=500;X-TITLE=201 Franklin Street:geo:-122.421554,37.776395
END:VEVENT
BEGIN:VEVENT
DTSTART;TZID=America/Los_Angeles:20260425T190000
DTEND;TZID=America/Los_Angeles:20260425T190000
DTSTAMP:20260425T080300
CREATED:20260417T111830Z
LAST-MODIFIED:20260417T111830Z
UID:10010829-1777143600-1777143600@bayarearegistry.com
SUMMARY:Allan Harris: The Poetry of Jazz
DESCRIPTION:The Miami Herald aptly described Allan Harris’ gifts when it praised him for projecting “the warmth of Tony Bennett\, the bite and rhythmic sense of Sinatra\, and the sly elegance of Nat ‘King’ Cole.” Admired for his resonant baritone\, graceful phrasing and natural way with a wide range of material\, the Brooklyn-born\, Harlem-based singer\, guitarist and composer is a prized New York jazz and cabaret performer who’s equally commanding singing songs by Lerner and Loewe and Ahmad Jamal\, Duke Ellington and Elton John. \nInfo & Tickets
URL:https://bayarearegistry.com/event/allan-harris-the-poetry-of-jazz/2026-04-25/1/
LOCATION:SFJAZZ\, 201 Franklin Street\, San Francisco\, CA\, 94102\, United States
CATEGORIES:Arts + Culture,Live Music,Performing Arts,San Francisco + South SF Area
ATTACH;FMTTYPE=image/jpeg:https://bayarearegistry.com/wp-content/uploads/2026/04/imgi_13_s2526_hero_allanharris-1-e1776424702567.jpg
GEO:37.776395;-122.421554
X-APPLE-STRUCTURED-LOCATION;VALUE=URI;X-ADDRESS=SFJAZZ 201 Franklin Street San Francisco CA 94102 United States;X-APPLE-RADIUS=500;X-TITLE=201 Franklin Street:geo:-122.421554,37.776395
END:VEVENT
BEGIN:VEVENT
DTSTART;TZID=America/Los_Angeles:20260425T193000
DTEND;TZID=America/Los_Angeles:20260425T193000
DTSTAMP:20260425T080300
CREATED:20260417T112244Z
LAST-MODIFIED:20260417T112244Z
UID:10010833-1777145400-1777145400@bayarearegistry.com
SUMMARY:Sullivan Fortner Trio / Endea Owens & the Cookout
DESCRIPTION:New Orleans piano maestro Sullivan Fortner debuted at the SFJAZZ Center in the superlative company of Cécile McLorin Salvant. He celebrated Thelonious Monk’s birthday in 2024 with three sublime solo sets and riveted the San Francisco Jazz Festival audience last June with an expansive duo encounter with Ambrose Akinmusire. He makes his Miner Auditorium debut as a bandleader with his exquisitely calibrated trio\, which seamlessly traverses more than a century of American music with a supple\, celebratory Crescent City sensibility. \nInfo & Tickets
URL:https://bayarearegistry.com/event/sullivan-fortner-trio-endea-owens-the-cookout/
LOCATION:SFJAZZ\, 201 Franklin Street\, San Francisco\, CA\, 94102\, United States
CATEGORIES:Arts + Culture,Live Music,Performing Arts,San Francisco + South SF Area
ATTACH;FMTTYPE=image/jpeg:https://bayarearegistry.com/wp-content/uploads/2026/04/imgi_13_s2526_hero_sullivanfortnerendeaowens-e1776424956624.jpg
GEO:37.776395;-122.421554
X-APPLE-STRUCTURED-LOCATION;VALUE=URI;X-ADDRESS=SFJAZZ 201 Franklin Street San Francisco CA 94102 United States;X-APPLE-RADIUS=500;X-TITLE=201 Franklin Street:geo:-122.421554,37.776395
END:VEVENT
BEGIN:VEVENT
DTSTART;TZID=America/Los_Angeles:20260425T203000
DTEND;TZID=America/Los_Angeles:20260425T203000
DTSTAMP:20260425T080300
CREATED:20260417T111830Z
LAST-MODIFIED:20260417T111830Z
UID:10010830-1777149000-1777149000@bayarearegistry.com
SUMMARY:Allan Harris: The Poetry of Jazz
DESCRIPTION:The Miami Herald aptly described Allan Harris’ gifts when it praised him for projecting “the warmth of Tony Bennett\, the bite and rhythmic sense of Sinatra\, and the sly elegance of Nat ‘King’ Cole.” Admired for his resonant baritone\, graceful phrasing and natural way with a wide range of material\, the Brooklyn-born\, Harlem-based singer\, guitarist and composer is a prized New York jazz and cabaret performer who’s equally commanding singing songs by Lerner and Loewe and Ahmad Jamal\, Duke Ellington and Elton John. \nInfo & Tickets
URL:https://bayarearegistry.com/event/allan-harris-the-poetry-of-jazz/2026-04-25/2/
LOCATION:SFJAZZ\, 201 Franklin Street\, San Francisco\, CA\, 94102\, United States
CATEGORIES:Arts + Culture,Live Music,Performing Arts,San Francisco + South SF Area
ATTACH;FMTTYPE=image/jpeg:https://bayarearegistry.com/wp-content/uploads/2026/04/imgi_13_s2526_hero_allanharris-1-e1776424702567.jpg
GEO:37.776395;-122.421554
X-APPLE-STRUCTURED-LOCATION;VALUE=URI;X-ADDRESS=SFJAZZ 201 Franklin Street San Francisco CA 94102 United States;X-APPLE-RADIUS=500;X-TITLE=201 Franklin Street:geo:-122.421554,37.776395
END:VEVENT
BEGIN:VEVENT
DTSTART;TZID=America/Los_Angeles:20260426T180000
DTEND;TZID=America/Los_Angeles:20260426T180000
DTSTAMP:20260425T080300
CREATED:20260417T111830Z
LAST-MODIFIED:20260417T111830Z
UID:10010831-1777226400-1777226400@bayarearegistry.com
SUMMARY:Allan Harris: The Poetry of Jazz
DESCRIPTION:The Miami Herald aptly described Allan Harris’ gifts when it praised him for projecting “the warmth of Tony Bennett\, the bite and rhythmic sense of Sinatra\, and the sly elegance of Nat ‘King’ Cole.” Admired for his resonant baritone\, graceful phrasing and natural way with a wide range of material\, the Brooklyn-born\, Harlem-based singer\, guitarist and composer is a prized New York jazz and cabaret performer who’s equally commanding singing songs by Lerner and Loewe and Ahmad Jamal\, Duke Ellington and Elton John. \nInfo & Tickets
URL:https://bayarearegistry.com/event/allan-harris-the-poetry-of-jazz/2026-04-26/1/
LOCATION:SFJAZZ\, 201 Franklin Street\, San Francisco\, CA\, 94102\, United States
CATEGORIES:Arts + Culture,Live Music,Performing Arts,San Francisco + South SF Area
ATTACH;FMTTYPE=image/jpeg:https://bayarearegistry.com/wp-content/uploads/2026/04/imgi_13_s2526_hero_allanharris-1-e1776424702567.jpg
GEO:37.776395;-122.421554
X-APPLE-STRUCTURED-LOCATION;VALUE=URI;X-ADDRESS=SFJAZZ 201 Franklin Street San Francisco CA 94102 United States;X-APPLE-RADIUS=500;X-TITLE=201 Franklin Street:geo:-122.421554,37.776395
END:VEVENT
BEGIN:VEVENT
DTSTART;TZID=America/Los_Angeles:20260426T190000
DTEND;TZID=America/Los_Angeles:20260426T190000
DTSTAMP:20260425T080300
CREATED:20260417T112616Z
LAST-MODIFIED:20260417T112616Z
UID:10010834-1777230000-1777230000@bayarearegistry.com
SUMMARY:Aaron Diehl Trio
DESCRIPTION:An artist who “gracefully melds two worlds\, merging the improvisational spirit of jazz with the compositional intricacies of Western classical music” (DownBeat)\, pianist Aaron Diehl is a superlative instrumentalist of rare flexibility and creative power. Best known as a bandleader and classical pianist\, and to SFJAZZ audiences for his work with Cécile McLorin Salvant\, he brings his working trio for this headlining date. \nInfo & Tickets
URL:https://bayarearegistry.com/event/aaron-diehl-trio/
LOCATION:SFJAZZ\, 201 Franklin Street\, San Francisco\, CA\, 94102\, United States
CATEGORIES:Arts + Culture,Live Music,Performing Arts,San Francisco + South SF Area
ATTACH;FMTTYPE=image/jpeg:https://bayarearegistry.com/wp-content/uploads/2026/04/imgi_13_aaron-diehl-hero-e1776425166675.jpg
GEO:37.776395;-122.421554
X-APPLE-STRUCTURED-LOCATION;VALUE=URI;X-ADDRESS=SFJAZZ 201 Franklin Street San Francisco CA 94102 United States;X-APPLE-RADIUS=500;X-TITLE=201 Franklin Street:geo:-122.421554,37.776395
END:VEVENT
BEGIN:VEVENT
DTSTART;TZID=America/Los_Angeles:20260426T193000
DTEND;TZID=America/Los_Angeles:20260426T193000
DTSTAMP:20260425T080300
CREATED:20260417T111830Z
LAST-MODIFIED:20260417T111830Z
UID:10010832-1777231800-1777231800@bayarearegistry.com
SUMMARY:Allan Harris: The Poetry of Jazz
DESCRIPTION:The Miami Herald aptly described Allan Harris’ gifts when it praised him for projecting “the warmth of Tony Bennett\, the bite and rhythmic sense of Sinatra\, and the sly elegance of Nat ‘King’ Cole.” Admired for his resonant baritone\, graceful phrasing and natural way with a wide range of material\, the Brooklyn-born\, Harlem-based singer\, guitarist and composer is a prized New York jazz and cabaret performer who’s equally commanding singing songs by Lerner and Loewe and Ahmad Jamal\, Duke Ellington and Elton John. \nInfo & Tickets
URL:https://bayarearegistry.com/event/allan-harris-the-poetry-of-jazz/2026-04-26/2/
LOCATION:SFJAZZ\, 201 Franklin Street\, San Francisco\, CA\, 94102\, United States
CATEGORIES:Arts + Culture,Live Music,Performing Arts,San Francisco + South SF Area
ATTACH;FMTTYPE=image/jpeg:https://bayarearegistry.com/wp-content/uploads/2026/04/imgi_13_s2526_hero_allanharris-1-e1776424702567.jpg
GEO:37.776395;-122.421554
X-APPLE-STRUCTURED-LOCATION;VALUE=URI;X-ADDRESS=SFJAZZ 201 Franklin Street San Francisco CA 94102 United States;X-APPLE-RADIUS=500;X-TITLE=201 Franklin Street:geo:-122.421554,37.776395
END:VEVENT
BEGIN:VEVENT
DTSTART;TZID=America/Los_Angeles:20260511T200000
DTEND;TZID=America/Los_Angeles:20260511T200000
DTSTAMP:20260425T080300
CREATED:20251004T064452Z
LAST-MODIFIED:20251022T182331Z
UID:10009396-1778529600-1778529600@bayarearegistry.com
SUMMARY:George Benson
DESCRIPTION:The most celebrated living jazz guitarist\, a 10-time GRAMMY winner\, and a 2009 NEA Jazz Master\, the legendary George Benson makes his SFJAZZ debut with this performance at Davies Symphony Hall. \nInfo & Tickets
URL:https://bayarearegistry.com/event/george-benson/
LOCATION:SFJAZZ\, 201 Franklin Street\, San Francisco\, CA\, 94102\, United States
CATEGORIES:Arts + Culture,Live Music,Performing Arts,San Francisco + South SF Area
ATTACH;FMTTYPE=image/jpeg:https://bayarearegistry.com/wp-content/uploads/2025/10/s2526_hero_george_benson-e1759560239917.jpg
GEO:37.776395;-122.421554
X-APPLE-STRUCTURED-LOCATION;VALUE=URI;X-ADDRESS=SFJAZZ 201 Franklin Street San Francisco CA 94102 United States;X-APPLE-RADIUS=500;X-TITLE=201 Franklin Street:geo:-122.421554,37.776395
END:VEVENT
END:VCALENDAR