BEGIN:VCALENDAR
VERSION:2.0
PRODID:-//BAR | Bay Area Registry - ECPv6.15.20//NONSGML v1.0//EN
CALSCALE:GREGORIAN
METHOD:PUBLISH
X-ORIGINAL-URL:https://bayarearegistry.com
X-WR-CALDESC:Events for BAR | Bay Area Registry
REFRESH-INTERVAL;VALUE=DURATION:PT1H
X-Robots-Tag:noindex
X-PUBLISHED-TTL:PT1H
BEGIN:VTIMEZONE
TZID:America/Los_Angeles
BEGIN:DAYLIGHT
TZOFFSETFROM:-0800
TZOFFSETTO:-0700
TZNAME:PDT
DTSTART:20250309T100000
END:DAYLIGHT
BEGIN:STANDARD
TZOFFSETFROM:-0700
TZOFFSETTO:-0800
TZNAME:PST
DTSTART:20251102T090000
END:STANDARD
BEGIN:DAYLIGHT
TZOFFSETFROM:-0800
TZOFFSETTO:-0700
TZNAME:PDT
DTSTART:20260308T100000
END:DAYLIGHT
BEGIN:STANDARD
TZOFFSETFROM:-0700
TZOFFSETTO:-0800
TZNAME:PST
DTSTART:20261101T090000
END:STANDARD
BEGIN:DAYLIGHT
TZOFFSETFROM:-0800
TZOFFSETTO:-0700
TZNAME:PDT
DTSTART:20270314T100000
END:DAYLIGHT
BEGIN:STANDARD
TZOFFSETFROM:-0700
TZOFFSETTO:-0800
TZNAME:PST
DTSTART:20271107T090000
END:STANDARD
END:VTIMEZONE
BEGIN:VEVENT
DTSTART;VALUE=DATE:20260321
DTEND;VALUE=DATE:20260420
DTSTAMP:20260421T124520
CREATED:20260207T073700Z
LAST-MODIFIED:20260420T153955Z
UID:10010209-1774051200-1776643199@bayarearegistry.com
SUMMARY:The Goat
DESCRIPTION:Martin has it all – a successful architecture career\, loving wife\, and son – but he also has a salacious secret. Martin is secretly in love… with a goat. Edward Albee’s Tony Award-winning tragedy edges the line of morality while exploring the limits of love and what is considered taboo in a modern society. \nInfo & Tickets
URL:https://bayarearegistry.com/event/the-goat/
LOCATION:The Ashby Stage @ Shotgun Players\, 1901 Ashby Ave\, Berkeley\, CA\, 94703\, United States
CATEGORIES:Arts + Culture,Berkeley,East Bay,Performing Arts,Theater + Film
ATTACH;FMTTYPE=image/jpeg:https://bayarearegistry.com/wp-content/uploads/2026/02/the_goat_poster-scaled-e1770449771654.jpg
ORGANIZER;CN="Shotgun Players":MAILTO:Boxoffice@shotgunplayers.org
GEO:37.8545781;-122.2709006
X-APPLE-STRUCTURED-LOCATION;VALUE=URI;X-ADDRESS=The Ashby Stage @ Shotgun Players 1901 Ashby Ave Berkeley CA 94703 United States;X-APPLE-RADIUS=500;X-TITLE=1901 Ashby Ave:geo:-122.2709006,37.8545781
END:VEVENT
BEGIN:VEVENT
DTSTART;VALUE=DATE:20260206
DTEND;VALUE=DATE:20260404
DTSTAMP:20260421T124520
CREATED:20260129T145541Z
LAST-MODIFIED:20260405T084957Z
UID:10010038-1770336000-1775260799@bayarearegistry.com
SUMMARY:Miriam’s Place
DESCRIPTION:Miriam Schiffman was a life-long learner with an insatiable curiosity and passion for bringing people together. She also loved theater. With the generous support of her beloved husband\, Stan\, we have dedicated space at our studios to host gatherings for the exploration of live theater and the promotion of fellowship around shared interests and perspectives. There’ll be coffee and tea at every session. \nInfo & Tickets
URL:https://bayarearegistry.com/event/miriams-place/
LOCATION:The Ashby Stage @ Shotgun Players\, 1901 Ashby Ave\, Berkeley\, CA\, 94703\, United States
CATEGORIES:Arts + Culture,Berkeley,Community,East Bay,Performing Arts,Theater + Film
ATTACH;FMTTYPE=image/jpeg:https://bayarearegistry.com/wp-content/uploads/2026/01/Shotgun-Spotlight-scaled-e1769698764679.jpg
ORGANIZER;CN="Shotgun Players":MAILTO:Boxoffice@shotgunplayers.org
GEO:37.8545781;-122.2709006
X-APPLE-STRUCTURED-LOCATION;VALUE=URI;X-ADDRESS=The Ashby Stage @ Shotgun Players 1901 Ashby Ave Berkeley CA 94703 United States;X-APPLE-RADIUS=500;X-TITLE=1901 Ashby Ave:geo:-122.2709006,37.8545781
END:VEVENT
BEGIN:VEVENT
DTSTART;TZID=America/Los_Angeles:20260202T190000
DTEND;TZID=America/Los_Angeles:20260202T203000
DTSTAMP:20260421T124520
CREATED:20260129T144529Z
LAST-MODIFIED:20260205T173052Z
UID:10010037-1770058800-1770064200@bayarearegistry.com
SUMMARY:Tax Prep for Artists!
DESCRIPTION:This presentation and workshop will teach creatives how to take control of their finances. Jae Starfox of The Radical Accountant presents tips and tricks focused specifically on the needs of arts workers\, gig workers\, and non-traditional job holders of all types. The session will include a Q&A section to ask specific questions. The goal is for Artists to leave the workshop feeling empowered to approach tax season. \nInfo & Tickets
URL:https://bayarearegistry.com/event/tax-prep-for-artists/
LOCATION:The Ashby Stage @ Shotgun Players\, 1901 Ashby Ave\, Berkeley\, CA\, 94703\, United States
CATEGORIES:Arts + Culture,Berkeley,Business / Professional,Community,East Bay
ATTACH;FMTTYPE=image/jpeg:https://bayarearegistry.com/wp-content/uploads/2026/01/imgi_2_622379320_18553980427056069_5094646820696501215_n-e1769697921798.jpg
ORGANIZER;CN="Shotgun Players":MAILTO:Boxoffice@shotgunplayers.org
GEO:37.8545781;-122.2709006
X-APPLE-STRUCTURED-LOCATION;VALUE=URI;X-ADDRESS=The Ashby Stage @ Shotgun Players 1901 Ashby Ave Berkeley CA 94703 United States;X-APPLE-RADIUS=500;X-TITLE=1901 Ashby Ave:geo:-122.2709006,37.8545781
END:VEVENT
BEGIN:VEVENT
DTSTART;VALUE=DATE:20260121
DTEND;VALUE=DATE:20260216
DTSTAMP:20260421T124520
CREATED:20260121T070930Z
LAST-MODIFIED:20260216T141557Z
UID:10009968-1768953600-1771199999@bayarearegistry.com
SUMMARY:Sunday in the Park with George
DESCRIPTION:Sunday in the Park with George is a 1984 musical with music and lyrics by Stephen Sondheim and book by James Lapine. It was inspired by the French pointillist painter Georges Seurat’s painting A Sunday Afternoon on the Island of La Grande Jatte. \nInfo & Tickets
URL:https://bayarearegistry.com/event/sunday-in-the-park-with-george-2/
LOCATION:The Ashby Stage @ Shotgun Players\, 1901 Ashby Ave\, Berkeley\, CA\, 94703\, United States
CATEGORIES:Arts + Culture,Berkeley,East Bay,Live Music,Performing Arts,Theater + Film
ATTACH;FMTTYPE=image/jpeg:https://bayarearegistry.com/wp-content/uploads/2026/01/imgi_1_event-detail-image_31316-e1768979361643.jpg
ORGANIZER;CN="Shotgun Players":MAILTO:Boxoffice@shotgunplayers.org
GEO:37.8545781;-122.2709006
X-APPLE-STRUCTURED-LOCATION;VALUE=URI;X-ADDRESS=The Ashby Stage @ Shotgun Players 1901 Ashby Ave Berkeley CA 94703 United States;X-APPLE-RADIUS=500;X-TITLE=1901 Ashby Ave:geo:-122.2709006,37.8545781
END:VEVENT
END:VCALENDAR