BEGIN:VCALENDAR
VERSION:2.0
PRODID:-//BAR | Bay Area Registry - ECPv6.15.20//NONSGML v1.0//EN
CALSCALE:GREGORIAN
METHOD:PUBLISH
X-ORIGINAL-URL:https://bayarearegistry.com
X-WR-CALDESC:Events for BAR | Bay Area Registry
REFRESH-INTERVAL;VALUE=DURATION:PT1H
X-Robots-Tag:noindex
X-PUBLISHED-TTL:PT1H
BEGIN:VTIMEZONE
TZID:America/Los_Angeles
BEGIN:DAYLIGHT
TZOFFSETFROM:-0800
TZOFFSETTO:-0700
TZNAME:PDT
DTSTART:20250309T100000
END:DAYLIGHT
BEGIN:STANDARD
TZOFFSETFROM:-0700
TZOFFSETTO:-0800
TZNAME:PST
DTSTART:20251102T090000
END:STANDARD
BEGIN:DAYLIGHT
TZOFFSETFROM:-0800
TZOFFSETTO:-0700
TZNAME:PDT
DTSTART:20260308T100000
END:DAYLIGHT
BEGIN:STANDARD
TZOFFSETFROM:-0700
TZOFFSETTO:-0800
TZNAME:PST
DTSTART:20261101T090000
END:STANDARD
BEGIN:DAYLIGHT
TZOFFSETFROM:-0800
TZOFFSETTO:-0700
TZNAME:PDT
DTSTART:20270314T100000
END:DAYLIGHT
BEGIN:STANDARD
TZOFFSETFROM:-0700
TZOFFSETTO:-0800
TZNAME:PST
DTSTART:20271107T090000
END:STANDARD
END:VTIMEZONE
BEGIN:VEVENT
DTSTART;TZID=America/Los_Angeles:20260510T173000
DTEND;TZID=America/Los_Angeles:20260510T190000
DTSTAMP:20260419T185153
CREATED:20260417T051143Z
LAST-MODIFIED:20260417T051143Z
UID:10010806-1778434200-1778439600@bayarearegistry.com
SUMMARY:Electric Squeezebox Orchestra
DESCRIPTION:The Electric Squeezebox Orchestra is the Bay Area’s own 17-piece big band\, led by trumpeter Erik Jekabson\, playing music composed and arranged by its members. The composers and arrangers\, some of the very best in the Bay\, draw from a wide variety of influences but always come up with powerful music with groove\, beauty and subtlety. The band\, which started a steady Sunday residency at the Jazzschool\, has collaborated with a number of special guest artists\, including John Santos\, Kenny Washington\, Alan Ferber\, Dayna Stephens\, Mads Tolling\, Sandy Cressman\, Kellye Gray\, Avotcja\, Spok and Ben Goldberg. \nInfo & Tickets
URL:https://bayarearegistry.com/event/electric-squeezebox-orchestra-2/
LOCATION:Hardymon Hall @ The Jazzschool\, 2087 Addison Street\, Berkeley\, CA\, 94704\, United States
CATEGORIES:Arts + Culture,Berkeley,East Bay,Live Music,Performing Arts
ATTACH;FMTTYPE=image/png:https://bayarearegistry.com/wp-content/uploads/2026/04/183710_event_md_301-1920x1219-1-e1775337786152.png
END:VEVENT
END:VCALENDAR