BEGIN:VCALENDAR
VERSION:2.0
PRODID:-//BAR | Bay Area Registry - ECPv6.15.20//NONSGML v1.0//EN
CALSCALE:GREGORIAN
METHOD:PUBLISH
X-ORIGINAL-URL:https://bayarearegistry.com
X-WR-CALDESC:Events for BAR | Bay Area Registry
REFRESH-INTERVAL;VALUE=DURATION:PT1H
X-Robots-Tag:noindex
X-PUBLISHED-TTL:PT1H
BEGIN:VTIMEZONE
TZID:America/Los_Angeles
BEGIN:DAYLIGHT
TZOFFSETFROM:-0800
TZOFFSETTO:-0700
TZNAME:PDT
DTSTART:20250309T100000
END:DAYLIGHT
BEGIN:STANDARD
TZOFFSETFROM:-0700
TZOFFSETTO:-0800
TZNAME:PST
DTSTART:20251102T090000
END:STANDARD
BEGIN:DAYLIGHT
TZOFFSETFROM:-0800
TZOFFSETTO:-0700
TZNAME:PDT
DTSTART:20260308T100000
END:DAYLIGHT
BEGIN:STANDARD
TZOFFSETFROM:-0700
TZOFFSETTO:-0800
TZNAME:PST
DTSTART:20261101T090000
END:STANDARD
BEGIN:DAYLIGHT
TZOFFSETFROM:-0800
TZOFFSETTO:-0700
TZNAME:PDT
DTSTART:20270314T100000
END:DAYLIGHT
BEGIN:STANDARD
TZOFFSETFROM:-0700
TZOFFSETTO:-0800
TZNAME:PST
DTSTART:20271107T090000
END:STANDARD
END:VTIMEZONE
BEGIN:VEVENT
DTSTART;TZID=America/Los_Angeles:20260510T200000
DTEND;TZID=America/Los_Angeles:20260510T200000
DTSTAMP:20260425T151157
CREATED:20260425T061324Z
LAST-MODIFIED:20260425T061324Z
UID:10010885-1778443200-1778443200@bayarearegistry.com
SUMMARY:Protoje Dubwise
DESCRIPTION:Protoje is the name that reverberates at the core of Jamaica’s musical renaissance. A visionary and an architect of sound\, Protoje has redefined what it means to be a modern artist\, blending the rich heritage of reggae with the fresh influence of hip-hop\, soul\, and jazz. From his roots in Saint Elizabeth\, Jamaica\, Protoje’s journey is one marked by passion\, purpose\, and an unwavering commitment to his craft. \nInfo & Tickets
URL:https://bayarearegistry.com/event/protoje-dubwise/
LOCATION:The UC Theatre\, 2036 University Ave\, Berkeley\, CA\, 94704\, United States
CATEGORIES:Arts + Culture,Berkeley,East Bay,Live Music,Performing Arts
ATTACH;FMTTYPE=image/jpeg:https://bayarearegistry.com/wp-content/uploads/2026/04/Protoje-e1777097568133.jpeg
ORGANIZER;CN="The UC Theatre":MAILTO:information@theuctheatre.org
GEO:37.871845;-122.269807
X-APPLE-STRUCTURED-LOCATION;VALUE=URI;X-ADDRESS=The UC Theatre 2036 University Ave Berkeley CA 94704 United States;X-APPLE-RADIUS=500;X-TITLE=2036 University Ave:geo:-122.269807,37.871845
END:VEVENT
BEGIN:VEVENT
DTSTART;TZID=America/Los_Angeles:20260516T200000
DTEND;TZID=America/Los_Angeles:20260516T200000
DTSTAMP:20260425T151157
CREATED:20260425T050222Z
LAST-MODIFIED:20260425T050222Z
UID:10010884-1778961600-1778961600@bayarearegistry.com
SUMMARY:Cimafunk Sun Hop Fat
DESCRIPTION:With a name and image that pays tribute to the Cimarrons – Cubans of African descent that resisted slavery – and music and showmanship that re-embodies funk legends from the last century\, the medical-school student turned funk artist has developed into a musical force crafting the sonic future of the island and a global\, cultural phenomenon that unites and celebrates blackness across borders\, oceans and languages. Performing with La Tribu (The Tribe)\, his 9-piece band from Havana\, Cimafunk has electrified global audiences on massive stages and worldwide temples of music\, making a name for himself as one of the great showmen of today. After three consecutive Grammy nominations\, a Latin Grammy nomination for “Record of the Year” and becoming the first Cuban born artist to play Coachella\, you can find Cimafunk at New Orleans Jazz Fest\, performing at the Kennedy Center Honors\, lighting up NPR’s Tiny Desk\, rocking stages in Japan or Australia\, or hanging with the Godfather of Funk George Clinton. \nInfo & Tickets
URL:https://bayarearegistry.com/event/cimafunk-sun-hop-fat/
LOCATION:The UC Theatre\, 2036 University Ave\, Berkeley\, CA\, 94704\, United States
CATEGORIES:Arts + Culture,Berkeley,East Bay,Live Music,Performing Arts
ATTACH;FMTTYPE=image/jpeg:https://bayarearegistry.com/wp-content/uploads/2026/04/Cimafunk-e1777093306442.jpeg
ORGANIZER;CN="The UC Theatre":MAILTO:information@theuctheatre.org
GEO:37.871845;-122.269807
X-APPLE-STRUCTURED-LOCATION;VALUE=URI;X-ADDRESS=The UC Theatre 2036 University Ave Berkeley CA 94704 United States;X-APPLE-RADIUS=500;X-TITLE=2036 University Ave:geo:-122.269807,37.871845
END:VEVENT
BEGIN:VEVENT
DTSTART;TZID=America/Los_Angeles:20260527T200000
DTEND;TZID=America/Los_Angeles:20260527T200000
DTSTAMP:20260425T151157
CREATED:20260425T061701Z
LAST-MODIFIED:20260425T061701Z
UID:10010886-1779912000-1779912000@bayarearegistry.com
SUMMARY:Elmiene
DESCRIPTION:Join us in welcoming R&B and soul artist Elmiene at The UC Theatre on May 27th! \nAt just 22 years old\, the British-Sudanese singer/songwriter is steadily making a name for himself in the R&B and soul world with his smooth vocals and captivating performances\, including sold-out shows in New York\, Los Angeles\, and London. \nInfo & Tickets
URL:https://bayarearegistry.com/event/elmiene/
LOCATION:The UC Theatre\, 2036 University Ave\, Berkeley\, CA\, 94704\, United States
CATEGORIES:Arts + Culture,Berkeley,East Bay,Live Music,Performing Arts
ATTACH;FMTTYPE=image/jpeg:https://bayarearegistry.com/wp-content/uploads/2026/04/Elmiene-e1777097745210.jpeg
ORGANIZER;CN="The UC Theatre":MAILTO:information@theuctheatre.org
GEO:37.871845;-122.269807
X-APPLE-STRUCTURED-LOCATION;VALUE=URI;X-ADDRESS=The UC Theatre 2036 University Ave Berkeley CA 94704 United States;X-APPLE-RADIUS=500;X-TITLE=2036 University Ave:geo:-122.269807,37.871845
END:VEVENT
BEGIN:VEVENT
DTSTART;TZID=America/Los_Angeles:20260616T200000
DTEND;TZID=America/Los_Angeles:20260616T200000
DTSTAMP:20260425T151157
CREATED:20260425T062043Z
LAST-MODIFIED:20260425T062043Z
UID:10010887-1781640000-1781640000@bayarearegistry.com
SUMMARY:J Boog
DESCRIPTION:Born and raised on the West Coast and heavily influenced by his Polynesian upbringing\, J Boog is one of the top reggae artists in recent years. Mentored by his island reggae icon Fiji\, he honed his craft early on\, blending reggae with soulful melodies and a distinctive vocal style. A chance encounter with Yami Bolo and Gramps Morgan led him to Jamaica\, where he worked in the historical studios of Bob Marley\, Don Corleon\, Bobby Digital\, Shaggy\, and Sugar Minott – an experience that deepened his connection to reggae’s rich history and the islands’ culture. \nInfo & Tickets
URL:https://bayarearegistry.com/event/j-boog/
LOCATION:The UC Theatre\, 2036 University Ave\, Berkeley\, CA\, 94704\, United States
CATEGORIES:Arts + Culture,Berkeley,East Bay,Live Music,Performing Arts
ATTACH;FMTTYPE=image/jpeg:https://bayarearegistry.com/wp-content/uploads/2026/04/J-Boog-e1777098000778.jpeg
ORGANIZER;CN="The UC Theatre":MAILTO:information@theuctheatre.org
GEO:37.871845;-122.269807
X-APPLE-STRUCTURED-LOCATION;VALUE=URI;X-ADDRESS=The UC Theatre 2036 University Ave Berkeley CA 94704 United States;X-APPLE-RADIUS=500;X-TITLE=2036 University Ave:geo:-122.269807,37.871845
END:VEVENT
BEGIN:VEVENT
DTSTART;TZID=America/Los_Angeles:20260630T200000
DTEND;TZID=America/Los_Angeles:20260630T200000
DTSTAMP:20260425T151157
CREATED:20260425T062432Z
LAST-MODIFIED:20260425T062432Z
UID:10010888-1782849600-1782849600@bayarearegistry.com
SUMMARY:Cymande
DESCRIPTION:When Cymande released their self-titled debut album in 1972\, their unique blend of calypso\, reggae\, funk and jazz struck a chord with American audiences. \nBack home in the U.K.\, the band was largely ignored. \nThe children of Caribbean immigrants\, band founders Steve Scipio and Patrick Patterson recall what it was like watching Black musicians from the U.S. being embraced in the U.K.\, even when they themselves were not. \nInfo & Tickets
URL:https://bayarearegistry.com/event/cymande/
LOCATION:The UC Theatre\, 2036 University Ave\, Berkeley\, CA\, 94704\, United States
CATEGORIES:Arts + Culture,Berkeley,East Bay,Live Music,Performing Arts
ATTACH;FMTTYPE=image/jpeg:https://bayarearegistry.com/wp-content/uploads/2026/04/Cymande-e1777098228660.jpeg
ORGANIZER;CN="The UC Theatre":MAILTO:information@theuctheatre.org
GEO:37.871845;-122.269807
X-APPLE-STRUCTURED-LOCATION;VALUE=URI;X-ADDRESS=The UC Theatre 2036 University Ave Berkeley CA 94704 United States;X-APPLE-RADIUS=500;X-TITLE=2036 University Ave:geo:-122.269807,37.871845
END:VEVENT
END:VCALENDAR