BEGIN:VCALENDAR
VERSION:2.0
PRODID:-//BAR | Bay Area Registry - ECPv6.15.20//NONSGML v1.0//EN
CALSCALE:GREGORIAN
METHOD:PUBLISH
X-WR-CALNAME:BAR | Bay Area Registry
X-ORIGINAL-URL:https://bayarearegistry.com
X-WR-CALDESC:Events for BAR | Bay Area Registry
REFRESH-INTERVAL;VALUE=DURATION:PT1H
X-Robots-Tag:noindex
X-PUBLISHED-TTL:PT1H
BEGIN:VTIMEZONE
TZID:America/Los_Angeles
BEGIN:DAYLIGHT
TZOFFSETFROM:-0800
TZOFFSETTO:-0700
TZNAME:PDT
DTSTART:20250309T100000
END:DAYLIGHT
BEGIN:STANDARD
TZOFFSETFROM:-0700
TZOFFSETTO:-0800
TZNAME:PST
DTSTART:20251102T090000
END:STANDARD
BEGIN:DAYLIGHT
TZOFFSETFROM:-0800
TZOFFSETTO:-0700
TZNAME:PDT
DTSTART:20260308T100000
END:DAYLIGHT
BEGIN:STANDARD
TZOFFSETFROM:-0700
TZOFFSETTO:-0800
TZNAME:PST
DTSTART:20261101T090000
END:STANDARD
BEGIN:DAYLIGHT
TZOFFSETFROM:-0800
TZOFFSETTO:-0700
TZNAME:PDT
DTSTART:20270314T100000
END:DAYLIGHT
BEGIN:STANDARD
TZOFFSETFROM:-0700
TZOFFSETTO:-0800
TZNAME:PST
DTSTART:20271107T090000
END:STANDARD
END:VTIMEZONE
BEGIN:VEVENT
DTSTART;VALUE=DATE:20260317
DTEND;VALUE=DATE:20260319
DTSTAMP:20260425T134007
CREATED:20251026T150538Z
LAST-MODIFIED:20260320T093453Z
UID:10009565-1773705600-1773878399@bayarearegistry.com
SUMMARY:Free Uber\, Lyft\, and Cab Rides by Wells Call Injury Lawyers
DESCRIPTION:The program is simple. If you have been drinking – take an Uber\, Lyft\, or cab\, and you’ll get a reimbursement from us! We want you home safe this holiday season. \nInfo & Tickets
URL:https://bayarearegistry.com/event/free-uber-lyft-and-cab-rides-by-wells-call-injury-lawyers-2/
LOCATION:FAIRFIELD OFFICE\, 1455 Oliver Rd #110\, Fairfield\, 94534
CATEGORIES:Arts + Culture,Conversations + Speakers + Conferences
ATTACH;FMTTYPE=image/png:https://bayarearegistry.com/wp-content/uploads/2025/09/download-5-2-e1758174122467.png
END:VEVENT
END:VCALENDAR