BEGIN:VCALENDAR
VERSION:2.0
PRODID:-//BAR | Bay Area Registry - ECPv6.15.20//NONSGML v1.0//EN
CALSCALE:GREGORIAN
METHOD:PUBLISH
X-ORIGINAL-URL:https://bayarearegistry.com
X-WR-CALDESC:Events for BAR | Bay Area Registry
REFRESH-INTERVAL;VALUE=DURATION:PT1H
X-Robots-Tag:noindex
X-PUBLISHED-TTL:PT1H
BEGIN:VTIMEZONE
TZID:America/Los_Angeles
BEGIN:DAYLIGHT
TZOFFSETFROM:-0800
TZOFFSETTO:-0700
TZNAME:PDT
DTSTART:20240310T100000
END:DAYLIGHT
BEGIN:STANDARD
TZOFFSETFROM:-0700
TZOFFSETTO:-0800
TZNAME:PST
DTSTART:20241103T090000
END:STANDARD
BEGIN:DAYLIGHT
TZOFFSETFROM:-0800
TZOFFSETTO:-0700
TZNAME:PDT
DTSTART:20250309T100000
END:DAYLIGHT
BEGIN:STANDARD
TZOFFSETFROM:-0700
TZOFFSETTO:-0800
TZNAME:PST
DTSTART:20251102T090000
END:STANDARD
BEGIN:DAYLIGHT
TZOFFSETFROM:-0800
TZOFFSETTO:-0700
TZNAME:PDT
DTSTART:20260308T100000
END:DAYLIGHT
BEGIN:STANDARD
TZOFFSETFROM:-0700
TZOFFSETTO:-0800
TZNAME:PST
DTSTART:20261101T090000
END:STANDARD
BEGIN:DAYLIGHT
TZOFFSETFROM:-0800
TZOFFSETTO:-0700
TZNAME:PDT
DTSTART:20270314T100000
END:DAYLIGHT
BEGIN:STANDARD
TZOFFSETFROM:-0700
TZOFFSETTO:-0800
TZNAME:PST
DTSTART:20271107T090000
END:STANDARD
END:VTIMEZONE
BEGIN:VEVENT
DTSTART;VALUE=DATE:20250813
DTEND;VALUE=DATE:20260629
DTSTAMP:20260419T154147
CREATED:20250825T200214Z
LAST-MODIFIED:20250825T200214Z
UID:10008949-1755043200-1782691199@bayarearegistry.com
SUMMARY:Art Wall / Stephanie Syjuco: Present Tense (Roll Call)
DESCRIPTION:Debuting her largest wall installation to date\, artist Stephanie Syjuco (b. 1974\, Manila\, Philippines; lives and works in Oakland) presents Present Tense (Roll Call). Referencing the classroom routine of announcing one’s presence\, the exhibition explores radical pedagogy in the politics of education. Syjuco’s practice spans from handcrafted textiles to archival excavations\, interrogating how photography and archives shape racialized narratives of being and belonging. \nInfo & Tickets
URL:https://bayarearegistry.com/event/art-wall-stephanie-syjuco-present-tense-roll-call/
LOCATION:BAMPFA\, 2155 Center St\, Berkeley\, CA\, 94704\, United States
CATEGORIES:Arts + Culture,Berkeley,East Bay,Visual Arts
ATTACH;FMTTYPE=image/jpeg:https://bayarearegistry.com/wp-content/uploads/2025/08/cropped-image-1756152095110imj46.jpeg
END:VEVENT
BEGIN:VEVENT
DTSTART;VALUE=DATE:20250910
DTEND;VALUE=DATE:20260713
DTSTAMP:20260419T154147
CREATED:20250825T201031Z
LAST-MODIFIED:20260309T212005Z
UID:10008951-1757462400-1783900799@bayarearegistry.com
SUMMARY:Object Oriented: Abstraction and Design in the BAMPFA Collection
DESCRIPTION:Object Oriented: Abstraction and Design in the BAMPFA Collection explores how artists have represented\, reshaped\, and reimagined familiar objects\, drawing attention to the role of design in our everyday lives. This exhibition encourages acts of close looking\, asking viewers to question their immediate recognition of what they see. In this way\, an object that might at first appear to be a chair could also be considered a sculpture\, a stand-in for a body\, or simply a piece of metal. \nInfo & Tickets
URL:https://bayarearegistry.com/event/object-oriented-abstraction-and-design-in-the-bampfa-collection/
LOCATION:BAMPFA\, 2155 Center St\, Berkeley\, CA\, 94704\, United States
CATEGORIES:Arts + Culture,Berkeley,East Bay,Visual Arts
ATTACH;FMTTYPE=image/jpeg:https://bayarearegistry.com/wp-content/uploads/2025/08/cropped-image-1756152605494u0myi.jpeg
END:VEVENT
BEGIN:VEVENT
DTSTART;VALUE=DATE:20260117
DTEND;VALUE=DATE:20260420
DTSTAMP:20260419T154147
CREATED:20250825T201945Z
LAST-MODIFIED:20250909T232909Z
UID:10008952-1768608000-1776643199@bayarearegistry.com
SUMMARY:Theresa Hak Kyung Cha: Multiple Offerings
DESCRIPTION:Theresa Hak Kyung Cha: Multiple Offerings is the first retrospective in over two decades dedicated to the groundbreaking work of the artist Theresa Hak Kyung Cha (b. 1951\, Busan\, South Korea; d. 1982\, New York City). Beginning her artistic career in the Bay Area during the early 1970s\, Cha produced an expansive range of works across text-based media\, video\, and performance. Best known for her posthumously published book\, Dictee (1982)\, which weaves the personal and familial into historical narratives of displacement through word and image\, Cha’s interdisciplinary practice gave shape to the experimental art scenes in San Francisco\, New York City\, and beyond. \nInfo & Tickets
URL:https://bayarearegistry.com/event/theresa-hak-kyung-cha-multiple-offerings/
LOCATION:BAMPFA\, 2155 Center St\, Berkeley\, CA\, 94704\, United States
CATEGORIES:Arts + Culture,Berkeley,East Bay,Visual Arts
ATTACH;FMTTYPE=image/jpeg:https://bayarearegistry.com/wp-content/uploads/2025/08/cropped-image-1756153158796jl9p3.jpeg
END:VEVENT
BEGIN:VEVENT
DTSTART;VALUE=DATE:20260221
DTEND;VALUE=DATE:20260514
DTSTAMP:20260419T154147
CREATED:20260215T165043Z
LAST-MODIFIED:20260215T165043Z
UID:10010344-1771632000-1778716799@bayarearegistry.com
SUMMARY:Exhibition Tour: Object Oriented: Abstraction and Design in the BAMPFA Collection
DESCRIPTION:Graduate students from the Departments of History of Art and Film & Media offer tours of Object Oriented on select Wednesdays at 12:15 PM\, Saturdays at 2 PM\, Sundays at 2 PM. \nInfo & Tickets
URL:https://bayarearegistry.com/event/exhibition-tour-object-oriented-abstraction-and-design-in-the-bampfa-collection/
LOCATION:BAMPFA\, 2155 Center St\, Berkeley\, CA\, 94704\, United States
CATEGORIES:Arts + Culture,Berkeley,East Bay,Visual Arts
ATTACH;FMTTYPE=image/jpeg:https://bayarearegistry.com/wp-content/uploads/2025/09/Object_Oriented_4-e1758482283140.jpg
END:VEVENT
BEGIN:VEVENT
DTSTART;TZID=America/Los_Angeles:20260425T141500
DTEND;TZID=America/Los_Angeles:20260425T141500
DTSTAMP:20260419T154147
CREATED:20260416T175933Z
LAST-MODIFIED:20260416T175933Z
UID:10010783-1777126500-1777126500@bayarearegistry.com
SUMMARY:Hair\, Paper\, Water . . .
DESCRIPTION:Cao Thị Hậu and her family live in Vietnam\, surrounded by rolling green hills enveloped in mist. Here she sits with her grandchildren tending to their pains and spinning stories of the cave in Quảng Bình where she was born. Folk tales\, bees\, tigers\, and home remedies all braid themselves into her fables and the wisdom she imparts. As a storyteller and one of the few remaining indigenous Rục people\, Hậu is the keeper of memories and knowledge. She is the steward of a fast-disappearing language\, and it is her duty to fill the lives of her descendants with her words as she prepares to answer that last call from the faraway cave. Using Bolex cameras and a lush sound design\, filmmakers Nicolas Graux and Trương Minh Quý deliver a visual treat along with an invitation to enter Hậu’s extraordinary world. \nInfo & Tickets
URL:https://bayarearegistry.com/event/hair-paper-water/
LOCATION:BAMPFA\, 2155 Center St\, Berkeley\, CA\, 94704\, United States
CATEGORIES:Arts + Culture,Berkeley,East Bay,Performing Arts,Theater + Film
ATTACH;FMTTYPE=image/webp:https://bayarearegistry.com/wp-content/uploads/2026/04/Hair-Paper-Water-e1776362363872.webp
END:VEVENT
BEGIN:VEVENT
DTSTART;TZID=America/Los_Angeles:20260426T140000
DTEND;TZID=America/Los_Angeles:20260426T140000
DTSTAMP:20260419T154147
CREATED:20260416T175518Z
LAST-MODIFIED:20260416T175518Z
UID:10010782-1777212000-1777212000@bayarearegistry.com
SUMMARY:Risa and the Wind Phone
DESCRIPTION:An abandoned telephone booth calls out to ten-year-old Risa. After a tragic fire devastates their small town\, residents take to calling the dead on an out-of-order telephone high atop a hill. But only Risa can hear the voices from the other side. Hoping to finally contact her mysterious father somewhere in this crowd of impatient spirits\, she starts to take on the unfinished business of departed loved ones. Continuing a game of chess\, locating life insurance policies\, and finding a new home for a lost dog all become part of Risa’s daily to-do list. What starts as a simple set of tasks aided by a well-meaning neighbor turns into a life-defining search for love and acceptance in this charming storybook romp from acclaimed director Juan Cabral. \nInfo & Tickets
URL:https://bayarearegistry.com/event/risa-and-the-wind-phone/
LOCATION:BAMPFA\, 2155 Center St\, Berkeley\, CA\, 94704\, United States
CATEGORIES:Arts + Culture,Berkeley,East Bay,Performing Arts,Theater + Film
ATTACH;FMTTYPE=image/jpeg:https://bayarearegistry.com/wp-content/uploads/2026/04/CompressJPEG.Online_img1280x720-6-1-e1776362111729.jpg
END:VEVENT
BEGIN:VEVENT
DTSTART;TZID=America/Los_Angeles:20260428T163000
DTEND;TZID=America/Los_Angeles:20260428T163000
DTSTAMP:20260419T154147
CREATED:20260416T175053Z
LAST-MODIFIED:20260416T175053Z
UID:10010781-1777393800-1777393800@bayarearegistry.com
SUMMARY:Figaro Up\, Figaro Down
DESCRIPTION:A Juilliard-trained baritone\, Tim Blevins performed on the world’s most prestigious opera stages\, tackling challenging roles with skill and power. A rare Black presence in a white-dominated art form\, he rose to fame—but lost everything to addiction: his career\, family\, and home\, leaving him unhoused in the Tenderloin. After decades in despair\, Blevins takes control of his destiny\, staging a comeback that restores not only his place on stage but also his role in his family’s life. Filmed with care and grace\, this San Francisco–set tale of fame\, loss\, and redemption illuminates a life as remarkable as the operas Blevins mastered. \nInfo & Tickets
URL:https://bayarearegistry.com/event/figaro-up-figaro-down/
LOCATION:BAMPFA\, 2155 Center St\, Berkeley\, CA\, 94704\, United States
CATEGORIES:Arts + Culture,Berkeley,East Bay,Performing Arts,Theater + Film
ATTACH;FMTTYPE=image/jpeg:https://bayarearegistry.com/wp-content/uploads/2026/04/CompressJPEG.Online_img1280x720-5-1-e1776361847175.jpg
END:VEVENT
BEGIN:VEVENT
DTSTART;TZID=America/Los_Angeles:20260429T170000
DTEND;TZID=America/Los_Angeles:20260429T170000
DTSTAMP:20260419T154147
CREATED:20260416T174639Z
LAST-MODIFIED:20260416T174639Z
UID:10010780-1777482000-1777482000@bayarearegistry.com
SUMMARY:Enough Is Enough
DESCRIPTION:A rare window into the Kivu War\, Enough Is Enough follows Congolese filmmaker Elisé Sawasawa\, whose displacement and refugee experience shapes his unflinching journalistic lens. On the ground amid armed conflicts between the Democratic Republic of the Congo\, rebel forces\, and neighboring Rwanda military\, Sawasawa and his friends navigate a world driven by power\, greed\, and the frenzy over rare minerals. With shocking firsthand footage and intimate accounts from refugees targeted by their own army\, the film immerses audiences in the harrowing realities of survival and resistance. Brave\, bold\, and uncompromising\, Sawasawa delivers a documentary that is as challenging as it is essential\, offering an urgent portrait of conflict\, displacement\, and resilience. \nInfo & Tickets
URL:https://bayarearegistry.com/event/enough-is-enough/
LOCATION:BAMPFA\, 2155 Center St\, Berkeley\, CA\, 94704\, United States
CATEGORIES:Arts + Culture,Berkeley,East Bay,Performing Arts,Theater + Film
ATTACH;FMTTYPE=image/jpeg:https://bayarearegistry.com/wp-content/uploads/2026/04/CompressJPEG.Online_img1280x720-4-1-e1776361592812.jpg
END:VEVENT
BEGIN:VEVENT
DTSTART;TZID=America/Los_Angeles:20260429T190000
DTEND;TZID=America/Los_Angeles:20260429T190000
DTSTAMP:20260419T154147
CREATED:20260416T174221Z
LAST-MODIFIED:20260416T174221Z
UID:10010779-1777489200-1777489200@bayarearegistry.com
SUMMARY:Persistence of Vision Award: Lynne Sachs + Every Contact Leaves a Trace
DESCRIPTION:Established in 1997\, the Persistence of Vision Award honors the achievement of a filmmaker whose main body of work falls outside the realm of narrative feature filmmaking. This year the award goes to Lynne Sachs. \nIn forensic science\, “trace” is the material left behind at crime scenes: fibers\, gunshot residue\, and other evidence that detectives use as they develop suspects and leads. \nInfo & Tickets
URL:https://bayarearegistry.com/event/persistence-of-vision-award-lynne-sachs-every-contact-leaves-a-trace/
LOCATION:BAMPFA\, 2155 Center St\, Berkeley\, CA\, 94704\, United States
CATEGORIES:Arts + Culture,Berkeley,Conversations + Speakers + Conferences,East Bay,Performing Arts,Theater + Film
ATTACH;FMTTYPE=image/jpeg:https://bayarearegistry.com/wp-content/uploads/2026/04/CompressJPEG.Online_img1280x720-3-1-e1776361334442.jpg
END:VEVENT
BEGIN:VEVENT
DTSTART;TZID=America/Los_Angeles:20260430T193000
DTEND;TZID=America/Los_Angeles:20260430T193000
DTSTAMP:20260419T154147
CREATED:20260416T173601Z
LAST-MODIFIED:20260416T173601Z
UID:10010778-1777577400-1777577400@bayarearegistry.com
SUMMARY:The Son and the Sea
DESCRIPTION:British writer/director Stroma Cairns makes a resonant feature debut with this coming-of-age drama focused on a young man trying to find his place in the world. The film is a family affair\, as Cairns collaborated on the screenplay with her mother\, Imogen West\, and cast as the tempestuous protagonist her brother\, Jonah West. In his first film role\, he impresses as Jonah\, who is determined to sort himself but unsure of what that means as he travels from London to Scotland’s Aberdeenshire\, his mate Lee (Stanley Brock) in tow. The two make a new friend in deaf Charlie (Connor Tompkins)\, who is dealing with his own issues. Ruben Woodin Dechamps’s glorious cinematography captures the wild beauty of the Scottish coast as the roiling sea reflects Jonah’s emotional state as he grapples with the uncertainty in his life and what it means to be a man. \nInfo & Tickets
URL:https://bayarearegistry.com/event/the-son-and-the-sea/
LOCATION:BAMPFA\, 2155 Center St\, Berkeley\, CA\, 94704\, United States
CATEGORIES:Arts + Culture,Berkeley,East Bay,Performing Arts,Theater + Film
ATTACH;FMTTYPE=image/jpeg:https://bayarearegistry.com/wp-content/uploads/2026/04/the-son-and-the-sea-01-e1776360954455.jpg
END:VEVENT
BEGIN:VEVENT
DTSTART;TZID=America/Los_Angeles:20260501T160000
DTEND;TZID=America/Los_Angeles:20260501T160000
DTSTAMP:20260419T154147
CREATED:20260416T180428Z
LAST-MODIFIED:20260416T180428Z
UID:10010784-1777651200-1777651200@bayarearegistry.com
SUMMARY:Salvation
DESCRIPTION:Winner of the Berlinale’s Silver Bear\, Emin Alper’s (Frenzy) electrifying drama of power struggles in a Turkish mountain village exposes the chaos that erupts when territorialism takes root. In the unnamed community\, two tribes clash over land and the right to harvest it. Mesut\, haunted by troubling dreams he believes are prophetic\, stakes his claim as the new sheikh. As his power grab fans inflammatory rhetoric\, he becomes the figure rallying those who long for revenge. Alper’s assured filmmaking blurs dreams and reality\, while a tremendous ensemble cast conveys both vulnerability and menace. With striking visual flair\, Salvation illuminates how fear\, suspicion\, and strongman rhetoric create circumstances where no one is safe . . . or saved. \nInfo & Tickets
URL:https://bayarearegistry.com/event/salvation/
LOCATION:BAMPFA\, 2155 Center St\, Berkeley\, CA\, 94704\, United States
CATEGORIES:Arts + Culture,Berkeley,East Bay,Performing Arts,Theater + Film
ATTACH;FMTTYPE=image/jpeg:https://bayarearegistry.com/wp-content/uploads/2026/04/MV5BMTQ0Njc5NDQxN15BMl5BanBnXkFtZTgwNjQ4ODk3MTE@._V1_-e1776362661621.jpg
END:VEVENT
BEGIN:VEVENT
DTSTART;TZID=America/Los_Angeles:20260503T140000
DTEND;TZID=America/Los_Angeles:20260503T140000
DTSTAMP:20260419T154147
CREATED:20260416T180957Z
LAST-MODIFIED:20260416T180957Z
UID:10010785-1777816800-1777816800@bayarearegistry.com
SUMMARY:Amílcar
DESCRIPTION:Agricultural engineer Amílcar Cabral (1924–1973) dreamed of freedom for Guinea-Bissau and Cape Verde in West Africa and set about making that liberation happen. In this impressionistic documentary\, the life of this remarkable revolutionary unfolds through letters Cabral wrote to his wives\, set to a soundtrack of slogans and dreams. Shot in 16mm\, the film tells a tale of love\, political idealism\, and betrayal as Cabral’s guerrilla war against Portuguese rule ultimately led to freedom he would not live to see. \nInfo & Tickets
URL:https://bayarearegistry.com/event/amilcar/
LOCATION:BAMPFA\, 2155 Center St\, Berkeley\, CA\, 94704\, United States
CATEGORIES:Arts + Culture,Berkeley,East Bay,Performing Arts,Theater + Film
ATTACH;FMTTYPE=image/jpeg:https://bayarearegistry.com/wp-content/uploads/2026/04/MV5BNTVmYjAzNzYtOWM4OS00NGM5LWFkNzAtNDE0YzEwYjg4ZmI4XkEyXkFqcGc@._V1_-e1776362989256.jpg
END:VEVENT
BEGIN:VEVENT
DTSTART;TZID=America/Los_Angeles:20260507T131500
DTEND;TZID=America/Los_Angeles:20260507T131500
DTSTAMP:20260419T154147
CREATED:20260404T201105Z
LAST-MODIFIED:20260404T201105Z
UID:10010611-1778159700-1778159700@bayarearegistry.com
SUMMARY:Curator's Tour: Tausif Noor on Rhapsody: Works from the Cooper Rosenwasser Collection
DESCRIPTION:Curatorial Associate Tausif Noor guides viewers through the themes of the exhibition. \nInfo & Tickets
URL:https://bayarearegistry.com/event/curators-tour-tausif-noor-on-rhapsody-works-from-the-cooper-rosenwasser-collection/2026-05-07/
LOCATION:BAMPFA\, 2155 Center St\, Berkeley\, CA\, 94704\, United States
CATEGORIES:Arts + Culture,Berkeley,East Bay,Visual Arts
ATTACH;FMTTYPE=image/jpeg:https://bayarearegistry.com/wp-content/uploads/2026/04/1200_Rhapsody-Installation-24-e1775333459490.jpg
END:VEVENT
BEGIN:VEVENT
DTSTART;TZID=America/Los_Angeles:20260509T160000
DTEND;TZID=America/Los_Angeles:20260509T160000
DTSTAMP:20260419T154147
CREATED:20260416T183718Z
LAST-MODIFIED:20260416T183718Z
UID:10010786-1778342400-1778342400@bayarearegistry.com
SUMMARY:Bouchra
DESCRIPTION:Set between New York\, Rabat\, and Casablanca\, in a world populated by anthropomorphic animals and suspended between realism\, autobiography\, and fiction\, this artwork\, the culmination of a long creative process\, blends documentary and 3D animation languages. The film follows Bouchra\, a thirty-five-year-old Moroccan jackal and filmmaker living in New York\, as she writes an autobiographical film exploring how her queerness has impacted her mother\, Aicha\, a cardiologist jackal living in Casablanca. The story blends fiction—Bouchra’s film within the film—with an adaptation of recorded nonfiction conversations between Meriem Bennani and her mother. \nInfo & Tickets
URL:https://bayarearegistry.com/event/bouchra/
LOCATION:BAMPFA\, 2155 Center St\, Berkeley\, CA\, 94704\, United States
CATEGORIES:Arts + Culture,Berkeley,East Bay,Performing Arts,Theater + Film
ATTACH;FMTTYPE=image/webp:https://bayarearegistry.com/wp-content/uploads/2026/04/Bouchra_Still_01-e1776364631887.webp
END:VEVENT
BEGIN:VEVENT
DTSTART;TZID=America/Los_Angeles:20260509T190000
DTEND;TZID=America/Los_Angeles:20260509T190000
DTSTAMP:20260419T154147
CREATED:20260404T201636Z
LAST-MODIFIED:20260404T201636Z
UID:10010613-1778353200-1778353200@bayarearegistry.com
SUMMARY:Days and Nights in the Forest
DESCRIPTION:Four young men leave Calcutta for a few days in the country\, trailing their westernized careerist attitudes\, a middle-class indifference to the lower orders\, and a self-satisfaction that leaves them closed to experience. Out of a series of delightfully funny mishaps as they eagerly try to pursue acquaintance with their two promisingly attractive neighbors\, Satyajit Ray gradually distills a magical world of absolute stasis: a shimmering summer’s day\, a tranquil forest clearing\, the two women strolling in a shady avenue\, wistful yearnings as love and the need for love echo plangently. Beautifully shot and acted\, it’s probably Ray’s masterpiece. \nInfo & Tickets
URL:https://bayarearegistry.com/event/days-and-nights-in-the-forest/2026-05-09/
LOCATION:BAMPFA\, 2155 Center St\, Berkeley\, CA\, 94704\, United States
CATEGORIES:Arts + Culture,Berkeley,East Bay,Performing Arts,Theater + Film
ATTACH;FMTTYPE=image/png:https://bayarearegistry.com/wp-content/uploads/2026/04/CIN_DaysandNightsintheForest_1600x900-e1775333774875.png
END:VEVENT
BEGIN:VEVENT
DTSTART;TZID=America/Los_Angeles:20260510T190000
DTEND;TZID=America/Los_Angeles:20260510T190000
DTSTAMP:20260419T154147
CREATED:20260416T184230Z
LAST-MODIFIED:20260416T184230Z
UID:10010787-1778439600-1778439600@bayarearegistry.com
SUMMARY:The Holy Mountain
DESCRIPTION:A trip in itself\, The Holy Mountain chronicles one man’s search for enlightenment through a dizzying array of surreal set pieces. Inspired by René Daumal’s novel Mount Analogue\, as well as Alejandro Jodorowsky’s own spiritual studies and psychedelic experiences\, the film’s deeply sacrilegious and antimilitaristic imagery remains as beautiful and intriguing today as when it first scandalized audiences at the Cannes Film Festival in 1973. Unseen for decades due to a dispute with the producer\, Jodorowsky’s perceptually destabilizing alchemical puzzle has only been illuminating cinema screens once again since 2007. \nInfo & Tickets
URL:https://bayarearegistry.com/event/the-holy-mountain/
LOCATION:BAMPFA\, 2155 Center St\, Berkeley\, CA\, 94704\, United States
CATEGORIES:Arts + Culture,Berkeley,East Bay,Performing Arts,Theater + Film
ATTACH;FMTTYPE=image/png:https://bayarearegistry.com/wp-content/uploads/2026/04/Courtesy_of_Film_Grab__5_-scaled-e1776364933116.png
END:VEVENT
BEGIN:VEVENT
DTSTART;VALUE=DATE:20260606
DTEND;VALUE=DATE:20261130
DTSTAMP:20260419T154147
CREATED:20250825T202451Z
LAST-MODIFIED:20250909T233516Z
UID:10008953-1780704000-1795996799@bayarearegistry.com
SUMMARY:Maren Hassinger: Living Moving Growing
DESCRIPTION:Maren Hassinger: Living Moving Growing will be the most significant retrospective of the work of Maren Hassinger to date\, presenting her work across sculpture\, performance\, video\, and installation from the early 1970s to the present. Hassinger’s work addresses social and cultural issues through an awareness of interconnectedness\, ephemerality\, and relationships between humans and the natural world. These themes emphasize the importance of caring for the things we share in contrast to the things that divide us. The exhibition will survey Hassinger’s expansive career\, making connections across her practice and asserting her dynamic place in the history of contemporary art. \nInfo & Tickets
URL:https://bayarearegistry.com/event/maren-hassinger-living-moving-growing/
LOCATION:BAMPFA\, 2155 Center St\, Berkeley\, CA\, 94704\, United States
CATEGORIES:Arts + Culture,Berkeley,East Bay,Visual Arts
ATTACH;FMTTYPE=image/jpeg:https://bayarearegistry.com/wp-content/uploads/2025/08/cropped-image-1756153461693kwnvc.jpeg
END:VEVENT
END:VCALENDAR