BEGIN:VCALENDAR
VERSION:2.0
PRODID:-//BAR | Bay Area Registry - ECPv6.15.20//NONSGML v1.0//EN
CALSCALE:GREGORIAN
METHOD:PUBLISH
X-WR-CALNAME:BAR | Bay Area Registry
X-ORIGINAL-URL:https://bayarearegistry.com
X-WR-CALDESC:Events for BAR | Bay Area Registry
REFRESH-INTERVAL;VALUE=DURATION:PT1H
X-Robots-Tag:noindex
X-PUBLISHED-TTL:PT1H
BEGIN:VTIMEZONE
TZID:America/Los_Angeles
BEGIN:DAYLIGHT
TZOFFSETFROM:-0800
TZOFFSETTO:-0700
TZNAME:PDT
DTSTART:20250309T100000
END:DAYLIGHT
BEGIN:STANDARD
TZOFFSETFROM:-0700
TZOFFSETTO:-0800
TZNAME:PST
DTSTART:20251102T090000
END:STANDARD
BEGIN:DAYLIGHT
TZOFFSETFROM:-0800
TZOFFSETTO:-0700
TZNAME:PDT
DTSTART:20260308T100000
END:DAYLIGHT
BEGIN:STANDARD
TZOFFSETFROM:-0700
TZOFFSETTO:-0800
TZNAME:PST
DTSTART:20261101T090000
END:STANDARD
BEGIN:DAYLIGHT
TZOFFSETFROM:-0800
TZOFFSETTO:-0700
TZNAME:PDT
DTSTART:20270314T100000
END:DAYLIGHT
BEGIN:STANDARD
TZOFFSETFROM:-0700
TZOFFSETTO:-0800
TZNAME:PST
DTSTART:20271107T090000
END:STANDARD
END:VTIMEZONE
BEGIN:VEVENT
DTSTART;TZID=America/Los_Angeles:20260410T183000
DTEND;TZID=America/Los_Angeles:20260410T183000
DTSTAMP:20260419T230439
CREATED:20260330T112151Z
LAST-MODIFIED:20260413T190717Z
UID:10010550-1775845800-1775845800@bayarearegistry.com
SUMMARY:SIBLING REVEL-ry! Black Theatre Night & Preshow Mixer W/ Afro Urban Society
DESCRIPTION:Who will take home the National Sibling Day Champs Prize? Join us for a lively\, all-ages preshow celebration before Ngozi Anyanwu’s The Monsters featuring musical chairs\, a dance-off\, complete the lyrics\, arm wrestling\, and more. \nBay Area artist duos and groups will go head-to-head in a friendly sibling rivalry that mirrors the heart of the play itself. Bring your people and be part of the fun with performances\, games\, and refreshments included. \nInfo & Tickets
URL:https://bayarearegistry.com/event/sibling-revel-ry-black-theatre-night-preshow-mixer-w-afro-urban-society/
LOCATION:Berkeley Rep\, 2025 Addison St\, Berkeley Rep\, CA\, 94704\, United States
CATEGORIES:Arts + Culture,Berkeley,East Bay,Performing Arts,Theater + Film
ATTACH;FMTTYPE=image/jpeg:https://bayarearegistry.com/wp-content/uploads/2026/03/SIBLING-REVEL-ry-Black-Theatre-Night-Preshow-Mixer-w-Afro-Urban-Society-e1774869635355.jpg
ORGANIZER;CN="Berkeley Rep":MAILTO:info@berkeleyrep.org
END:VEVENT
END:VCALENDAR