BEGIN:VCALENDAR
VERSION:2.0
PRODID:-//BAR | Bay Area Registry - ECPv6.15.20//NONSGML v1.0//EN
CALSCALE:GREGORIAN
METHOD:PUBLISH
X-WR-CALNAME:BAR | Bay Area Registry
X-ORIGINAL-URL:https://bayarearegistry.com
X-WR-CALDESC:Events for BAR | Bay Area Registry
REFRESH-INTERVAL;VALUE=DURATION:PT1H
X-Robots-Tag:noindex
X-PUBLISHED-TTL:PT1H
BEGIN:VTIMEZONE
TZID:America/Los_Angeles
BEGIN:DAYLIGHT
TZOFFSETFROM:-0800
TZOFFSETTO:-0700
TZNAME:PDT
DTSTART:20240310T100000
END:DAYLIGHT
BEGIN:STANDARD
TZOFFSETFROM:-0700
TZOFFSETTO:-0800
TZNAME:PST
DTSTART:20241103T090000
END:STANDARD
BEGIN:DAYLIGHT
TZOFFSETFROM:-0800
TZOFFSETTO:-0700
TZNAME:PDT
DTSTART:20250309T100000
END:DAYLIGHT
BEGIN:STANDARD
TZOFFSETFROM:-0700
TZOFFSETTO:-0800
TZNAME:PST
DTSTART:20251102T090000
END:STANDARD
BEGIN:DAYLIGHT
TZOFFSETFROM:-0800
TZOFFSETTO:-0700
TZNAME:PDT
DTSTART:20260308T100000
END:DAYLIGHT
BEGIN:STANDARD
TZOFFSETFROM:-0700
TZOFFSETTO:-0800
TZNAME:PST
DTSTART:20261101T090000
END:STANDARD
BEGIN:DAYLIGHT
TZOFFSETFROM:-0800
TZOFFSETTO:-0700
TZNAME:PDT
DTSTART:20270314T100000
END:DAYLIGHT
BEGIN:STANDARD
TZOFFSETFROM:-0700
TZOFFSETTO:-0800
TZNAME:PST
DTSTART:20271107T090000
END:STANDARD
END:VTIMEZONE
BEGIN:VEVENT
DTSTART;VALUE=DATE:20251116
DTEND;VALUE=DATE:20260330
DTSTAMP:20260421T025707
CREATED:20251114T143904Z
LAST-MODIFIED:20260401T065049Z
UID:10009738-1763251200-1774828799@bayarearegistry.com
SUMMARY:Sunset Yoga
DESCRIPTION:A slow\, nature-inspired flow to ground and renew. \nAs the sun melts into the horizon\, this soulful slow flow invites you to move with the rhythm of the fading light. Through gentle\, intentional sequences\, you’ll explore mindful movement\, fluid transitions\, and deep\, grounding breath to ease tension and restore balance after the week. \nEach class weaves together somatic awareness\, soft stretches\, and guided meditation—allowing your body to unwind and your mind to settle into stillness. You’ll leave feeling centered\, nourished\, and open-hearted\, ready to welcome the new week ahead. \nInfo & Tickets
URL:https://bayarearegistry.com/event/sunset-yoga/
LOCATION:Bloom Yoga\, 1225 MacArthur Blvd\, San Leandro\, 94577
CATEGORIES:Arts + Culture,East Bay,Health + Wellness,Oakland
ATTACH;FMTTYPE=image/jpeg:https://bayarearegistry.com/wp-content/uploads/2025/11/10.19_graphic_20251027_120639_0000-scaled-e1763131077572.jpg
END:VEVENT
END:VCALENDAR