BEGIN:VCALENDAR
VERSION:2.0
PRODID:-//BAR | Bay Area Registry - ECPv6.15.20//NONSGML v1.0//EN
CALSCALE:GREGORIAN
METHOD:PUBLISH
X-WR-CALNAME:BAR | Bay Area Registry
X-ORIGINAL-URL:https://bayarearegistry.com
X-WR-CALDESC:Events for BAR | Bay Area Registry
REFRESH-INTERVAL;VALUE=DURATION:PT1H
X-Robots-Tag:noindex
X-PUBLISHED-TTL:PT1H
BEGIN:VTIMEZONE
TZID:America/Los_Angeles
BEGIN:DAYLIGHT
TZOFFSETFROM:-0800
TZOFFSETTO:-0700
TZNAME:PDT
DTSTART:20240310T100000
END:DAYLIGHT
BEGIN:STANDARD
TZOFFSETFROM:-0700
TZOFFSETTO:-0800
TZNAME:PST
DTSTART:20241103T090000
END:STANDARD
BEGIN:DAYLIGHT
TZOFFSETFROM:-0800
TZOFFSETTO:-0700
TZNAME:PDT
DTSTART:20250309T100000
END:DAYLIGHT
BEGIN:STANDARD
TZOFFSETFROM:-0700
TZOFFSETTO:-0800
TZNAME:PST
DTSTART:20251102T090000
END:STANDARD
BEGIN:DAYLIGHT
TZOFFSETFROM:-0800
TZOFFSETTO:-0700
TZNAME:PDT
DTSTART:20260308T100000
END:DAYLIGHT
BEGIN:STANDARD
TZOFFSETFROM:-0700
TZOFFSETTO:-0800
TZNAME:PST
DTSTART:20261101T090000
END:STANDARD
BEGIN:DAYLIGHT
TZOFFSETFROM:-0800
TZOFFSETTO:-0700
TZNAME:PDT
DTSTART:20270314T100000
END:DAYLIGHT
BEGIN:STANDARD
TZOFFSETFROM:-0700
TZOFFSETTO:-0800
TZNAME:PST
DTSTART:20271107T090000
END:STANDARD
END:VTIMEZONE
BEGIN:VEVENT
DTSTART;TZID=America/Los_Angeles:20260221T204500
DTEND;TZID=America/Los_Angeles:20260221T204500
DTSTAMP:20260421T030454
CREATED:20260216T174840Z
LAST-MODIFIED:20260223T150537Z
UID:10010355-1771706700-1771706700@bayarearegistry.com
SUMMARY:Candlelight: Tribute to Juan Gabriel on Strings
DESCRIPTION:⭐ Candlelight concerts bring the magic of a live\, multi-sensory musical experience to awe-inspiring locations like never seen before in San Francisco. Get your tickets now to discover the music of Juan Gabriel on Strings at Brava Theater Center under the gentle glow of candlelight. \nInfo & Tickets
URL:https://bayarearegistry.com/event/candlelight-tribute-to-juan-gabriel-on-strings-2/2026-02-21/2/
LOCATION:Brava Theater Center\, 2781 24th St\, San Francisco\, CA\, 94110\, United States
CATEGORIES:Arts + Culture,Live Music,Performing Arts,San Francisco + South SF Area
ATTACH;FMTTYPE=image/jpeg:https://bayarearegistry.com/wp-content/uploads/2026/01/imgi_1_d590ff8a-d5c4-11f0-a971-42ba59917511-e1769074861179.jpg
GEO:37.7527632;-122.4079889
X-APPLE-STRUCTURED-LOCATION;VALUE=URI;X-ADDRESS=Brava Theater Center 2781 24th St San Francisco CA 94110 United States;X-APPLE-RADIUS=500;X-TITLE=2781 24th St:geo:-122.4079889,37.7527632
END:VEVENT
BEGIN:VEVENT
DTSTART;TZID=America/Los_Angeles:20260221T183000
DTEND;TZID=America/Los_Angeles:20260221T183000
DTSTAMP:20260421T030454
CREATED:20260216T174840Z
LAST-MODIFIED:20260223T150537Z
UID:10010354-1771698600-1771698600@bayarearegistry.com
SUMMARY:Candlelight: Tribute to Juan Gabriel on Strings
DESCRIPTION:⭐ Candlelight concerts bring the magic of a live\, multi-sensory musical experience to awe-inspiring locations like never seen before in San Francisco. Get your tickets now to discover the music of Juan Gabriel on Strings at Brava Theater Center under the gentle glow of candlelight. \nInfo & Tickets
URL:https://bayarearegistry.com/event/candlelight-tribute-to-juan-gabriel-on-strings-2/2026-02-21/1/
LOCATION:Brava Theater Center\, 2781 24th St\, San Francisco\, CA\, 94110\, United States
CATEGORIES:Arts + Culture,Live Music,Performing Arts,San Francisco + South SF Area
ATTACH;FMTTYPE=image/jpeg:https://bayarearegistry.com/wp-content/uploads/2026/01/imgi_1_d590ff8a-d5c4-11f0-a971-42ba59917511-e1769074861179.jpg
GEO:37.7527632;-122.4079889
X-APPLE-STRUCTURED-LOCATION;VALUE=URI;X-ADDRESS=Brava Theater Center 2781 24th St San Francisco CA 94110 United States;X-APPLE-RADIUS=500;X-TITLE=2781 24th St:geo:-122.4079889,37.7527632
END:VEVENT
BEGIN:VEVENT
DTSTART;VALUE=DATE:20250914
DTEND;VALUE=DATE:20260405
DTSTAMP:20260421T030454
CREATED:20250912T195042Z
LAST-MODIFIED:20260405T085040Z
UID:10009223-1757808000-1775347199@bayarearegistry.com
SUMMARY:Ballet of Lights: Sleeping Beauty in a Sparkling Show
DESCRIPTION:⭐ Ballet of Lights: Sleeping Beauty has arrived in SF Bay Area! This beloved tale is brought to life through classical dance\, stunning choreography\, and beautiful glow-in-the-dark costumes. Get your tickets for Ballet of Lights: Sleeping Beauty in a Sparkling Show in SF Bay Area! \nInfo & Tickets
URL:https://bayarearegistry.com/event/ballet-of-lights-sleeping-beauty-in-a-sparkling-show/
LOCATION:Brava Theater Center\, 2781 24th St\, San Francisco\, CA\, 94110\, United States
CATEGORIES:Arts + Culture,Dance,Performing Arts,San Francisco + South SF Area
ATTACH;FMTTYPE=image/jpeg:https://bayarearegistry.com/wp-content/uploads/2025/09/imgi_1_438232079_120209072942590447_7010258556131750831_n-e1757706633490.jpg
GEO:37.7527632;-122.4079889
X-APPLE-STRUCTURED-LOCATION;VALUE=URI;X-ADDRESS=Brava Theater Center 2781 24th St San Francisco CA 94110 United States;X-APPLE-RADIUS=500;X-TITLE=2781 24th St:geo:-122.4079889,37.7527632
END:VEVENT
END:VCALENDAR