BEGIN:VCALENDAR
VERSION:2.0
PRODID:-//BAR | Bay Area Registry - ECPv6.15.20//NONSGML v1.0//EN
CALSCALE:GREGORIAN
METHOD:PUBLISH
X-WR-CALNAME:BAR | Bay Area Registry
X-ORIGINAL-URL:https://bayarearegistry.com
X-WR-CALDESC:Events for BAR | Bay Area Registry
REFRESH-INTERVAL;VALUE=DURATION:PT1H
X-Robots-Tag:noindex
X-PUBLISHED-TTL:PT1H
BEGIN:VTIMEZONE
TZID:America/Los_Angeles
BEGIN:DAYLIGHT
TZOFFSETFROM:-0800
TZOFFSETTO:-0700
TZNAME:PDT
DTSTART:20250309T100000
END:DAYLIGHT
BEGIN:STANDARD
TZOFFSETFROM:-0700
TZOFFSETTO:-0800
TZNAME:PST
DTSTART:20251102T090000
END:STANDARD
BEGIN:DAYLIGHT
TZOFFSETFROM:-0800
TZOFFSETTO:-0700
TZNAME:PDT
DTSTART:20260308T100000
END:DAYLIGHT
BEGIN:STANDARD
TZOFFSETFROM:-0700
TZOFFSETTO:-0800
TZNAME:PST
DTSTART:20261101T090000
END:STANDARD
BEGIN:DAYLIGHT
TZOFFSETFROM:-0800
TZOFFSETTO:-0700
TZNAME:PDT
DTSTART:20270314T100000
END:DAYLIGHT
BEGIN:STANDARD
TZOFFSETFROM:-0700
TZOFFSETTO:-0800
TZNAME:PST
DTSTART:20271107T090000
END:STANDARD
END:VTIMEZONE
BEGIN:VEVENT
DTSTART;TZID=America/Los_Angeles:20260214T100000
DTEND;TZID=America/Los_Angeles:20260214T130000
DTSTAMP:20260421T115016
CREATED:20260202T131814Z
LAST-MODIFIED:20260216T141323Z
UID:10010176-1771063200-1771074000@bayarearegistry.com
SUMMARY:Black Cowboy Academy
DESCRIPTION:Fairyland joins hands and hearts with the Oakland Black Cowboy Association and the Metropolitan Horsemen’s Association this Valentines Day for an immersive event of learning\, lassos\, lessons\, and love for the untold stories of the heroes who shaped the American West. \nInfo & Tickets
URL:https://bayarearegistry.com/event/black-cowboy-academy/
LOCATION:Children’s Fairyland\, 699 Bellevue\, Oakland\, 94610\, United States
CATEGORIES:Arts + Culture,BHM 2026,Community,East Bay,Oakland
ATTACH;FMTTYPE=image/jpeg:https://bayarearegistry.com/wp-content/uploads/2026/02/FL26.BlackCowboys-02_E28ECB75-9492-0F5C-B2BAE91D9ACC4C2B_e2a2c7b8-f99c-8c43-8b9db11a9ce42c12-e1770038285330.jpg
END:VEVENT
END:VCALENDAR