BEGIN:VCALENDAR
VERSION:2.0
PRODID:-//BAR | Bay Area Registry - ECPv6.15.20//NONSGML v1.0//EN
CALSCALE:GREGORIAN
METHOD:PUBLISH
X-ORIGINAL-URL:https://bayarearegistry.com
X-WR-CALDESC:Events for BAR | Bay Area Registry
REFRESH-INTERVAL;VALUE=DURATION:PT1H
X-Robots-Tag:noindex
X-PUBLISHED-TTL:PT1H
BEGIN:VTIMEZONE
TZID:America/Los_Angeles
BEGIN:DAYLIGHT
TZOFFSETFROM:-0800
TZOFFSETTO:-0700
TZNAME:PDT
DTSTART:20250309T100000
END:DAYLIGHT
BEGIN:STANDARD
TZOFFSETFROM:-0700
TZOFFSETTO:-0800
TZNAME:PST
DTSTART:20251102T090000
END:STANDARD
BEGIN:DAYLIGHT
TZOFFSETFROM:-0800
TZOFFSETTO:-0700
TZNAME:PDT
DTSTART:20260308T100000
END:DAYLIGHT
BEGIN:STANDARD
TZOFFSETFROM:-0700
TZOFFSETTO:-0800
TZNAME:PST
DTSTART:20261101T090000
END:STANDARD
BEGIN:DAYLIGHT
TZOFFSETFROM:-0800
TZOFFSETTO:-0700
TZNAME:PDT
DTSTART:20270314T100000
END:DAYLIGHT
BEGIN:STANDARD
TZOFFSETFROM:-0700
TZOFFSETTO:-0800
TZNAME:PST
DTSTART:20271107T090000
END:STANDARD
END:VTIMEZONE
BEGIN:VEVENT
DTSTART;TZID=America/Los_Angeles:20260215T170000
DTEND;TZID=America/Los_Angeles:20260215T180000
DTSTAMP:20260419T183331
CREATED:20260130T174744Z
LAST-MODIFIED:20260216T141537Z
UID:10010082-1771174800-1771178400@bayarearegistry.com
SUMMARY:Concert for Black History Month
DESCRIPTION:There will be a Gospel Music Celebration for BLACK HISTORY MONTH featuring Marin County’s Lighthouse Singers Gospel Choir\, Cornerstone Community Church of God in Christ Choir\, and Special Guests NorCal Chapter Gospel Music Workshop of America Dr. Steven Roberts\, Director and Chapter Rep. No admission fee. A Freewill Offering will be taken. \nInfo & Tickets
URL:https://bayarearegistry.com/event/concert-for-black-history-month/
LOCATION:Cornerstone Community Church of God in Christ\, 626 Drake Avenue\, Sausalito\, 94965\, United States
CATEGORIES:Arts + Culture,BHM 2026,Community,Live Music,North Bay,Performing Arts,Sausalito
ATTACH;FMTTYPE=image/jpeg:https://bayarearegistry.com/wp-content/uploads/2026/01/imgi_2_LIghthousephoto-1920w-e1769795255580.jpg
END:VEVENT
END:VCALENDAR