BEGIN:VCALENDAR
VERSION:2.0
PRODID:-//BAR | Bay Area Registry - ECPv6.15.20//NONSGML v1.0//EN
CALSCALE:GREGORIAN
METHOD:PUBLISH
X-ORIGINAL-URL:https://bayarearegistry.com
X-WR-CALDESC:Events for BAR | Bay Area Registry
REFRESH-INTERVAL;VALUE=DURATION:PT1H
X-Robots-Tag:noindex
X-PUBLISHED-TTL:PT1H
BEGIN:VTIMEZONE
TZID:America/Los_Angeles
BEGIN:DAYLIGHT
TZOFFSETFROM:-0800
TZOFFSETTO:-0700
TZNAME:PDT
DTSTART:20250309T100000
END:DAYLIGHT
BEGIN:STANDARD
TZOFFSETFROM:-0700
TZOFFSETTO:-0800
TZNAME:PST
DTSTART:20251102T090000
END:STANDARD
BEGIN:DAYLIGHT
TZOFFSETFROM:-0800
TZOFFSETTO:-0700
TZNAME:PDT
DTSTART:20260308T100000
END:DAYLIGHT
BEGIN:STANDARD
TZOFFSETFROM:-0700
TZOFFSETTO:-0800
TZNAME:PST
DTSTART:20261101T090000
END:STANDARD
BEGIN:DAYLIGHT
TZOFFSETFROM:-0800
TZOFFSETTO:-0700
TZNAME:PDT
DTSTART:20270314T100000
END:DAYLIGHT
BEGIN:STANDARD
TZOFFSETFROM:-0700
TZOFFSETTO:-0800
TZNAME:PST
DTSTART:20271107T090000
END:STANDARD
END:VTIMEZONE
BEGIN:VEVENT
DTSTART;TZID=America/Los_Angeles:20260404T120000
DTEND;TZID=America/Los_Angeles:20260404T120000
DTSTAMP:20260420T072429
CREATED:20260324T084909Z
LAST-MODIFIED:20260405T082409Z
UID:10010531-1775304000-1775304000@bayarearegistry.com
SUMMARY:Spring Easter Celebration at the Creekside Town Center
DESCRIPTION:Creekside Town Center’s Easter Celebration brings a festive spring vibe to the shopping center\, encouraging families to enjoy seasonal activities\, create memories\, and welcome the season together. \nInfo & Tickets
URL:https://bayarearegistry.com/event/spring-easter-celebration-at-the-creekside-town-center/
LOCATION:Creekside Town Center\, Galleria Blvd\, Roseville\, 95678
CATEGORIES:Arts + Culture,Fairs + Festivals,Food + Drink,Holidays 2026,Sacramento Area,Visual Arts
ATTACH;FMTTYPE=image/png:https://bayarearegistry.com/wp-content/uploads/2026/03/ct-e1774341966548.png
END:VEVENT
END:VCALENDAR