BEGIN:VCALENDAR
VERSION:2.0
PRODID:-//BAR | Bay Area Registry - ECPv6.15.20//NONSGML v1.0//EN
CALSCALE:GREGORIAN
METHOD:PUBLISH
X-ORIGINAL-URL:https://bayarearegistry.com
X-WR-CALDESC:Events for BAR | Bay Area Registry
REFRESH-INTERVAL;VALUE=DURATION:PT1H
X-Robots-Tag:noindex
X-PUBLISHED-TTL:PT1H
BEGIN:VTIMEZONE
TZID:America/Los_Angeles
BEGIN:DAYLIGHT
TZOFFSETFROM:-0800
TZOFFSETTO:-0700
TZNAME:PDT
DTSTART:20250309T100000
END:DAYLIGHT
BEGIN:STANDARD
TZOFFSETFROM:-0700
TZOFFSETTO:-0800
TZNAME:PST
DTSTART:20251102T090000
END:STANDARD
BEGIN:DAYLIGHT
TZOFFSETFROM:-0800
TZOFFSETTO:-0700
TZNAME:PDT
DTSTART:20260308T100000
END:DAYLIGHT
BEGIN:STANDARD
TZOFFSETFROM:-0700
TZOFFSETTO:-0800
TZNAME:PST
DTSTART:20261101T090000
END:STANDARD
BEGIN:DAYLIGHT
TZOFFSETFROM:-0800
TZOFFSETTO:-0700
TZNAME:PDT
DTSTART:20270314T100000
END:DAYLIGHT
BEGIN:STANDARD
TZOFFSETFROM:-0700
TZOFFSETTO:-0800
TZNAME:PST
DTSTART:20271107T090000
END:STANDARD
END:VTIMEZONE
BEGIN:VEVENT
DTSTART;TZID=America/Los_Angeles:20260307T193000
DTEND;TZID=America/Los_Angeles:20260307T193000
DTSTAMP:20260421T123656
CREATED:20260215T131059Z
LAST-MODIFIED:20260308T161629Z
UID:10010336-1772911800-1772911800@bayarearegistry.com
SUMMARY:Stanford Afro-Latin Jazz Ensemble - "Tribute to the Mambo" with guest Mitch Frohman
DESCRIPTION:The acclaimed Stanford Afro-Latin Jazz Ensemble\, directed by Murray Low\, presents a concert featuring music that covers all aspects of the idiom – classic and modern salsa\, timba\, samba reggae\, bossa nova\, rumba jazz\, free jazz\, gospel singing\, and more! \nEstablished in 2008 by Grammy-nominated pianist Murray Low\, the ensemble has emerged as one of the premier academic performing groups of its kind. As prior recipients of a prestigious SiCA (Stanford Institute for Creativity and the Arts) grant\, SALJE has been affored the opportunity to collaborate with several luminaries in the field of Afro-Latin music that have helped to elevate the ensemble’s performance acumen\, as well as aid in establishing Stanford as a vital West Coast center for Afro-Latin Jazz. \nInfo & Tickets
URL:https://bayarearegistry.com/event/stanford-afro-latin-jazz-ensemble-tribute-to-the-mambo-with-guest-mitch-frohman/
LOCATION:Dinkelspiel Auditorium\, 471 Lagunita Drive\, Stanford\, CA\, 94305\, United States
CATEGORIES:Arts + Culture,Live Music,Peninsula (Millbrae & south to Palo Alto, incl HMB & Coast),Performing Arts
ATTACH;FMTTYPE=image/jpeg:https://bayarearegistry.com/wp-content/uploads/2026/02/imgi_9_3.7-e1771161021342.jpeg
ORGANIZER;CN="Stanford Live":MAILTO:stanfordlive@stanford.edu
END:VEVENT
BEGIN:VEVENT
DTSTART;TZID=America/Los_Angeles:20260206T193000
DTEND;TZID=America/Los_Angeles:20260206T210000
DTSTAMP:20260421T123656
CREATED:20260116T153601Z
LAST-MODIFIED:20260208T155558Z
UID:10009926-1770406200-1770411600@bayarearegistry.com
SUMMARY:Songs in the Key of Life with Hanif Abdurraqib and Nate Sloan
DESCRIPTION:What are the songs on your life’s playlist\, the sonic touchstones that transport you across time and space? Stanford Public Humanities\, Department of Music\, and Creative Writing Program invite you to an evening of deep listening and musical insights as award-winning author Hanif Abdurraqib discusses 12 tracks from across his life experience. He will be in conversation with Nate Sloan\, musicologist\, co-host of the podcast Switched on Pop\, and Stanford PhD graduate. Book selling/signing to follow.  \nInfo & Tickets
URL:https://bayarearegistry.com/event/songs-in-the-key-of-life-with-hanif-abdurraqib-and-nate-sloan/
LOCATION:Dinkelspiel Auditorium\, 471 Lagunita Drive\, Stanford\, CA\, 94305\, United States
CATEGORIES:Arts + Culture,Conversations + Speakers + Conferences,San Jose Area (including Almaden, Campbell, Gilroy/Morgan Hill, Los Gatos, Milpitas, San Jose, Saratoga)
ATTACH;FMTTYPE=image/webp:https://bayarearegistry.com/wp-content/uploads/2026/01/Songs-in-the-Key-of-Life-with-Hanif-Abdurraqib-and-Nate-Sloan-e1768577657665.webp
END:VEVENT
END:VCALENDAR