BEGIN:VCALENDAR
VERSION:2.0
PRODID:-//BAR | Bay Area Registry - ECPv6.15.20//NONSGML v1.0//EN
CALSCALE:GREGORIAN
METHOD:PUBLISH
X-WR-CALNAME:BAR | Bay Area Registry
X-ORIGINAL-URL:https://bayarearegistry.com
X-WR-CALDESC:Events for BAR | Bay Area Registry
REFRESH-INTERVAL;VALUE=DURATION:PT1H
X-Robots-Tag:noindex
X-PUBLISHED-TTL:PT1H
BEGIN:VTIMEZONE
TZID:America/Los_Angeles
BEGIN:DAYLIGHT
TZOFFSETFROM:-0800
TZOFFSETTO:-0700
TZNAME:PDT
DTSTART:20250309T100000
END:DAYLIGHT
BEGIN:STANDARD
TZOFFSETFROM:-0700
TZOFFSETTO:-0800
TZNAME:PST
DTSTART:20251102T090000
END:STANDARD
BEGIN:DAYLIGHT
TZOFFSETFROM:-0800
TZOFFSETTO:-0700
TZNAME:PDT
DTSTART:20260308T100000
END:DAYLIGHT
BEGIN:STANDARD
TZOFFSETFROM:-0700
TZOFFSETTO:-0800
TZNAME:PST
DTSTART:20261101T090000
END:STANDARD
BEGIN:DAYLIGHT
TZOFFSETFROM:-0800
TZOFFSETTO:-0700
TZNAME:PDT
DTSTART:20270314T100000
END:DAYLIGHT
BEGIN:STANDARD
TZOFFSETFROM:-0700
TZOFFSETTO:-0800
TZNAME:PST
DTSTART:20271107T090000
END:STANDARD
END:VTIMEZONE
BEGIN:VEVENT
DTSTART;TZID=America/Los_Angeles:20260422T190000
DTEND;TZID=America/Los_Angeles:20260422T190000
DTSTAMP:20260421T031820
CREATED:20260417T064445Z
LAST-MODIFIED:20260417T064445Z
UID:10010807-1776884400-1776884400@bayarearegistry.com
SUMMARY:The Moth StorySLAM - DISASTERPIECE
DESCRIPTION:The Moth StorySLAM is an open-mic storytelling competition in which anyone can share a true\, personal\, 5-minute story on the night’s theme. Sign up for a chance to tell a story or sit back and enjoy the show! \nParking\nCenter Street Garage\, next door to The Freight\, is currently open nightly until 1am except Sunday. More details here. \nPublic Transit\nThe Freight & Salvage is BARTable! Downtown Berkeley BART station is a half a block from the Freight. Details at bart.gov. Many AC Transit bus lines stop within a few blocks of the Freight. Details at actransit.org. \nNearby Favorites Bars/Restaurants\nRevival Bar + Kitchen | 2102 Shattuck Avenue\, (510) 549–9950\nComal Next Door | 2024 Shattuck Ave\, (510) 422-662\nGather | 2200 Oxford Street @ Allston\, (510) 809-0400 \nInfo & Tickets
URL:https://bayarearegistry.com/event/the-moth-storyslam-disasterpiece/
LOCATION:The Freight\, 2020 Addison St\, Berkeley\, CA\, 94704\, United States
CATEGORIES:Arts + Culture,Berkeley,Community,East Bay
ATTACH;FMTTYPE=image/jpeg:https://bayarearegistry.com/wp-content/uploads/2026/04/TheMoth-1920-1080-1-e1776408278159.jpg
ORGANIZER;CN="The Freight":MAILTO:https://bit.ly/2ODM2Ep
GEO:37.8707545;-122.2695164
X-APPLE-STRUCTURED-LOCATION;VALUE=URI;X-ADDRESS=The Freight 2020 Addison St Berkeley CA 94704 United States;X-APPLE-RADIUS=500;X-TITLE=2020 Addison St:geo:-122.2695164,37.8707545
END:VEVENT
BEGIN:VEVENT
DTSTART;TZID=America/Los_Angeles:20260425T123000
DTEND;TZID=America/Los_Angeles:20260425T123000
DTSTAMP:20260421T031820
CREATED:20260417T064832Z
LAST-MODIFIED:20260417T064832Z
UID:10010808-1777120200-1777120200@bayarearegistry.com
SUMMARY:Indian Drumming & Vocal Percussion II with Rohan Krishnamurthy
DESCRIPTION:Indian-American percussionist\, composer\, and educator Dr. Rohan Krishnamurthy is one of the leading voices of Indian classical and cross-genre music in the South Asian diaspora. Acclaimed a “musical ambassador” by The Times of India\, he received mridangam training from the legendary maestro\, Sri. Guruvayur Dorai. Distinguished as a soloist\, composer\, and collaborator\, Rohan performed with legendary Indian classical musicians and Grammy Award-winning global artists. \nParking\nCenter Street Garage\, next door to The Freight\, is currently open nightly until 1am except Sunday. More details here. \nPublic Transit\nThe Freight & Salvage is BARTable! Downtown Berkeley BART station is a half a block from the Freight. Details at bart.gov. Many AC Transit bus lines stop within a few blocks of the Freight. Details at actransit.org. \nNearby Favorites Bars/Restaurants\nRevival Bar + Kitchen | 2102 Shattuck Avenue\, (510) 549–9950\nComal Next Door | 2024 Shattuck Ave\, (510) 422-662\nGather | 2200 Oxford Street @ Allston\, (510) 809-0400 \nInfo & Tickets
URL:https://bayarearegistry.com/event/indian-drumming-vocal-percussion-ii-with-rohan-krishnamurthy/
LOCATION:The Freight\, 2020 Addison St\, Berkeley\, CA\, 94704\, United States
CATEGORIES:Arts + Culture,Berkeley,East Bay,Live Music,Performing Arts
ATTACH;FMTTYPE=image/jpeg:https://bayarearegistry.com/wp-content/uploads/2026/04/RohanKrishnamurthy-1920x1080-1-e1776408505333.jpg
ORGANIZER;CN="The Freight":MAILTO:https://bit.ly/2ODM2Ep
GEO:37.8707545;-122.2695164
X-APPLE-STRUCTURED-LOCATION;VALUE=URI;X-ADDRESS=The Freight 2020 Addison St Berkeley CA 94704 United States;X-APPLE-RADIUS=500;X-TITLE=2020 Addison St:geo:-122.2695164,37.8707545
END:VEVENT
BEGIN:VEVENT
DTSTART;TZID=America/Los_Angeles:20260426T190000
DTEND;TZID=America/Los_Angeles:20260426T190000
DTSTAMP:20260421T031820
CREATED:20260417T065257Z
LAST-MODIFIED:20260417T065257Z
UID:10010809-1777230000-1777230000@bayarearegistry.com
SUMMARY:Mohini Dey
DESCRIPTION:Mohini Dey is a renowned bass guitarist\, arranger\, producer & vocalist who has gained international recognition for her extraordinary talent and versatility. With her unique style and impeccable technique\, she has collaborated with numerous renowned artists and performed on prestigious stages around the world. She is a 29-year-old bass guitarist from Mumbai\, India. \nParking\nCenter Street Garage\, next door to The Freight\, is currently open nightly until 1am except Sunday. More details here. \nPublic Transit\nThe Freight & Salvage is BARTable! Downtown Berkeley BART station is a half a block from the Freight. Details at bart.gov. Many AC Transit bus lines stop within a few blocks of the Freight. Details at actransit.org. \nNearby Favorites Bars/Restaurants\nRevival Bar + Kitchen | 2102 Shattuck Avenue\, (510) 549–9950\nComal Next Door | 2024 Shattuck Ave\, (510) 422-662\nGather | 2200 Oxford Street @ Allston\, (510) 809-0400 \nInfo & Tickets
URL:https://bayarearegistry.com/event/mohini-dey/
LOCATION:The Freight\, 2020 Addison St\, Berkeley\, CA\, 94704\, United States
CATEGORIES:Arts + Culture,Berkeley,East Bay,Live Music,Performing Arts
ATTACH;FMTTYPE=image/jpeg:https://bayarearegistry.com/wp-content/uploads/2026/04/marapr-mohini-dey.jpg
ORGANIZER;CN="The Freight":MAILTO:https://bit.ly/2ODM2Ep
GEO:37.8707545;-122.2695164
X-APPLE-STRUCTURED-LOCATION;VALUE=URI;X-ADDRESS=The Freight 2020 Addison St Berkeley CA 94704 United States;X-APPLE-RADIUS=500;X-TITLE=2020 Addison St:geo:-122.2695164,37.8707545
END:VEVENT
BEGIN:VEVENT
DTSTART;TZID=America/Los_Angeles:20260427T120000
DTEND;TZID=America/Los_Angeles:20260427T120000
DTSTAMP:20260421T031820
CREATED:20260417T065616Z
LAST-MODIFIED:20260417T065616Z
UID:10010810-1777291200-1777291200@bayarearegistry.com
SUMMARY:Bobby McFerrin and MOTION: Circlesongs
DESCRIPTION:10-time Grammy-winner Bobby McFerrin‘s mission is to get the world singing. So\, he’s singing with MOTION almost every Monday afternoon right here at The Freight to welcome even more voices into the circle! \nParking\nCenter Street Garage\, next door to The Freight\, is currently open nightly until 1am except Sunday. More details here. \nPublic Transit\nThe Freight & Salvage is BARTable! Downtown Berkeley BART station is a half a block from the Freight. Details at bart.gov. Many AC Transit bus lines stop within a few blocks of the Freight. Details at actransit.org. \nNearby Favorites Bars/Restaurants\nRevival Bar + Kitchen | 2102 Shattuck Avenue\, (510) 549–9950\nComal Next Door | 2024 Shattuck Ave\, (510) 422-662\nGather | 2200 Oxford Street @ Allston\, (510) 809-0400 \nInfo & Tickets
URL:https://bayarearegistry.com/event/bobby-mcferrin-and-motion-circlesongs-7/
LOCATION:The Freight\, 2020 Addison St\, Berkeley\, CA\, 94704\, United States
CATEGORIES:Arts + Culture,Berkeley,East Bay,Live Music,Performing Arts
ATTACH;FMTTYPE=image/jpeg:https://bayarearegistry.com/wp-content/uploads/2026/01/Bobby-5_12_25-Dave-Weiland-e1768851300565.jpg
ORGANIZER;CN="The Freight":MAILTO:https://bit.ly/2ODM2Ep
GEO:37.8707545;-122.2695164
X-APPLE-STRUCTURED-LOCATION;VALUE=URI;X-ADDRESS=The Freight 2020 Addison St Berkeley CA 94704 United States;X-APPLE-RADIUS=500;X-TITLE=2020 Addison St:geo:-122.2695164,37.8707545
END:VEVENT
BEGIN:VEVENT
DTSTART;TZID=America/Los_Angeles:20260430T200000
DTEND;TZID=America/Los_Angeles:20260430T200000
DTSTAMP:20260421T031820
CREATED:20260417T070029Z
LAST-MODIFIED:20260417T070029Z
UID:10010811-1777579200-1777579200@bayarearegistry.com
SUMMARY:Novalima
DESCRIPTION:Started by four friends from Lima with a shared passion for traditional Afro-Peruvian music and global DJ culture\, Novalima stands in the common ground bridging past and future\, uniting tradition and innovation. \nParking\nCenter Street Garage\, next door to The Freight\, is currently open nightly until 1am except Sunday. More details here. \nPublic Transit\nThe Freight & Salvage is BARTable! Downtown Berkeley BART station is a half a block from the Freight. Details at bart.gov. Many AC Transit bus lines stop within a few blocks of the Freight. Details at actransit.org. \nNearby Favorites Bars/Restaurants\nRevival Bar + Kitchen | 2102 Shattuck Avenue\, (510) 549–9950\nComal Next Door | 2024 Shattuck Ave\, (510) 422-662\nGather | 2200 Oxford Street @ Allston\, (510) 809-0400 \nInfo & Tickets
URL:https://bayarearegistry.com/event/novalima/
LOCATION:The Freight\, 2020 Addison St\, Berkeley\, CA\, 94704\, United States
CATEGORIES:Arts + Culture,Berkeley,East Bay,Live Music,Performing Arts
ATTACH;FMTTYPE=image/jpeg:https://bayarearegistry.com/wp-content/uploads/2026/04/marapr-novalima-e1776409218730.jpg
ORGANIZER;CN="The Freight":MAILTO:https://bit.ly/2ODM2Ep
GEO:37.8707545;-122.2695164
X-APPLE-STRUCTURED-LOCATION;VALUE=URI;X-ADDRESS=The Freight 2020 Addison St Berkeley CA 94704 United States;X-APPLE-RADIUS=500;X-TITLE=2020 Addison St:geo:-122.2695164,37.8707545
END:VEVENT
BEGIN:VEVENT
DTSTART;TZID=America/Los_Angeles:20260502T130000
DTEND;TZID=America/Los_Angeles:20260502T130000
DTSTAMP:20260421T031820
CREATED:20260418T120537Z
LAST-MODIFIED:20260418T121308Z
UID:10010847-1777726800-1777726800@bayarearegistry.com
SUMMARY:BBF: Saturday Jam
DESCRIPTION:The Freight celebrates the 10th year of the Berkeley Bluegrass Festival\, May 2 & 3\, 2026. With concerts co-curated by Grammy-award winner Laurie Lewis and Leah Wollenberg\, plus curated instructional workshops\, Berkeley Bluegrass Festival brings together leaders of the genre\, up-and-coming artists\, and music fans for three days of concerts\, jams\, workshops\, and good old-fashioned merriment to kick off the summer music festival season. \nParking\nCenter Street Garage\, next door to The Freight\, is currently open nightly until 1am except Sunday. More details here. \nPublic Transit\nThe Freight & Salvage is BARTable! Downtown Berkeley BART station is a half a block from the Freight. Details at bart.gov. Many AC Transit bus lines stop within a few blocks of the Freight. Details at actransit.org. \nNearby Favorites Bars/Restaurants\nRevival Bar + Kitchen | 2102 Shattuck Avenue\, (510) 549–9950\nComal Next Door | 2024 Shattuck Ave\, (510) 422-662\nGather | 2200 Oxford Street @ Allston\, (510) 809-0400 \nInfo & Tickets
URL:https://bayarearegistry.com/event/bbf-saturday-jam/
LOCATION:The Freight\, 2020 Addison St\, Berkeley\, CA\, 94704\, United States
CATEGORIES:Arts + Culture,Berkeley,East Bay,Fairs + Festivals,Live Music,Performing Arts
ATTACH;FMTTYPE=image/png:https://bayarearegistry.com/wp-content/uploads/2026/04/2026_TheFreight_Berkeley_Bluegrass_Festival-1920x1080-2-e1776513927517.png
ORGANIZER;CN="The Freight":MAILTO:https://bit.ly/2ODM2Ep
GEO:37.8707545;-122.2695164
X-APPLE-STRUCTURED-LOCATION;VALUE=URI;X-ADDRESS=The Freight 2020 Addison St Berkeley CA 94704 United States;X-APPLE-RADIUS=500;X-TITLE=2020 Addison St:geo:-122.2695164,37.8707545
END:VEVENT
BEGIN:VEVENT
DTSTART;TZID=America/Los_Angeles:20260502T134500
DTEND;TZID=America/Los_Angeles:20260502T134500
DTSTAMP:20260421T031820
CREATED:20260418T121142Z
LAST-MODIFIED:20260418T121142Z
UID:10010848-1777729500-1777729500@bayarearegistry.com
SUMMARY:BBF: Bluegrass Mandolin with Josh Gooding
DESCRIPTION:The Freight celebrates the 10th year of the Berkeley Bluegrass Festival\, May 2 & 3\, 2026. With concerts co-curated by Grammy-award winner Laurie Lewis and Leah Wollenberg\, plus curated instructional workshops\, Berkeley Bluegrass Festival brings together leaders of the genre\, up-and-coming artists\, and music fans for three days of concerts\, jams\, workshops\, and good old-fashioned merriment to kick off the summer music festival season. \nParking\nCenter Street Garage\, next door to The Freight\, is currently open nightly until 1am except Sunday. More details here. \nPublic Transit\nThe Freight & Salvage is BARTable! Downtown Berkeley BART station is a half a block from the Freight. Details at bart.gov. Many AC Transit bus lines stop within a few blocks of the Freight. Details at actransit.org. \nNearby Favorites Bars/Restaurants\nRevival Bar + Kitchen | 2102 Shattuck Avenue\, (510) 549–9950\nComal Next Door | 2024 Shattuck Ave\, (510) 422-662\nGather | 2200 Oxford Street @ Allston\, (510) 809-0400 \nInfo & Tickets
URL:https://bayarearegistry.com/event/bbf-bluegrass-mandolin-with-josh-gooding/
LOCATION:The Freight\, 2020 Addison St\, Berkeley\, CA\, 94704\, United States
CATEGORIES:Arts + Culture,Berkeley,East Bay,Live Music,Performing Arts
ATTACH;FMTTYPE=image/png:https://bayarearegistry.com/wp-content/uploads/2026/04/2026_TheFreight_Berkeley_Bluegrass_Festival-1920x1080-2-1.png
ORGANIZER;CN="The Freight":MAILTO:https://bit.ly/2ODM2Ep
GEO:37.8707545;-122.2695164
X-APPLE-STRUCTURED-LOCATION;VALUE=URI;X-ADDRESS=The Freight 2020 Addison St Berkeley CA 94704 United States;X-APPLE-RADIUS=500;X-TITLE=2020 Addison St:geo:-122.2695164,37.8707545
END:VEVENT
BEGIN:VEVENT
DTSTART;TZID=America/Los_Angeles:20260502T150000
DTEND;TZID=America/Los_Angeles:20260502T150000
DTSTAMP:20260421T031820
CREATED:20260418T121642Z
LAST-MODIFIED:20260418T121642Z
UID:10010849-1777734000-1777734000@bayarearegistry.com
SUMMARY:BBF: Trio Harmony Singing with Laurie Lewis\, Leah Wollenberg\, and Tom Rozum
DESCRIPTION:The Freight celebrates the 10th year of the Berkeley Bluegrass Festival\, May 2 & 3\, 2026. With concerts co-curated by Grammy-award winner Laurie Lewis and Leah Wollenberg\, plus curated instructional workshops\, Berkeley Bluegrass Festival brings together leaders of the genre\, up-and-coming artists\, and music fans for three days of concerts\, jams\, workshops\, and good old-fashioned merriment to kick off the summer music festival season. \nParking\nCenter Street Garage\, next door to The Freight\, is currently open nightly until 1am except Sunday. More details here. \nPublic Transit\nThe Freight & Salvage is BARTable! Downtown Berkeley BART station is a half a block from the Freight. Details at bart.gov. Many AC Transit bus lines stop within a few blocks of the Freight. Details at actransit.org. \nNearby Favorites Bars/Restaurants\nRevival Bar + Kitchen | 2102 Shattuck Avenue\, (510) 549–9950\nComal Next Door | 2024 Shattuck Ave\, (510) 422-662\nGather | 2200 Oxford Street @ Allston\, (510) 809-0400 \nInfo & Tickets
URL:https://bayarearegistry.com/event/bbf-trio-harmony-singing-with-laurie-lewis-leah-wollenberg-and-tom-rozum/
LOCATION:The Freight\, 2020 Addison St\, Berkeley\, CA\, 94704\, United States
CATEGORIES:Arts + Culture,Berkeley,East Bay,Fairs + Festivals,Live Music,Performing Arts
ATTACH;FMTTYPE=image/png:https://bayarearegistry.com/wp-content/uploads/2026/04/2026_TheFreight_Berkeley_Bluegrass_Festival-1920x1080-2-2.png
ORGANIZER;CN="The Freight":MAILTO:https://bit.ly/2ODM2Ep
GEO:37.8707545;-122.2695164
X-APPLE-STRUCTURED-LOCATION;VALUE=URI;X-ADDRESS=The Freight 2020 Addison St Berkeley CA 94704 United States;X-APPLE-RADIUS=500;X-TITLE=2020 Addison St:geo:-122.2695164,37.8707545
END:VEVENT
BEGIN:VEVENT
DTSTART;TZID=America/Los_Angeles:20260502T190000
DTEND;TZID=America/Los_Angeles:20260502T190000
DTSTAMP:20260421T031820
CREATED:20260418T123955Z
LAST-MODIFIED:20260418T123955Z
UID:10010850-1777748400-1777748400@bayarearegistry.com
SUMMARY:Berkeley Bluegrass Festival with Jason Carter\, Chris Jones & The Night Drivers\, Laurie Lewis & The Right Hands\, Critical Grass
DESCRIPTION:The Freight celebrates the 10th year of the Berkeley Bluegrass Festival\, May 2 & 3\, 2026. With concerts co-curated by Grammy-award winner Laurie Lewis and Leah Wollenberg\, plus curated instructional workshops\, Berkeley Bluegrass Festival brings together leaders of the genre\, up-and-coming artists\, and music fans for three days of concerts\, jams\, workshops\, and good old-fashioned merriment to kick off the summer music festival season. \nParking\nCenter Street Garage\, next door to The Freight\, is currently open nightly until 1am except Sunday. More details here. \nPublic Transit\nThe Freight & Salvage is BARTable! Downtown Berkeley BART station is a half a block from the Freight. Details at bart.gov. Many AC Transit bus lines stop within a few blocks of the Freight. Details at actransit.org. \nNearby Favorites Bars/Restaurants\nRevival Bar + Kitchen | 2102 Shattuck Avenue\, (510) 549–9950\nComal Next Door | 2024 Shattuck Ave\, (510) 422-662\nGather | 2200 Oxford Street @ Allston\, (510) 809-0400 \nInfo & Tickets
URL:https://bayarearegistry.com/event/berkeley-bluegrass-festival-with-jason-carter-chris-jones-the-night-drivers-laurie-lewis-the-right-hands-critical-grass/
LOCATION:The Freight\, 2020 Addison St\, Berkeley\, CA\, 94704\, United States
CATEGORIES:Arts + Culture,Berkeley,East Bay,Fairs + Festivals,Live Music,Performing Arts
ATTACH;FMTTYPE=image/png:https://bayarearegistry.com/wp-content/uploads/2026/04/2026_TheFreight_Berkeley_Bluegrass_Festival-1920x1080-2-3.png
ORGANIZER;CN="The Freight":MAILTO:https://bit.ly/2ODM2Ep
GEO:37.8707545;-122.2695164
X-APPLE-STRUCTURED-LOCATION;VALUE=URI;X-ADDRESS=The Freight 2020 Addison St Berkeley CA 94704 United States;X-APPLE-RADIUS=500;X-TITLE=2020 Addison St:geo:-122.2695164,37.8707545
END:VEVENT
BEGIN:VEVENT
DTSTART;TZID=America/Los_Angeles:20260503T130000
DTEND;TZID=America/Los_Angeles:20260503T130000
DTSTAMP:20260421T031820
CREATED:20260418T124315Z
LAST-MODIFIED:20260418T124315Z
UID:10010851-1777813200-1777813200@bayarearegistry.com
SUMMARY:BBF: Saturday Jam
DESCRIPTION:The Freight celebrates the 10th year of the Berkeley Bluegrass Festival\, May 2 & 3\, 2026. With concerts co-curated by Grammy-award winner Laurie Lewis and Leah Wollenberg\, plus curated instructional workshops\, Berkeley Bluegrass Festival brings together leaders of the genre\, up-and-coming artists\, and music fans for three days of concerts\, jams\, workshops\, and good old-fashioned merriment to kick off the summer music festival season. \nParking\nCenter Street Garage\, next door to The Freight\, is currently open nightly until 1am except Sunday. More details here. \nPublic Transit\nThe Freight & Salvage is BARTable! Downtown Berkeley BART station is a half a block from the Freight. Details at bart.gov. Many AC Transit bus lines stop within a few blocks of the Freight. Details at actransit.org. \nNearby Favorites Bars/Restaurants\nRevival Bar + Kitchen | 2102 Shattuck Avenue\, (510) 549–9950\nComal Next Door | 2024 Shattuck Ave\, (510) 422-662\nGather | 2200 Oxford Street @ Allston\, (510) 809-0400 \nInfo & Tickets
URL:https://bayarearegistry.com/event/bbf-saturday-jam-2/
LOCATION:The Freight\, 2020 Addison St\, Berkeley\, CA\, 94704\, United States
CATEGORIES:Arts + Culture,Berkeley,East Bay,Fairs + Festivals,Live Music,Performing Arts
ATTACH;FMTTYPE=image/png:https://bayarearegistry.com/wp-content/uploads/2026/04/2026_TheFreight_Berkeley_Bluegrass_Festival-1920x1080-2-e1776513927517.png
ORGANIZER;CN="The Freight":MAILTO:https://bit.ly/2ODM2Ep
GEO:37.8707545;-122.2695164
X-APPLE-STRUCTURED-LOCATION;VALUE=URI;X-ADDRESS=The Freight 2020 Addison St Berkeley CA 94704 United States;X-APPLE-RADIUS=500;X-TITLE=2020 Addison St:geo:-122.2695164,37.8707545
END:VEVENT
BEGIN:VEVENT
DTSTART;TZID=America/Los_Angeles:20260503T190000
DTEND;TZID=America/Los_Angeles:20260503T190000
DTSTAMP:20260421T031820
CREATED:20260418T125318Z
LAST-MODIFIED:20260418T125318Z
UID:10010854-1777834800-1777834800@bayarearegistry.com
SUMMARY:Berkeley Bluegrass Festival with Tatiana Hargreaves Band with Michael Daves\, Caleb & Reeb and The Cali Cutups\, Tony Furtado Trio\, Bay Area Special
DESCRIPTION:The Freight celebrates the 10th year of the Berkeley Bluegrass Festival\, May 2 & 3\, 2026. With concerts co-curated by Grammy-award winner Laurie Lewis and Leah Wollenberg\, plus curated instructional workshops\, Berkeley Bluegrass Festival brings together leaders of the genre\, up-and-coming artists\, and music fans for three days of concerts\, jams\, workshops\, and good old-fashioned merriment to kick off the summer music festival season. \nParking\nCenter Street Garage\, next door to The Freight\, is currently open nightly until 1am except Sunday. More details here. \nPublic Transit\nThe Freight & Salvage is BARTable! Downtown Berkeley BART station is a half a block from the Freight. Details at bart.gov. Many AC Transit bus lines stop within a few blocks of the Freight. Details at actransit.org. \nNearby Favorites Bars/Restaurants\nRevival Bar + Kitchen | 2102 Shattuck Avenue\, (510) 549–9950\nComal Next Door | 2024 Shattuck Ave\, (510) 422-662\nGather | 2200 Oxford Street @ Allston\, (510) 809-0400 \nInfo & Tickets
URL:https://bayarearegistry.com/event/berkeley-bluegrass-festival-with-tatiana-hargreaves-band-with-michael-daves-caleb-reeb-and-the-cali-cutups-tony-furtado-trio-bay-area-special/
LOCATION:The Freight\, 2020 Addison St\, Berkeley\, CA\, 94704\, United States
CATEGORIES:Arts + Culture,Berkeley,East Bay,Fairs + Festivals,Live Music,Performing Arts
ATTACH;FMTTYPE=image/png:https://bayarearegistry.com/wp-content/uploads/2026/04/2026_TheFreight_Berkeley_Bluegrass_Festival-1920x1080-2-4.png
ORGANIZER;CN="The Freight":MAILTO:https://bit.ly/2ODM2Ep
GEO:37.8707545;-122.2695164
X-APPLE-STRUCTURED-LOCATION;VALUE=URI;X-ADDRESS=The Freight 2020 Addison St Berkeley CA 94704 United States;X-APPLE-RADIUS=500;X-TITLE=2020 Addison St:geo:-122.2695164,37.8707545
END:VEVENT
BEGIN:VEVENT
DTSTART;TZID=America/Los_Angeles:20260504T120000
DTEND;TZID=America/Los_Angeles:20260504T120000
DTSTAMP:20260421T031820
CREATED:20260418T124627Z
LAST-MODIFIED:20260418T124627Z
UID:10010852-1777896000-1777896000@bayarearegistry.com
SUMMARY:Bobby McFerrin and MOTION: Circlesongs
DESCRIPTION:10-time Grammy-winner Bobby McFerrin‘s mission is to get the world singing. So\, he’s singing with MOTION almost every Monday afternoon right here at The Freight to welcome even more voices into the circle! \nParking\nCenter Street Garage\, next door to The Freight\, is currently open nightly until 1am except Sunday. More details here. \nPublic Transit\nThe Freight & Salvage is BARTable! Downtown Berkeley BART station is a half a block from the Freight. Details at bart.gov. Many AC Transit bus lines stop within a few blocks of the Freight. Details at actransit.org. \nNearby Favorites Bars/Restaurants\nRevival Bar + Kitchen | 2102 Shattuck Avenue\, (510) 549–9950\nComal Next Door | 2024 Shattuck Ave\, (510) 422-662\nGather | 2200 Oxford Street @ Allston\, (510) 809-0400 \nInfo & Tickets
URL:https://bayarearegistry.com/event/bobby-mcferrin-and-motion-circlesongs-8/
LOCATION:The Freight\, 2020 Addison St\, Berkeley\, CA\, 94704\, United States
CATEGORIES:Arts + Culture,Berkeley,East Bay,Live Music,Performing Arts
ATTACH;FMTTYPE=image/jpeg:https://bayarearegistry.com/wp-content/uploads/2026/01/Bobby-5_12_25-Dave-Weiland-e1768851300565.jpg
ORGANIZER;CN="The Freight":MAILTO:https://bit.ly/2ODM2Ep
GEO:37.8707545;-122.2695164
X-APPLE-STRUCTURED-LOCATION;VALUE=URI;X-ADDRESS=The Freight 2020 Addison St Berkeley CA 94704 United States;X-APPLE-RADIUS=500;X-TITLE=2020 Addison St:geo:-122.2695164,37.8707545
END:VEVENT
BEGIN:VEVENT
DTSTART;TZID=America/Los_Angeles:20260504T193000
DTEND;TZID=America/Los_Angeles:20260504T193000
DTSTAMP:20260421T031820
CREATED:20260418T124946Z
LAST-MODIFIED:20260418T124946Z
UID:10010853-1777923000-1777923000@bayarearegistry.com
SUMMARY:Community Mondays: Open Mic with Jamey Williams
DESCRIPTION:In the spirit of early days of The Freight\, we’re embracing a more intimate\, café-style setting– salon vibes\, spontaneous connection\, and up-close performance magic. All genres of music-making are welcome as well as spoken word\, poetry\, comedic stylings\, and more\, and we’ll have a limited selection of instruments\, mics\, and amps on hand. \nParking\nCenter Street Garage\, next door to The Freight\, is currently open nightly until 1am except Sunday. More details here. \nPublic Transit\nThe Freight & Salvage is BARTable! Downtown Berkeley BART station is a half a block from the Freight. Details at bart.gov. Many AC Transit bus lines stop within a few blocks of the Freight. Details at actransit.org. \nNearby Favorites Bars/Restaurants\nRevival Bar + Kitchen | 2102 Shattuck Avenue\, (510) 549–9950\nComal Next Door | 2024 Shattuck Ave\, (510) 422-662\nGather | 2200 Oxford Street @ Allston\, (510) 809-0400 \nInfo & Tickets
URL:https://bayarearegistry.com/event/community-mondays-open-mic-with-jamey-williams/
LOCATION:The Freight\, 2020 Addison St\, Berkeley\, CA\, 94704\, United States
CATEGORIES:Arts + Culture,Berkeley,East Bay,Live Music,Performing Arts
ATTACH;FMTTYPE=image/png:https://bayarearegistry.com/wp-content/uploads/2025/11/CM-OPEN-MIC.png
ORGANIZER;CN="The Freight":MAILTO:https://bit.ly/2ODM2Ep
GEO:37.8707545;-122.2695164
X-APPLE-STRUCTURED-LOCATION;VALUE=URI;X-ADDRESS=The Freight 2020 Addison St Berkeley CA 94704 United States;X-APPLE-RADIUS=500;X-TITLE=2020 Addison St:geo:-122.2695164,37.8707545
END:VEVENT
BEGIN:VEVENT
DTSTART;TZID=America/Los_Angeles:20260506T190000
DTEND;TZID=America/Los_Angeles:20260506T190000
DTSTAMP:20260421T031820
CREATED:20260418T125702Z
LAST-MODIFIED:20260418T125702Z
UID:10010855-1778094000-1778094000@bayarearegistry.com
SUMMARY:The Moth StorySLAM - I GOT IT FROM MY MAMA
DESCRIPTION:The Moth StorySLAM is an open-mic storytelling competition in which anyone can share a true\, personal\, 5-minute story on the night’s theme. Sign up for a chance to tell a story or sit back and enjoy the show! \nParking\nCenter Street Garage\, next door to The Freight\, is currently open nightly until 1am except Sunday. More details here. \nPublic Transit\nThe Freight & Salvage is BARTable! Downtown Berkeley BART station is a half a block from the Freight. Details at bart.gov. Many AC Transit bus lines stop within a few blocks of the Freight. Details at actransit.org. \nNearby Favorites Bars/Restaurants\nRevival Bar + Kitchen | 2102 Shattuck Avenue\, (510) 549–9950\nComal Next Door | 2024 Shattuck Ave\, (510) 422-662\nGather | 2200 Oxford Street @ Allston\, (510) 809-0400 \nInfo & Tickets
URL:https://bayarearegistry.com/event/the-moth-storyslam-i-got-it-from-my-mama/
LOCATION:The Freight\, 2020 Addison St\, Berkeley\, CA\, 94704\, United States
CATEGORIES:Arts + Culture,Berkeley,Community,East Bay
ATTACH;FMTTYPE=image/jpeg:https://bayarearegistry.com/wp-content/uploads/2026/04/TheMoth-1920-1080-2-e1776517015399.jpg
ORGANIZER;CN="The Freight":MAILTO:https://bit.ly/2ODM2Ep
GEO:37.8707545;-122.2695164
X-APPLE-STRUCTURED-LOCATION;VALUE=URI;X-ADDRESS=The Freight 2020 Addison St Berkeley CA 94704 United States;X-APPLE-RADIUS=500;X-TITLE=2020 Addison St:geo:-122.2695164,37.8707545
END:VEVENT
BEGIN:VEVENT
DTSTART;TZID=America/Los_Angeles:20260511T120000
DTEND;TZID=America/Los_Angeles:20260511T120000
DTSTAMP:20260421T031820
CREATED:20260418T130050Z
LAST-MODIFIED:20260418T130050Z
UID:10010856-1778500800-1778500800@bayarearegistry.com
SUMMARY:Bobby McFerrin and MOTION: Circlesongs
DESCRIPTION:10-time Grammy-winner Bobby McFerrin‘s mission is to get the world singing. So\, he’s singing with MOTION almost every Monday afternoon right here at The Freight to welcome even more voices into the circle! \nParking\nCenter Street Garage\, next door to The Freight\, is currently open nightly until 1am except Sunday. More details here. \nPublic Transit\nThe Freight & Salvage is BARTable! Downtown Berkeley BART station is a half a block from the Freight. Details at bart.gov. Many AC Transit bus lines stop within a few blocks of the Freight. Details at actransit.org. \nNearby Favorites Bars/Restaurants\nRevival Bar + Kitchen | 2102 Shattuck Avenue\, (510) 549–9950\nComal Next Door | 2024 Shattuck Ave\, (510) 422-662\nGather | 2200 Oxford Street @ Allston\, (510) 809-0400 \nInfo & Tickets
URL:https://bayarearegistry.com/event/bobby-mcferrin-and-motion-circlesongs-9/
LOCATION:The Freight\, 2020 Addison St\, Berkeley\, CA\, 94704\, United States
CATEGORIES:Arts + Culture,Berkeley,East Bay,Live Music,Performing Arts
ATTACH;FMTTYPE=image/jpeg:https://bayarearegistry.com/wp-content/uploads/2026/01/Bobby-5_12_25-Dave-Weiland-e1768851300565.jpg
ORGANIZER;CN="The Freight":MAILTO:https://bit.ly/2ODM2Ep
GEO:37.8707545;-122.2695164
X-APPLE-STRUCTURED-LOCATION;VALUE=URI;X-ADDRESS=The Freight 2020 Addison St Berkeley CA 94704 United States;X-APPLE-RADIUS=500;X-TITLE=2020 Addison St:geo:-122.2695164,37.8707545
END:VEVENT
END:VCALENDAR