BEGIN:VCALENDAR
VERSION:2.0
PRODID:-//BAR | Bay Area Registry - ECPv6.15.20//NONSGML v1.0//EN
CALSCALE:GREGORIAN
METHOD:PUBLISH
X-WR-CALNAME:BAR | Bay Area Registry
X-ORIGINAL-URL:https://bayarearegistry.com
X-WR-CALDESC:Events for BAR | Bay Area Registry
REFRESH-INTERVAL;VALUE=DURATION:PT1H
X-Robots-Tag:noindex
X-PUBLISHED-TTL:PT1H
BEGIN:VTIMEZONE
TZID:America/Los_Angeles
BEGIN:DAYLIGHT
TZOFFSETFROM:-0800
TZOFFSETTO:-0700
TZNAME:PDT
DTSTART:20250309T100000
END:DAYLIGHT
BEGIN:STANDARD
TZOFFSETFROM:-0700
TZOFFSETTO:-0800
TZNAME:PST
DTSTART:20251102T090000
END:STANDARD
BEGIN:DAYLIGHT
TZOFFSETFROM:-0800
TZOFFSETTO:-0700
TZNAME:PDT
DTSTART:20260308T100000
END:DAYLIGHT
BEGIN:STANDARD
TZOFFSETFROM:-0700
TZOFFSETTO:-0800
TZNAME:PST
DTSTART:20261101T090000
END:STANDARD
BEGIN:DAYLIGHT
TZOFFSETFROM:-0800
TZOFFSETTO:-0700
TZNAME:PDT
DTSTART:20270314T100000
END:DAYLIGHT
BEGIN:STANDARD
TZOFFSETFROM:-0700
TZOFFSETTO:-0800
TZNAME:PST
DTSTART:20271107T090000
END:STANDARD
END:VTIMEZONE
BEGIN:VEVENT
DTSTART;VALUE=DATE:20260129
DTEND;VALUE=DATE:20260208
DTSTAMP:20260420T020244
CREATED:20251211T195458Z
LAST-MODIFIED:20260210T140211Z
UID:10009908-1769644800-1770508799@bayarearegistry.com
SUMMARY:« Art of the Game » by JISBAR
DESCRIPTION:Internationally renowned French pop-street artist\, JISBAR \, will return to the United States for a powerful new solo exhibition titled “Art of the Game”\, opening January 29\, 2026\, from 5PM at Gallery 444 in San Francisco. The show coincides with the highly anticipated Super Bowl events taking place across the Bay Area. \nThis moment carries special meaning for the artist : « Gallery 444 was the first international gallery to represent me back in 2016. Coming back to San Francisco for the Super Bowl\, with a solo show in this same space\, is both symbolic and deeply exciting. »\, says JISBAR. \nThe exhibition will feature JISBAR’s signature fusion of classical iconography\, pop culture\, and bold street energy – this time\, with a special focus on sport\, unity\, and cultural celebration.\nA highlight of the event: The auction of the exhibition’s central masterpiece (180x120cm)\, with 100% of proceeds donated to The BAHC Foundation – supporting safe spaces to play\, mentorship\, and youth programs across the Bay Area. \nInfo & Tickets
URL:https://bayarearegistry.com/event/art-of-the-game-by-jisbar/
LOCATION:Gallery 444\, 444 Post St\, San Francisco\, CA\, 94102\, United States
CATEGORIES:Arts + Culture,Painting,San Francisco + South SF Area,Visual Arts
ATTACH;FMTTYPE=image/jpeg:https://bayarearegistry.com/wp-content/uploads/2025/12/CompressJPEG.online_PNG-to-JPG_8284-e1765482888668.jpg
END:VEVENT
END:VCALENDAR