BEGIN:VCALENDAR
VERSION:2.0
PRODID:-//BAR | Bay Area Registry - ECPv6.15.20//NONSGML v1.0//EN
CALSCALE:GREGORIAN
METHOD:PUBLISH
X-ORIGINAL-URL:https://bayarearegistry.com
X-WR-CALDESC:Events for BAR | Bay Area Registry
REFRESH-INTERVAL;VALUE=DURATION:PT1H
X-Robots-Tag:noindex
X-PUBLISHED-TTL:PT1H
BEGIN:VTIMEZONE
TZID:America/Los_Angeles
BEGIN:DAYLIGHT
TZOFFSETFROM:-0800
TZOFFSETTO:-0700
TZNAME:PDT
DTSTART:20250309T100000
END:DAYLIGHT
BEGIN:STANDARD
TZOFFSETFROM:-0700
TZOFFSETTO:-0800
TZNAME:PST
DTSTART:20251102T090000
END:STANDARD
BEGIN:DAYLIGHT
TZOFFSETFROM:-0800
TZOFFSETTO:-0700
TZNAME:PDT
DTSTART:20260308T100000
END:DAYLIGHT
BEGIN:STANDARD
TZOFFSETFROM:-0700
TZOFFSETTO:-0800
TZNAME:PST
DTSTART:20261101T090000
END:STANDARD
BEGIN:DAYLIGHT
TZOFFSETFROM:-0800
TZOFFSETTO:-0700
TZNAME:PDT
DTSTART:20270314T100000
END:DAYLIGHT
BEGIN:STANDARD
TZOFFSETFROM:-0700
TZOFFSETTO:-0800
TZNAME:PST
DTSTART:20271107T090000
END:STANDARD
END:VTIMEZONE
BEGIN:VEVENT
DTSTART;VALUE=DATE:20260627
DTEND;VALUE=DATE:20260801
DTSTAMP:20260425T163435
CREATED:20260425T132731Z
LAST-MODIFIED:20260425T132731Z
UID:10010894-1782518400-1785542399@bayarearegistry.com
SUMMARY:​School of The Getdown Youth Arts Camp
DESCRIPTION:School of The Getdown Youth Arts Camp is offered at no cost for youth participants ages 10-16 of all skill levels. Our goal is to instill and cultivate a love of the arts in each student\, with a well-rounded\, multidisciplinary curriculum. We aim to foster a community based on mutual respect and encouragement so all students can discover and explore their creativity and expression.  Each student will embark on a journey of discovery of the arts\, engaging in classes in vocals\, rap\, percussion\, visual art\, gospel choir\, and dance. Our powerful faculty roster of renowned educators\, artists\, and performers will guide students of all levels through a life-changing learning experience in a supportive\, fun environment\, covering diverse cultural traditions and forms of expression.  \nInfo & Tickets
URL:https://bayarearegistry.com/event/school-of-the-getdown-youth-arts-camp/
LOCATION:Geoffrey’s Inner Circle\, 410 14th St\, Oakland\, 94612
CATEGORIES:Arts + Culture,Dance,East Bay,Live Music,Oakland,Performing Arts
ATTACH;FMTTYPE=image/png:https://bayarearegistry.com/wp-content/uploads/2026/04/Screenshot_6-1-e1777123591367.png
END:VEVENT
END:VCALENDAR