BEGIN:VCALENDAR
VERSION:2.0
PRODID:-//BAR | Bay Area Registry - ECPv6.15.20//NONSGML v1.0//EN
CALSCALE:GREGORIAN
METHOD:PUBLISH
X-ORIGINAL-URL:https://bayarearegistry.com
X-WR-CALDESC:Events for BAR | Bay Area Registry
REFRESH-INTERVAL;VALUE=DURATION:PT1H
X-Robots-Tag:noindex
X-PUBLISHED-TTL:PT1H
BEGIN:VTIMEZONE
TZID:America/Los_Angeles
BEGIN:DAYLIGHT
TZOFFSETFROM:-0800
TZOFFSETTO:-0700
TZNAME:PDT
DTSTART:20250309T100000
END:DAYLIGHT
BEGIN:STANDARD
TZOFFSETFROM:-0700
TZOFFSETTO:-0800
TZNAME:PST
DTSTART:20251102T090000
END:STANDARD
BEGIN:DAYLIGHT
TZOFFSETFROM:-0800
TZOFFSETTO:-0700
TZNAME:PDT
DTSTART:20260308T100000
END:DAYLIGHT
BEGIN:STANDARD
TZOFFSETFROM:-0700
TZOFFSETTO:-0800
TZNAME:PST
DTSTART:20261101T090000
END:STANDARD
BEGIN:DAYLIGHT
TZOFFSETFROM:-0800
TZOFFSETTO:-0700
TZNAME:PDT
DTSTART:20270314T100000
END:DAYLIGHT
BEGIN:STANDARD
TZOFFSETFROM:-0700
TZOFFSETTO:-0800
TZNAME:PST
DTSTART:20271107T090000
END:STANDARD
END:VTIMEZONE
BEGIN:VEVENT
DTSTART;TZID=America/Los_Angeles:20260404T130000
DTEND;TZID=America/Los_Angeles:20260404T150000
DTSTAMP:20260425T163118
CREATED:20260402T162041Z
LAST-MODIFIED:20260405T085015Z
UID:10010558-1775307600-1775314800@bayarearegistry.com
SUMMARY:Oakland Bloom Presents: Michoacán Cooking with Tsiri
DESCRIPTION:Join us for an intimate live culinary demonstration with Chef Marlene of Tsiri. Experience the heart of her family recipes and the traditions that have shaped her love for Mexican food\, deeply rooted in Michoacán. Through each dish\, she shares her deep respect for quality\, local ingredients and the meaningful relationships with farm workers and all those who care for the land—bringing warmth\, connection\, and community to every bite. \nInfo & Tickets
URL:https://bayarearegistry.com/event/oakland-bloom-presents-michoacan-cooking-with-tsiri/
LOCATION:Golden Gate Branch : Oakland Public Library\, 5606 San Pablo Ave\, Oakland\, CA\, 94608\, United States
CATEGORIES:Arts + Culture,Community,East Bay,Food + Drink,Oakland
ATTACH;FMTTYPE=image/jpeg:https://bayarearegistry.com/wp-content/uploads/2026/04/CompressJPEG.Online_img1280x720-1-e1775146834201.jpg
END:VEVENT
BEGIN:VEVENT
DTSTART;TZID=America/Los_Angeles:20260213T153000
DTEND;TZID=America/Los_Angeles:20260213T160000
DTSTAMP:20260425T163118
CREATED:20260201T110900Z
LAST-MODIFIED:20260216T141119Z
UID:10010110-1770996600-1770998400@bayarearegistry.com
SUMMARY:Beat Makers: Oakland School for the Arts
DESCRIPTION:Join us in celebration of Black History Month at the Golden Gate Branch for an audio beats and rap performance by Oakland School for the Arts’ student Beat Makers. \nInfo & Tickets
URL:https://bayarearegistry.com/event/beat-makers-oakland-school-for-the-arts/
LOCATION:Golden Gate Branch : Oakland Public Library\, 5606 San Pablo Ave\, Oakland\, CA\, 94608\, United States
CATEGORIES:Arts + Culture,BHM 2026,East Bay,Live Music,Oakland,Performing Arts
ATTACH;FMTTYPE=image/jpeg:https://bayarearegistry.com/wp-content/uploads/2026/02/maxresdefault-e1769944132411.jpg
END:VEVENT
BEGIN:VEVENT
DTSTART;TZID=America/Los_Angeles:20260211T173000
DTEND;TZID=America/Los_Angeles:20260211T190000
DTSTAMP:20260425T163118
CREATED:20260201T103430Z
LAST-MODIFIED:20260213T131447Z
UID:10010107-1770831000-1770836400@bayarearegistry.com
SUMMARY:DIY: Black Culture Bookmark Making
DESCRIPTION:Join us for small-scale collaging at this Black-themed make-your-own-bookmarks session. \nBring: Your vision\, creativity and\, if you like\, wallet sized photos or images of you favorite Black heroes or family members. \nInfo & Tickets
URL:https://bayarearegistry.com/event/diy-black-culture-bookmark-making/
LOCATION:Golden Gate Branch : Oakland Public Library\, 5606 San Pablo Ave\, Oakland\, CA\, 94608\, United States
CATEGORIES:Arts + Culture,BHM 2026,East Bay,Oakland,Visual Arts
ATTACH;FMTTYPE=image/png:https://bayarearegistry.com/wp-content/uploads/2026/02/DIYBlackCultureBookmarkMakingWeb760x230px-e1769942060439.png
END:VEVENT
END:VCALENDAR