BEGIN:VCALENDAR
VERSION:2.0
PRODID:-//BAR | Bay Area Registry - ECPv6.15.20//NONSGML v1.0//EN
CALSCALE:GREGORIAN
METHOD:PUBLISH
X-ORIGINAL-URL:https://bayarearegistry.com
X-WR-CALDESC:Events for BAR | Bay Area Registry
REFRESH-INTERVAL;VALUE=DURATION:PT1H
X-Robots-Tag:noindex
X-PUBLISHED-TTL:PT1H
BEGIN:VTIMEZONE
TZID:America/Los_Angeles
BEGIN:DAYLIGHT
TZOFFSETFROM:-0800
TZOFFSETTO:-0700
TZNAME:PDT
DTSTART:20250309T100000
END:DAYLIGHT
BEGIN:STANDARD
TZOFFSETFROM:-0700
TZOFFSETTO:-0800
TZNAME:PST
DTSTART:20251102T090000
END:STANDARD
BEGIN:DAYLIGHT
TZOFFSETFROM:-0800
TZOFFSETTO:-0700
TZNAME:PDT
DTSTART:20260308T100000
END:DAYLIGHT
BEGIN:STANDARD
TZOFFSETFROM:-0700
TZOFFSETTO:-0800
TZNAME:PST
DTSTART:20261101T090000
END:STANDARD
BEGIN:DAYLIGHT
TZOFFSETFROM:-0800
TZOFFSETTO:-0700
TZNAME:PDT
DTSTART:20270314T100000
END:DAYLIGHT
BEGIN:STANDARD
TZOFFSETFROM:-0700
TZOFFSETTO:-0800
TZNAME:PST
DTSTART:20271107T090000
END:STANDARD
END:VTIMEZONE
BEGIN:VEVENT
DTSTART;TZID=America/Los_Angeles:20260404T190000
DTEND;TZID=America/Los_Angeles:20260404T220000
DTSTAMP:20260425T175822
CREATED:20260402T164104Z
LAST-MODIFIED:20260405T085034Z
UID:10010561-1775329200-1775340000@bayarearegistry.com
SUMMARY:La Peña Fundraiser: Freaky Tales Anniversary Screening w/ Director Ryan Fleck
DESCRIPTION:On the one year anniversary of the film’s release\, join film-lovers\, East Bay history buffs\, and La Peña community members for a Freaky Tales fundraiser screening. We’ll be joined by Freaky Tales writer/director Ryan Fleck (whose father is a long-time member of the La Peña Community Chorus!) along with members of the cast\, to watch the film\, followed by a discussion. \nInfo & Tickets
URL:https://bayarearegistry.com/event/la-pena-fundraiser-freaky-tales-anniversary-screening-w-director-ryan-fleck/
LOCATION:La Pena Cultural Center\, 3105 Shattuck Avenue\, Berkeley\, CA\, 94705\, United States
CATEGORIES:Arts + Culture,Berkeley,Community,East Bay,Galas + Awards + Fundraiser
ATTACH;FMTTYPE=image/jpeg:https://bayarearegistry.com/wp-content/uploads/2026/04/Website-1140x420-Freaky-Tales-April-2026-1024x377-1-e1775148057860.jpg
GEO:37.852817;-122.265882
X-APPLE-STRUCTURED-LOCATION;VALUE=URI;X-ADDRESS=La Pena Cultural Center 3105 Shattuck Avenue Berkeley CA 94705 United States;X-APPLE-RADIUS=500;X-TITLE=3105 Shattuck Avenue:geo:-122.265882,37.852817
END:VEVENT
END:VCALENDAR