BEGIN:VCALENDAR
VERSION:2.0
PRODID:-//BAR | Bay Area Registry - ECPv6.15.20//NONSGML v1.0//EN
CALSCALE:GREGORIAN
METHOD:PUBLISH
X-WR-CALNAME:BAR | Bay Area Registry
X-ORIGINAL-URL:https://bayarearegistry.com
X-WR-CALDESC:Events for BAR | Bay Area Registry
REFRESH-INTERVAL;VALUE=DURATION:PT1H
X-Robots-Tag:noindex
X-PUBLISHED-TTL:PT1H
BEGIN:VTIMEZONE
TZID:America/Los_Angeles
BEGIN:DAYLIGHT
TZOFFSETFROM:-0800
TZOFFSETTO:-0700
TZNAME:PDT
DTSTART:20250309T100000
END:DAYLIGHT
BEGIN:STANDARD
TZOFFSETFROM:-0700
TZOFFSETTO:-0800
TZNAME:PST
DTSTART:20251102T090000
END:STANDARD
BEGIN:DAYLIGHT
TZOFFSETFROM:-0800
TZOFFSETTO:-0700
TZNAME:PDT
DTSTART:20260308T100000
END:DAYLIGHT
BEGIN:STANDARD
TZOFFSETFROM:-0700
TZOFFSETTO:-0800
TZNAME:PST
DTSTART:20261101T090000
END:STANDARD
BEGIN:DAYLIGHT
TZOFFSETFROM:-0800
TZOFFSETTO:-0700
TZNAME:PDT
DTSTART:20270314T100000
END:DAYLIGHT
BEGIN:STANDARD
TZOFFSETFROM:-0700
TZOFFSETTO:-0800
TZNAME:PST
DTSTART:20271107T090000
END:STANDARD
END:VTIMEZONE
BEGIN:VEVENT
DTSTART;TZID=America/Los_Angeles:20260221T110000
DTEND;TZID=America/Los_Angeles:20260221T114500
DTSTAMP:20260421T070116
CREATED:20260201T114348Z
LAST-MODIFIED:20260223T150455Z
UID:10010117-1771671600-1771674300@bayarearegistry.com
SUMMARY:Afro-Urban Beats For Children and Caregivers
DESCRIPTION:Afro-Urban Beats: Miss Kanukai leads this fun dance workshop for children and their caregivers. Please wear comfortable clothing and shoes that will stay on (Crocs are not recommended). \nInfo & Tickets
URL:https://bayarearegistry.com/event/afro-urban-beats-for-children-and-caregivers-2/
LOCATION:Lakeview Branch: Oakland Public Library\, 550 El Embarcadero\, Oakland\, 94610
CATEGORIES:Arts + Culture,BHM 2026,Community,Dance,East Bay,Oakland,Performing Arts
ATTACH;FMTTYPE=image/jpeg:https://bayarearegistry.com/wp-content/uploads/2026/02/CompressJPEG.Online_img1280x720-e1769933105380.jpg
END:VEVENT
END:VCALENDAR