BEGIN:VCALENDAR
VERSION:2.0
PRODID:-//BAR | Bay Area Registry - ECPv6.15.20//NONSGML v1.0//EN
CALSCALE:GREGORIAN
METHOD:PUBLISH
X-WR-CALNAME:BAR | Bay Area Registry
X-ORIGINAL-URL:https://bayarearegistry.com
X-WR-CALDESC:Events for BAR | Bay Area Registry
REFRESH-INTERVAL;VALUE=DURATION:PT1H
X-Robots-Tag:noindex
X-PUBLISHED-TTL:PT1H
BEGIN:VTIMEZONE
TZID:America/Los_Angeles
BEGIN:DAYLIGHT
TZOFFSETFROM:-0800
TZOFFSETTO:-0700
TZNAME:PDT
DTSTART:20250309T100000
END:DAYLIGHT
BEGIN:STANDARD
TZOFFSETFROM:-0700
TZOFFSETTO:-0800
TZNAME:PST
DTSTART:20251102T090000
END:STANDARD
BEGIN:DAYLIGHT
TZOFFSETFROM:-0800
TZOFFSETTO:-0700
TZNAME:PDT
DTSTART:20260308T100000
END:DAYLIGHT
BEGIN:STANDARD
TZOFFSETFROM:-0700
TZOFFSETTO:-0800
TZNAME:PST
DTSTART:20261101T090000
END:STANDARD
BEGIN:DAYLIGHT
TZOFFSETFROM:-0800
TZOFFSETTO:-0700
TZNAME:PDT
DTSTART:20270314T100000
END:DAYLIGHT
BEGIN:STANDARD
TZOFFSETFROM:-0700
TZOFFSETTO:-0800
TZNAME:PST
DTSTART:20271107T090000
END:STANDARD
END:VTIMEZONE
BEGIN:VEVENT
DTSTART;VALUE=DATE:20260516
DTEND;VALUE=DATE:20260518
DTSTAMP:20260421T055859
CREATED:20260420T153145Z
LAST-MODIFIED:20260420T153145Z
UID:10010875-1778889600-1779062399@bayarearegistry.com
SUMMARY:Sistahfriend
DESCRIPTION:For Portia\, Kendra\, and Sia\, friendship has meant showing up through decades of triumphs\, heartaches\, motherhood\, spiritual journeys\, and all the messy\, beautiful moments it takes to become your truest self. Time and time again\, they’ve weathered it all. But what happens when this sacred friendship between these three Black women is shaken to its core? \nInfo & Tickets
URL:https://bayarearegistry.com/event/sistahfriend/
LOCATION:Magic Theatre\, 2 Marina Boulevard\, Building D\, San Francisco\, 94123
CATEGORIES:Arts + Culture,Performing Arts,San Francisco + South SF Area,Theater + Film
ATTACH;FMTTYPE=image/jpeg:https://bayarearegistry.com/wp-content/uploads/2026/04/Sistahfriend-e1776699072944.jpg
ORGANIZER;CN="Lorraine Hansberry Theatre":MAILTO:LHT@LHTSF.org
END:VEVENT
END:VCALENDAR