BEGIN:VCALENDAR
VERSION:2.0
PRODID:-//BAR | Bay Area Registry - ECPv6.15.20//NONSGML v1.0//EN
CALSCALE:GREGORIAN
METHOD:PUBLISH
X-WR-CALNAME:BAR | Bay Area Registry
X-ORIGINAL-URL:https://bayarearegistry.com
X-WR-CALDESC:Events for BAR | Bay Area Registry
REFRESH-INTERVAL;VALUE=DURATION:PT1H
X-Robots-Tag:noindex
X-PUBLISHED-TTL:PT1H
BEGIN:VTIMEZONE
TZID:America/Los_Angeles
BEGIN:DAYLIGHT
TZOFFSETFROM:-0800
TZOFFSETTO:-0700
TZNAME:PDT
DTSTART:20250309T100000
END:DAYLIGHT
BEGIN:STANDARD
TZOFFSETFROM:-0700
TZOFFSETTO:-0800
TZNAME:PST
DTSTART:20251102T090000
END:STANDARD
BEGIN:DAYLIGHT
TZOFFSETFROM:-0800
TZOFFSETTO:-0700
TZNAME:PDT
DTSTART:20260308T100000
END:DAYLIGHT
BEGIN:STANDARD
TZOFFSETFROM:-0700
TZOFFSETTO:-0800
TZNAME:PST
DTSTART:20261101T090000
END:STANDARD
BEGIN:DAYLIGHT
TZOFFSETFROM:-0800
TZOFFSETTO:-0700
TZNAME:PDT
DTSTART:20270314T100000
END:DAYLIGHT
BEGIN:STANDARD
TZOFFSETFROM:-0700
TZOFFSETTO:-0800
TZNAME:PST
DTSTART:20271107T090000
END:STANDARD
END:VTIMEZONE
BEGIN:VEVENT
DTSTART;TZID=America/Los_Angeles:20260128T090000
DTEND;TZID=America/Los_Angeles:20260128T133000
DTSTAMP:20260425T080618
CREATED:20260127T090959Z
LAST-MODIFIED:20260131T022134Z
UID:10010020-1769590800-1769607000@bayarearegistry.com
SUMMARY:The Bayview Black History Bike Ride
DESCRIPTION:Get ready to pedal through history on an in-person community ride celebrating Black heritage and culture in San Francisco. This ride is all about good vibes\, powerful stories\, and connecting with community while exploring important Bayview landmarks. Expect Coffee\, light breakfast\, multiple stops\, snacks along the way\, and a fun\, meaningful day on wheels. \nInfo & Tickets
URL:https://bayarearegistry.com/event/the-bayview-black-history-bike-ride/
LOCATION:Martin Luther King Jr. Memorial Park\, 1671 Hendley Street\, Santa Rosa\, 95404
CATEGORIES:Arts + Culture,Holidays 2026,San Francisco + South SF Area,Sports + Outdoors
ATTACH;FMTTYPE=image/jpeg:https://bayarearegistry.com/wp-content/uploads/2026/01/The-Bayview-Black-History-Bike-Ride-e1769504953177.jpg
END:VEVENT
END:VCALENDAR