BEGIN:VCALENDAR
VERSION:2.0
PRODID:-//BAR | Bay Area Registry - ECPv6.15.20//NONSGML v1.0//EN
CALSCALE:GREGORIAN
METHOD:PUBLISH
X-WR-CALNAME:BAR | Bay Area Registry
X-ORIGINAL-URL:https://bayarearegistry.com
X-WR-CALDESC:Events for BAR | Bay Area Registry
REFRESH-INTERVAL;VALUE=DURATION:PT1H
X-Robots-Tag:noindex
X-PUBLISHED-TTL:PT1H
BEGIN:VTIMEZONE
TZID:America/Los_Angeles
BEGIN:DAYLIGHT
TZOFFSETFROM:-0800
TZOFFSETTO:-0700
TZNAME:PDT
DTSTART:20250309T100000
END:DAYLIGHT
BEGIN:STANDARD
TZOFFSETFROM:-0700
TZOFFSETTO:-0800
TZNAME:PST
DTSTART:20251102T090000
END:STANDARD
BEGIN:DAYLIGHT
TZOFFSETFROM:-0800
TZOFFSETTO:-0700
TZNAME:PDT
DTSTART:20260308T100000
END:DAYLIGHT
BEGIN:STANDARD
TZOFFSETFROM:-0700
TZOFFSETTO:-0800
TZNAME:PST
DTSTART:20261101T090000
END:STANDARD
BEGIN:DAYLIGHT
TZOFFSETFROM:-0800
TZOFFSETTO:-0700
TZNAME:PDT
DTSTART:20270314T100000
END:DAYLIGHT
BEGIN:STANDARD
TZOFFSETFROM:-0700
TZOFFSETTO:-0800
TZNAME:PST
DTSTART:20271107T090000
END:STANDARD
END:VTIMEZONE
BEGIN:VEVENT
DTSTART;TZID=America/Los_Angeles:20260407T170000
DTEND;TZID=America/Los_Angeles:20260407T170000
DTSTAMP:20260420T072750
CREATED:20260304T145545Z
LAST-MODIFIED:20260409T074732Z
UID:10010496-1775581200-1775581200@bayarearegistry.com
SUMMARY:Taste of Montclair Village
DESCRIPTION:The beloved Taste of Montclair Village returns Tuesday\, April 7\, from 5–8pm in Oakland’s Montclair Village\, inviting guests to enjoy an evening of food\, drink\, and community celebration. Attendees can sample bites and libations — including craft beer and artisan wines — from more than 30 local restaurants and businesses. \nProceeds benefit the Montclair Village Association\, a nonprofit business improvement district serving the community for over 75 years. Ticket holders receive a tasting Passport for access to culinary creations and beverage samples throughout the district. \nInfo & Tickets
URL:https://bayarearegistry.com/event/taste-of-montclair-village/
LOCATION:MONTCLAIR VILLAGE\, 2051 Mountain Blvd\, Oakland\, 94611
CATEGORIES:Arts + Culture,East Bay,Food + Drink,Oakland
ATTACH;FMTTYPE=image/jpeg:https://bayarearegistry.com/wp-content/uploads/2026/03/image0.jpeg-e1772636257150.jpg
END:VEVENT
END:VCALENDAR